BEGIN:VCALENDAR
VERSION:2.0
PRODID:-//Northern Spirit Regional Council - ECPv6.15.20//NONSGML v1.0//EN
CALSCALE:GREGORIAN
METHOD:PUBLISH
X-WR-CALNAME:Northern Spirit Regional Council
X-ORIGINAL-URL:https://northernspiritrc.ca
X-WR-CALDESC:Events for Northern Spirit Regional Council
REFRESH-INTERVAL;VALUE=DURATION:PT1H
X-Robots-Tag:noindex
X-PUBLISHED-TTL:PT1H
BEGIN:VTIMEZONE
TZID:America/Edmonton
BEGIN:DAYLIGHT
TZOFFSETFROM:-0700
TZOFFSETTO:-0600
TZNAME:MDT
DTSTART:20240310T090000
END:DAYLIGHT
BEGIN:STANDARD
TZOFFSETFROM:-0600
TZOFFSETTO:-0700
TZNAME:MST
DTSTART:20241103T080000
END:STANDARD
BEGIN:DAYLIGHT
TZOFFSETFROM:-0700
TZOFFSETTO:-0600
TZNAME:MDT
DTSTART:20250309T090000
END:DAYLIGHT
BEGIN:STANDARD
TZOFFSETFROM:-0600
TZOFFSETTO:-0700
TZNAME:MST
DTSTART:20251102T080000
END:STANDARD
BEGIN:DAYLIGHT
TZOFFSETFROM:-0700
TZOFFSETTO:-0600
TZNAME:MDT
DTSTART:20260308T090000
END:DAYLIGHT
BEGIN:STANDARD
TZOFFSETFROM:-0600
TZOFFSETTO:-0700
TZNAME:MST
DTSTART:20261101T080000
END:STANDARD
END:VTIMEZONE
BEGIN:VEVENT
DTSTART;TZID=America/Edmonton:20251129T100000
DTEND;TZID=America/Edmonton:20251129T120000
DTSTAMP:20260421T182144
CREATED:20251113T205711Z
LAST-MODIFIED:20251113T205711Z
UID:10000533-1764410400-1764417600@northernspiritrc.ca
SUMMARY:Bake & Craft Sale\, Muffin Café
DESCRIPTION:Join us for the United Church Women’s annual event!\nHave a coffee and muffin at the Muffin Café\, then shop for baking and crafts.
URL:https://northernspiritrc.ca/event/bake-craft-sale-muffin-cafe/
LOCATION:Stony Plain United Church\, 5012 - 51 Ave\, Stony Plain\, AB\, T7Z 1C2\, Canada
CATEGORIES:Community events
ATTACH;FMTTYPE=image/jpeg:https://northernspiritrc.ca/wp-content/uploads/2025/11/UCW-Muffin-Cafe-2025.jpg
ORGANIZER;CN="Stony Plain United Church":MAILTO:lmstew7@outlook.com
END:VEVENT
BEGIN:VEVENT
DTSTART;TZID=America/Edmonton:20251129T100000
DTEND;TZID=America/Edmonton:20251129T160000
DTSTAMP:20260421T182144
CREATED:20251028T160132Z
LAST-MODIFIED:20251028T160132Z
UID:10000526-1764410400-1764432000@northernspiritrc.ca
SUMMARY:Mill Woods United Church Christmas Market
DESCRIPTION:Our Christmas Market has been a wonderful community event held annually for over twenty-five years. We have 54 local vendors across three floor of our church selling both handmade and commercial products. A hot lunch created by our Heavenly Hospitality team will be available for purchase on the lower level. Entry to our Market is by donation. This fundraiser supports the life and work of our church in the community of Mill Woods. Each year we welcome between 500 and 600 people to this event. Check out our vendors at millwoodsunited.org/vendors
URL:https://northernspiritrc.ca/event/mill-woods-united-church-christmas-market/
LOCATION:Mill Woods United Church\, 15 Grand Meadow Cres\, Edmonton\, AB\, T6L 1A1\, Canada
CATEGORIES:Community events
ATTACH;FMTTYPE=image/jpeg:https://northernspiritrc.ca/wp-content/uploads/2025/10/2025-Christmas-Market.jpeg
END:VEVENT
BEGIN:VEVENT
DTSTART;TZID=America/Edmonton:20251129T130000
DTEND;TZID=America/Edmonton:20251129T160000
DTSTAMP:20260421T182144
CREATED:20251107T195944Z
LAST-MODIFIED:20251107T195944Z
UID:10000532-1764421200-1764432000@northernspiritrc.ca
SUMMARY:Christmas Tea\, Bake Sale & Silent Auction
DESCRIPTION:Trinity United Church (Edmonton) invites you to our Christmas Tea\, Bake Sale and Silent Auction\non Saturday\, November 29\, 2025 from 1-4pm at 8810 Meadowlark Road NW Edmonton\, AB\nEnjoy refreshments & delicious baking\, shop for yummy treats\, and bid on beautiful gift baskets! \nThe bidding will be open until 3:15 p.m.. \nClick here to view this event on facebook!
URL:https://northernspiritrc.ca/event/christmas-tea-bake-sale-silent-auction-2/
LOCATION:Trinity United Church\, 8810 Meadowlark Rd NW\, Edmonton\, Alberta\, T5R 5W6\, Canada
CATEGORIES:Community events
ATTACH;FMTTYPE=image/jpeg:https://northernspiritrc.ca/wp-content/uploads/2025/11/poster-image-.jpg
ORGANIZER;CN="Trinity United Church":MAILTO:office@tucedm.ca
END:VEVENT
END:VCALENDAR