BEGIN:VCALENDAR
VERSION:2.0
PRODID:-//Northern Spirit Regional Council - ECPv6.15.20//NONSGML v1.0//EN
CALSCALE:GREGORIAN
METHOD:PUBLISH
X-WR-CALNAME:Northern Spirit Regional Council
X-ORIGINAL-URL:https://northernspiritrc.ca
X-WR-CALDESC:Events for Northern Spirit Regional Council
REFRESH-INTERVAL;VALUE=DURATION:PT1H
X-Robots-Tag:noindex
X-PUBLISHED-TTL:PT1H
BEGIN:VTIMEZONE
TZID:America/Edmonton
BEGIN:DAYLIGHT
TZOFFSETFROM:-0700
TZOFFSETTO:-0600
TZNAME:MDT
DTSTART:20240310T090000
END:DAYLIGHT
BEGIN:STANDARD
TZOFFSETFROM:-0600
TZOFFSETTO:-0700
TZNAME:MST
DTSTART:20241103T080000
END:STANDARD
BEGIN:DAYLIGHT
TZOFFSETFROM:-0700
TZOFFSETTO:-0600
TZNAME:MDT
DTSTART:20250309T090000
END:DAYLIGHT
BEGIN:STANDARD
TZOFFSETFROM:-0600
TZOFFSETTO:-0700
TZNAME:MST
DTSTART:20251102T080000
END:STANDARD
BEGIN:DAYLIGHT
TZOFFSETFROM:-0700
TZOFFSETTO:-0600
TZNAME:MDT
DTSTART:20260308T090000
END:DAYLIGHT
BEGIN:STANDARD
TZOFFSETFROM:-0600
TZOFFSETTO:-0700
TZNAME:MST
DTSTART:20261101T080000
END:STANDARD
END:VTIMEZONE
BEGIN:VEVENT
DTSTART;TZID=America/Edmonton:20251122T100000
DTEND;TZID=America/Edmonton:20251122T140000
DTSTAMP:20260421T182144
CREATED:20251106T201910Z
LAST-MODIFIED:20251106T201910Z
UID:10000527-1763805600-1763820000@northernspiritrc.ca
SUMMARY:Christmas Bazaar
DESCRIPTION:New and “New to You” gifts\, Crafts\, Christmas items\,\nKids’ shopping opportunity!\nBaking\, Preserves\, Food products\,\nLunch ($12.00 adults\, $5.00 children under 12)
URL:https://northernspiritrc.ca/event/christmas-bazaar-2/
LOCATION:Grace United Church\, 6215 104 Ave\, Edmonton\, AB\, Canada
CATEGORIES:Community events
ATTACH;FMTTYPE=image/jpeg:https://northernspiritrc.ca/wp-content/uploads/2025/11/2025-bazaar-poster_page-0001-scaled.jpg
ORGANIZER;CN="Grace United Church":MAILTO:grace.united@shaw.ca
END:VEVENT
BEGIN:VEVENT
DTSTART;TZID=America/Edmonton:20251122T100000
DTEND;TZID=America/Edmonton:20251122T150000
DTSTAMP:20260421T182144
CREATED:20251008T195211Z
LAST-MODIFIED:20251008T195211Z
UID:10000522-1763805600-1763823600@northernspiritrc.ca
SUMMARY:Christmas Bake Sale & Artisan Market
DESCRIPTION:Get ready for Christmas. Come for a yummy lunch of beef on a bun and pie- or just to shop or browse. Check out the local vendors and a great selection of baking. Free gift-wrapping.
URL:https://northernspiritrc.ca/event/christmas-bake-sale-artisan-market/
LOCATION:Spirit of Hope United Church\, 7909 82 Ave NW\, Edmonton\, AB\, Canada
CATEGORIES:Community events
ATTACH;FMTTYPE=image/jpeg:https://northernspiritrc.ca/wp-content/uploads/2025/10/Vendors-Christmas-Sale-2025.jpg
ORGANIZER;CN="Spirit of Hope United Church":MAILTO:officeadmin@spiritofhope.ca
END:VEVENT
END:VCALENDAR