BEGIN:VCALENDAR
VERSION:2.0
PRODID:-//Northern Spirit Regional Council - ECPv6.15.20//NONSGML v1.0//EN
CALSCALE:GREGORIAN
METHOD:PUBLISH
X-ORIGINAL-URL:https://northernspiritrc.ca
X-WR-CALDESC:Events for Northern Spirit Regional Council
REFRESH-INTERVAL;VALUE=DURATION:PT1H
X-Robots-Tag:noindex
X-PUBLISHED-TTL:PT1H
BEGIN:VTIMEZONE
TZID:America/Edmonton
BEGIN:DAYLIGHT
TZOFFSETFROM:-0700
TZOFFSETTO:-0600
TZNAME:MDT
DTSTART:20240310T090000
END:DAYLIGHT
BEGIN:STANDARD
TZOFFSETFROM:-0600
TZOFFSETTO:-0700
TZNAME:MST
DTSTART:20241103T080000
END:STANDARD
BEGIN:DAYLIGHT
TZOFFSETFROM:-0700
TZOFFSETTO:-0600
TZNAME:MDT
DTSTART:20250309T090000
END:DAYLIGHT
BEGIN:STANDARD
TZOFFSETFROM:-0600
TZOFFSETTO:-0700
TZNAME:MST
DTSTART:20251102T080000
END:STANDARD
BEGIN:DAYLIGHT
TZOFFSETFROM:-0700
TZOFFSETTO:-0600
TZNAME:MDT
DTSTART:20260308T090000
END:DAYLIGHT
BEGIN:STANDARD
TZOFFSETFROM:-0600
TZOFFSETTO:-0700
TZNAME:MST
DTSTART:20261101T080000
END:STANDARD
END:VTIMEZONE
BEGIN:VEVENT
DTSTART;TZID=America/Edmonton:20251101T100000
DTEND;TZID=America/Edmonton:20251101T143000
DTSTAMP:20260421T165855
CREATED:20250320T193328Z
LAST-MODIFIED:20251009T201218Z
UID:10000441-1761991200-1762007400@northernspiritrc.ca
SUMMARY:Affirming Donut Meeting!
DESCRIPTION:We’re trying this event again\, and this time we’re including both the area around Edmonton (the donut) and Edmonton itself (the timbit!) \nAll Affirming and affirming-curious / supportive ministries and all affirming people welcome. Your ministry can send as a many people as you like! \nWe’re focusing on Edmonton and the rural and smaller town circle all around Edmonton- imagine a big circle around 90 minutes’ drive wide all around Edmonton. Rural\, small town\, and bigger town\, come join us.  We need your diverse voices and experiences. Come for support\, visiting\, planning together\, and lunch. \nPlanned and hosted by the Northern Spirit Regional Council Affirm Team.  \nPlease register here so we have numbers for lunch. \nPlease click here to download the PDF poster. \nYou can right click or hold your finger down on the image to save it; use freely! \nQuestions? Contact staff (to protect committee members’ email information): Julie Graham\, jgraham@united-church.ca or ChloeBurns\, chburns@united-church.ca and we will pass your note on.
URL:https://northernspiritrc.ca/event/affirming-donut-meeting/
LOCATION:Southminster-Steinhauer United Church\, 10740-19 Ave NW\, Edmonton\, AB\, T6J 6W9
CATEGORIES:Community events,Intercultural,LGBTQIA2S+,Regional event
ATTACH;FMTTYPE=image/png:https://northernspiritrc.ca/wp-content/uploads/2025/03/Affirming-doughnut-and-timbit-meeting-25Oct2025-1200-x-800-px.png
END:VEVENT
BEGIN:VEVENT
DTSTART;TZID=America/Edmonton:20251101T120000
DTEND;TZID=America/Edmonton:20251101T133000
DTSTAMP:20260421T165855
CREATED:20251028T160927Z
LAST-MODIFIED:20251028T160927Z
UID:10000523-1761998400-1762003800@northernspiritrc.ca
SUMMARY:Organ Recital at Sherwood Park United Church
DESCRIPTION:Church organist\, Edmund Wasowicz\, will be presenting an Organ Recital on Saturday\, November 1st at 12 noon at Sherwood Park United Church (20 Fir St\, Sherwood Park\, AB).\nChosen works of Sigfrid Karg – Elert\, Jehain Alain\, Felix Mendelssohn\, Johann Sebastian Back and Leon Boellmann will be performed.\nA free will offering will gathered for a fundraiser for roof repairs.
URL:https://northernspiritrc.ca/event/organ-recital-at-sherwood-park-united-church/
LOCATION:Sherwood Park United Church\, 20 Fir St\, Sherwood Park\, Alberta\, T8A 1Z6\, Canada
CATEGORIES:Community events
ATTACH;FMTTYPE=image/jpeg:https://northernspiritrc.ca/wp-content/uploads/2025/10/poster.pdf.jpg
END:VEVENT
BEGIN:VEVENT
DTSTART;TZID=America/Edmonton:20251101T190000
DTEND;TZID=America/Edmonton:20251101T210000
DTSTAMP:20260421T165855
CREATED:20251008T195313Z
LAST-MODIFIED:20251008T195313Z
UID:10000521-1762023600-1762030800@northernspiritrc.ca
SUMMARY:PT PH PR PC S&S (Concert and Dessert)
DESCRIPTION:Enjoy an evening of music and dessert at the Spirit of Hope Post-Thanksgiving\, Post-Halloween\, Pre-Remembrance Day\, Pre-Christmas Sing and Snack. This unique concert features music from all of these 4 special days performed by the Spirit of Hope Choir\, Mysterious Sounds and music director\, Warren Mack. There will be yummy desserts and beverages to share together after the concert. You will receive a $20 tax receipt when you purchase a $25 ticket. Contact officeadmin.spiritofhope@shaw.ca or 780-468-1418 for tickets.
URL:https://northernspiritrc.ca/event/pt-ph-pr-pc-ss-concert-and-dessert/
LOCATION:Spirit of Hope United Church\, 7909 82 Ave NW\, Edmonton\, AB\, Canada
CATEGORIES:Community events
ATTACH;FMTTYPE=image/png:https://northernspiritrc.ca/wp-content/uploads/2025/10/Sing-and-snack-2025.png
ORGANIZER;CN="Spirit of Hope United Church":MAILTO:officeadmin@spiritofhope.ca
END:VEVENT
BEGIN:VEVENT
DTSTART;TZID=America/Edmonton:20251101T193000
DTEND;TZID=America/Edmonton:20251101T210000
DTSTAMP:20260421T165855
CREATED:20251028T160843Z
LAST-MODIFIED:20251028T160843Z
UID:10000524-1762025400-1762030800@northernspiritrc.ca
SUMMARY:FREE Marvelous Music Concert - Riverbend United Church
DESCRIPTION:Join us for a free concert of marvelous music featuring 15 musicians of all ages from Riverbend United Church. Listen to your favourite pop tunes mostly from the 60s and 70s featuring strings\, horns\, flutes and a steel pan drum! Elton John\, The Beatles\, Chicago\, Joni Mitchell\, Abba\, Fleetwood Mac and many others will be highlighted. The concert is free and no tickets are required\, but donations are accepted and much appreciated. Hope to see you there!
URL:https://northernspiritrc.ca/event/free-marvelous-music-concert-riverbend-united-church/
LOCATION:Riverbend United Church\, 14907 45 Avenue\, Edmonton\, Alberta\, T6H 5V6\, Canada
CATEGORIES:Community events
ATTACH;FMTTYPE=image/jpeg:https://northernspiritrc.ca/wp-content/uploads/2025/10/Marvelous-Music-2025.jpg
END:VEVENT
END:VCALENDAR