BEGIN:VCALENDAR
VERSION:2.0
PRODID:-//Northern Spirit Regional Council - ECPv6.15.20//NONSGML v1.0//EN
CALSCALE:GREGORIAN
METHOD:PUBLISH
X-ORIGINAL-URL:https://northernspiritrc.ca
X-WR-CALDESC:Events for Northern Spirit Regional Council
REFRESH-INTERVAL;VALUE=DURATION:PT1H
X-Robots-Tag:noindex
X-PUBLISHED-TTL:PT1H
BEGIN:VTIMEZONE
TZID:America/Edmonton
BEGIN:DAYLIGHT
TZOFFSETFROM:-0700
TZOFFSETTO:-0600
TZNAME:MDT
DTSTART:20240310T090000
END:DAYLIGHT
BEGIN:STANDARD
TZOFFSETFROM:-0600
TZOFFSETTO:-0700
TZNAME:MST
DTSTART:20241103T080000
END:STANDARD
BEGIN:DAYLIGHT
TZOFFSETFROM:-0700
TZOFFSETTO:-0600
TZNAME:MDT
DTSTART:20250309T090000
END:DAYLIGHT
BEGIN:STANDARD
TZOFFSETFROM:-0600
TZOFFSETTO:-0700
TZNAME:MST
DTSTART:20251102T080000
END:STANDARD
BEGIN:DAYLIGHT
TZOFFSETFROM:-0700
TZOFFSETTO:-0600
TZNAME:MDT
DTSTART:20260308T090000
END:DAYLIGHT
BEGIN:STANDARD
TZOFFSETFROM:-0600
TZOFFSETTO:-0700
TZNAME:MST
DTSTART:20261101T080000
END:STANDARD
END:VTIMEZONE
BEGIN:VEVENT
DTSTART;TZID=America/Edmonton:20250914T103000
DTEND;TZID=America/Edmonton:20250914T160000
DTSTAMP:20260421T124255
CREATED:20250904T214015Z
LAST-MODIFIED:20250904T214015Z
UID:10000509-1757845800-1757865600@northernspiritrc.ca
SUMMARY:Stained Glass Window and Free Concert
DESCRIPTION:As part of the 100th anniversary of the United Church of Canada\, a stained glass window designed specifically for Athabasca United Church will be unveiled and dedicated on September 14. This artwork is donated by Vancouver Island artist Thom Rypien. There will be a free concert after the service featuring a quartet consisting of members from the Edmonton Symphony Orchestra after lunch.
URL:https://northernspiritrc.ca/event/stained-glass-window-and-free-concert/
LOCATION:Athabasca United Church\, 4817 - 48 St\, Athabasca\, AB\, T9S 1R3\, Canada
CATEGORIES:100th Anniversary of the UCC,Community events
ATTACH;FMTTYPE=image/png:https://northernspiritrc.ca/wp-content/uploads/2025/09/202509-Unveiling-and-Concert-FB-graphic.png
END:VEVENT
BEGIN:VEVENT
DTSTART;TZID=America/Edmonton:20250914T153000
DTEND;TZID=America/Edmonton:20250914T170000
DTSTAMP:20260421T124255
CREATED:20250821T153146Z
LAST-MODIFIED:20250821T153146Z
UID:10000503-1757863800-1757869200@northernspiritrc.ca
SUMMARY:Jazz and Reflections at Spirit of Hope United Church
DESCRIPTION:Spirit of Hope United Church is pleased to offer another season of Jazz and Reflections this fall. On these Sundays: September 14\, September 28\, October 5\, October 19 and October 26 from 3:30 p.m. to 5:00 p.m.\, join us for an afternoon of music and reflection in a relaxed and welcoming setting. \nThere is no charge to attend\, and all are welcome. Admission is by donation\, with refreshments served following the program. Come and enjoy the beauty of jazz\, the gift of community\, and the chance to pause and reflect.
URL:https://northernspiritrc.ca/event/jazz-and-reflections-at-spirit-of-hope-united-church/2025-09-14/
LOCATION:Spirit of Hope United Church\, 7909 82 Ave NW\, Edmonton\, AB\, Canada
CATEGORIES:Community events
ATTACH;FMTTYPE=image/jpeg:https://northernspiritrc.ca/wp-content/uploads/2025/08/Jazz-and-Reflections-Fall-2025-Spirit-of-Hope-United-Church.jpg
ORGANIZER;CN="Spirit of Hope United Church":MAILTO:officeadmin@spiritofhope.ca
END:VEVENT
END:VCALENDAR