BEGIN:VCALENDAR
VERSION:2.0
PRODID:-//Northern Spirit Regional Council - ECPv6.15.20//NONSGML v1.0//EN
CALSCALE:GREGORIAN
METHOD:PUBLISH
X-ORIGINAL-URL:https://northernspiritrc.ca
X-WR-CALDESC:Events for Northern Spirit Regional Council
REFRESH-INTERVAL;VALUE=DURATION:PT1H
X-Robots-Tag:noindex
X-PUBLISHED-TTL:PT1H
BEGIN:VTIMEZONE
TZID:America/Edmonton
BEGIN:DAYLIGHT
TZOFFSETFROM:-0700
TZOFFSETTO:-0600
TZNAME:MDT
DTSTART:20240310T090000
END:DAYLIGHT
BEGIN:STANDARD
TZOFFSETFROM:-0600
TZOFFSETTO:-0700
TZNAME:MST
DTSTART:20241103T080000
END:STANDARD
BEGIN:DAYLIGHT
TZOFFSETFROM:-0700
TZOFFSETTO:-0600
TZNAME:MDT
DTSTART:20250309T090000
END:DAYLIGHT
BEGIN:STANDARD
TZOFFSETFROM:-0600
TZOFFSETTO:-0700
TZNAME:MST
DTSTART:20251102T080000
END:STANDARD
BEGIN:DAYLIGHT
TZOFFSETFROM:-0700
TZOFFSETTO:-0600
TZNAME:MDT
DTSTART:20260308T090000
END:DAYLIGHT
BEGIN:STANDARD
TZOFFSETFROM:-0600
TZOFFSETTO:-0700
TZNAME:MST
DTSTART:20261101T080000
END:STANDARD
END:VTIMEZONE
BEGIN:VEVENT
DTSTART;TZID=America/Edmonton:20250628T173000
DTEND;TZID=America/Edmonton:20250628T210000
DTSTAMP:20260421T054006
CREATED:20250521T215630Z
LAST-MODIFIED:20250521T215630Z
UID:10000476-1751131800-1751144400@northernspiritrc.ca
SUMMARY:"1946: The Mistranslation That Shifted Culture" dinner and a movie event
DESCRIPTION:1946: The Mistranslation That Shifted Culture is a feature documentary that follows the story of tireless researchers who trace the origins of the anti-gay movement among Christians to a grave mistranslation of the Bible in 1946. \nIt chronicles the discovery of never-before-seen archives at Yale University which unveil astonishing new revelations\, and casts significant doubt on any biblical basis for LGBTQIA+ prejudice. Featuring commentary from prominent scholars as well as opposing pastors\, including the personal stories of the film’s creators\, 1946 is at once challenging\, enlightening\, and inspiring. \nJoin us for pizza\, viewing and discussion. Registration is required and closes June 26. Free will offering.
URL:https://northernspiritrc.ca/event/1946-the-mistranslation-that-shifted-culture-dinner-and-a-movie-event/
LOCATION:St. Andrew’s United Church\, Spruce Grove\, 1A Fieldstone Drive\,\, Spruce Grove\, Alberta\, Canada
CATEGORIES:Community events,LGBTQIA2S+
ATTACH;FMTTYPE=image/jpeg:https://northernspiritrc.ca/wp-content/uploads/2025/05/Movie-screening_JPG.jpg
END:VEVENT
END:VCALENDAR