BEGIN:VCALENDAR
VERSION:2.0
PRODID:-//Northern Spirit Regional Council - ECPv6.15.20//NONSGML v1.0//EN
CALSCALE:GREGORIAN
METHOD:PUBLISH
X-WR-CALNAME:Northern Spirit Regional Council
X-ORIGINAL-URL:https://northernspiritrc.ca
X-WR-CALDESC:Events for Northern Spirit Regional Council
REFRESH-INTERVAL;VALUE=DURATION:PT1H
X-Robots-Tag:noindex
X-PUBLISHED-TTL:PT1H
BEGIN:VTIMEZONE
TZID:America/Edmonton
BEGIN:DAYLIGHT
TZOFFSETFROM:-0700
TZOFFSETTO:-0600
TZNAME:MDT
DTSTART:20240310T090000
END:DAYLIGHT
BEGIN:STANDARD
TZOFFSETFROM:-0600
TZOFFSETTO:-0700
TZNAME:MST
DTSTART:20241103T080000
END:STANDARD
BEGIN:DAYLIGHT
TZOFFSETFROM:-0700
TZOFFSETTO:-0600
TZNAME:MDT
DTSTART:20250309T090000
END:DAYLIGHT
BEGIN:STANDARD
TZOFFSETFROM:-0600
TZOFFSETTO:-0700
TZNAME:MST
DTSTART:20251102T080000
END:STANDARD
BEGIN:DAYLIGHT
TZOFFSETFROM:-0700
TZOFFSETTO:-0600
TZNAME:MDT
DTSTART:20260308T090000
END:DAYLIGHT
BEGIN:STANDARD
TZOFFSETFROM:-0600
TZOFFSETTO:-0700
TZNAME:MST
DTSTART:20261101T080000
END:STANDARD
END:VTIMEZONE
BEGIN:VEVENT
DTSTART;TZID=America/Edmonton:20250619T190000
DTEND;TZID=America/Edmonton:20250619T200000
DTSTAMP:20260421T053927
CREATED:20250605T175552Z
LAST-MODIFIED:20250605T175552Z
UID:10000485-1750359600-1750363200@northernspiritrc.ca
SUMMARY:Kirk Centre AGM
DESCRIPTION:📣 You’re Invited! Join Us for Kirk Centre’s AGM 🏛️🌟 \nWe warmly invite community members\, partners\, and supporters to attend Kirk Centre’s Annual General Meeting on Thursday\, June 19th at 7:00 PM. \nCome hear about everything we’ve accomplished together this past year—and where we’re headed next! From expanding our community partnerships to advocating for social purpose real estate\, your involvement helps shape the future of this vibrant hub. \n🗓️ Date: Thursday\, June 19th\n🕖 Time: 7:00 PM\n📍 Location: Kirk Centre – 13535 122 Ave NW\, Edmonton \nEveryone is welcome—whether you’re curious about what we do\, want to get involved\, or just love seeing community thrive.
URL:https://northernspiritrc.ca/event/kirk-centre-agm/
LOCATION:Kirk United Church Community Centre\, 13535 122 Ave NW\, Edmonton\, Alberta\, T5L 2V7\, Canada
CATEGORIES:Community events
ATTACH;FMTTYPE=image/png:https://northernspiritrc.ca/wp-content/uploads/2025/06/AGM-June-2025.png
END:VEVENT
END:VCALENDAR