BEGIN:VCALENDAR
VERSION:2.0
PRODID:-//Northern Spirit Regional Council - ECPv6.15.20//NONSGML v1.0//EN
CALSCALE:GREGORIAN
METHOD:PUBLISH
X-WR-CALNAME:Northern Spirit Regional Council
X-ORIGINAL-URL:https://northernspiritrc.ca
X-WR-CALDESC:Events for Northern Spirit Regional Council
REFRESH-INTERVAL;VALUE=DURATION:PT1H
X-Robots-Tag:noindex
X-PUBLISHED-TTL:PT1H
BEGIN:VTIMEZONE
TZID:America/Edmonton
BEGIN:DAYLIGHT
TZOFFSETFROM:-0700
TZOFFSETTO:-0600
TZNAME:MDT
DTSTART:20240310T090000
END:DAYLIGHT
BEGIN:STANDARD
TZOFFSETFROM:-0600
TZOFFSETTO:-0700
TZNAME:MST
DTSTART:20241103T080000
END:STANDARD
BEGIN:DAYLIGHT
TZOFFSETFROM:-0700
TZOFFSETTO:-0600
TZNAME:MDT
DTSTART:20250309T090000
END:DAYLIGHT
BEGIN:STANDARD
TZOFFSETFROM:-0600
TZOFFSETTO:-0700
TZNAME:MST
DTSTART:20251102T080000
END:STANDARD
BEGIN:DAYLIGHT
TZOFFSETFROM:-0700
TZOFFSETTO:-0600
TZNAME:MDT
DTSTART:20260308T090000
END:DAYLIGHT
BEGIN:STANDARD
TZOFFSETFROM:-0600
TZOFFSETTO:-0700
TZNAME:MST
DTSTART:20261101T080000
END:STANDARD
END:VTIMEZONE
BEGIN:VEVENT
DTSTART;TZID=America/Edmonton:20250616T160000
DTEND;TZID=America/Edmonton:20250616T180000
DTSTAMP:20260421T053928
CREATED:20250605T175711Z
LAST-MODIFIED:20250605T175711Z
UID:10000482-1750089600-1750096800@northernspiritrc.ca
SUMMARY:Youth Empowered Together Hangout for Queer and Allied Youth
DESCRIPTION:Youth between grades 7-12 are invited to drop in on Monday evenings from 4-6 during June to celebrate Pride month! These free\, sensory-friendly events include a theme activity\, snacks\, open gym and a variety of crafting materials to explore. The many safe\, welcoming spaces at Spirit of Hope are air-conditioned and have access to free WiFi. The youth leaders and adult volunteers have varied experiences\, talents and clear vulnerable persons criminal record checks. Hope to see you there!! \nSpirit of Hope is an Affirm United congregation. This is not a religious event. \nContact yetedmonton@gmail.com for further information.
URL:https://northernspiritrc.ca/event/youth-empowered-together-hangout-for-queer-and-allied-youth/2025-06-16/
LOCATION:Spirit of Hope United Church\, 7909 82 Ave NW\, Edmonton\, AB\, Canada
CATEGORIES:Community events,LGBTQIA2S+,Youth and young adult
ATTACH;FMTTYPE=image/png:https://northernspiritrc.ca/wp-content/uploads/2025/06/june-poster-scaled.png
ORGANIZER;CN="Spirit of Hope United Church":MAILTO:officeadmin@spiritofhope.ca
END:VEVENT
BEGIN:VEVENT
DTSTART;TZID=America/Edmonton:20250616T160000
DTEND;TZID=America/Edmonton:20250616T180000
DTSTAMP:20260421T053928
CREATED:20250611T193939Z
LAST-MODIFIED:20250611T193939Z
UID:10000489-1750089600-1750096800@northernspiritrc.ca
SUMMARY:Youth Hangout for Queer and Allied Youth
DESCRIPTION:All queer and allied youth are invited to hangout at Sprit of Hope United Church to enjoy time together making crafts\, playing games and sharing snacks. The gym will be open for active sports! No charge. Supplies and snacks will be provided. Free Wi-Fi! \nDrop by anytime between 4 and 6! \nThis event is coordinated by a youth planning team\, sponsored by Spirit of Hope United Church\, pflag and Alberta Health Services.
URL:https://northernspiritrc.ca/event/youth-hangout-for-queer-and-allied-youth/2025-06-16/
LOCATION:Spirit of Hope United Church\, 7909 82 Ave NW\, Edmonton\, AB\, Canada
CATEGORIES:Community events
ATTACH;FMTTYPE=image/png:https://northernspiritrc.ca/wp-content/uploads/2025/06/june-poster-1-scaled.png
ORGANIZER;CN="Spirit of Hope United Church":MAILTO:officeadmin@spiritofhope.ca
END:VEVENT
END:VCALENDAR