BEGIN:VCALENDAR
VERSION:2.0
PRODID:-//Northern Spirit Regional Council - ECPv6.15.20//NONSGML v1.0//EN
CALSCALE:GREGORIAN
METHOD:PUBLISH
X-ORIGINAL-URL:https://northernspiritrc.ca
X-WR-CALDESC:Events for Northern Spirit Regional Council
REFRESH-INTERVAL;VALUE=DURATION:PT1H
X-Robots-Tag:noindex
X-PUBLISHED-TTL:PT1H
BEGIN:VTIMEZONE
TZID:America/Edmonton
BEGIN:DAYLIGHT
TZOFFSETFROM:-0700
TZOFFSETTO:-0600
TZNAME:MDT
DTSTART:20240310T090000
END:DAYLIGHT
BEGIN:STANDARD
TZOFFSETFROM:-0600
TZOFFSETTO:-0700
TZNAME:MST
DTSTART:20241103T080000
END:STANDARD
BEGIN:DAYLIGHT
TZOFFSETFROM:-0700
TZOFFSETTO:-0600
TZNAME:MDT
DTSTART:20250309T090000
END:DAYLIGHT
BEGIN:STANDARD
TZOFFSETFROM:-0600
TZOFFSETTO:-0700
TZNAME:MST
DTSTART:20251102T080000
END:STANDARD
BEGIN:DAYLIGHT
TZOFFSETFROM:-0700
TZOFFSETTO:-0600
TZNAME:MDT
DTSTART:20260308T090000
END:DAYLIGHT
BEGIN:STANDARD
TZOFFSETFROM:-0600
TZOFFSETTO:-0700
TZNAME:MST
DTSTART:20261101T080000
END:STANDARD
END:VTIMEZONE
BEGIN:VEVENT
DTSTART;TZID=America/Edmonton:20250607T130000
DTEND;TZID=America/Edmonton:20250607T150000
DTSTAMP:20260421T054007
CREATED:20250602T164716Z
LAST-MODIFIED:20250602T164758Z
UID:10000479-1749301200-1749308400@northernspiritrc.ca
SUMMARY:Centennial High Tea
DESCRIPTION:Celebrate the 100th Anniversary of the United Church of Canada with us! Good friends to visit\, Canadian treats to savour\, harp music to soothe\, Fair Trade tea and coffee to quench the thirst\, displays to explore and more! Tickets are free – available at Value Drug \, but must be presented at the door. All are welcome!
URL:https://northernspiritrc.ca/event/40530/
LOCATION:CETC Building\, 5400 22 Ave\, Drayton Valley\, AB\, T7A 1B3\, Canada
CATEGORIES:100th Anniversary of the UCC,Community events
ATTACH;FMTTYPE=image/jpeg:https://northernspiritrc.ca/wp-content/uploads/2025/06/event.jpg
ORGANIZER;CN="Living Spirit United Church":MAILTO:livingspirituniteddv@gmail.com
END:VEVENT
END:VCALENDAR