BEGIN:VCALENDAR
VERSION:2.0
PRODID:-//Northern Spirit Regional Council - ECPv6.15.20//NONSGML v1.0//EN
CALSCALE:GREGORIAN
METHOD:PUBLISH
X-WR-CALNAME:Northern Spirit Regional Council
X-ORIGINAL-URL:https://northernspiritrc.ca
X-WR-CALDESC:Events for Northern Spirit Regional Council
REFRESH-INTERVAL;VALUE=DURATION:PT1H
X-Robots-Tag:noindex
X-PUBLISHED-TTL:PT1H
BEGIN:VTIMEZONE
TZID:America/Edmonton
BEGIN:DAYLIGHT
TZOFFSETFROM:-0700
TZOFFSETTO:-0600
TZNAME:MDT
DTSTART:20240310T090000
END:DAYLIGHT
BEGIN:STANDARD
TZOFFSETFROM:-0600
TZOFFSETTO:-0700
TZNAME:MST
DTSTART:20241103T080000
END:STANDARD
BEGIN:DAYLIGHT
TZOFFSETFROM:-0700
TZOFFSETTO:-0600
TZNAME:MDT
DTSTART:20250309T090000
END:DAYLIGHT
BEGIN:STANDARD
TZOFFSETFROM:-0600
TZOFFSETTO:-0700
TZNAME:MST
DTSTART:20251102T080000
END:STANDARD
BEGIN:DAYLIGHT
TZOFFSETFROM:-0700
TZOFFSETTO:-0600
TZNAME:MDT
DTSTART:20260308T090000
END:DAYLIGHT
BEGIN:STANDARD
TZOFFSETFROM:-0600
TZOFFSETTO:-0700
TZNAME:MST
DTSTART:20261101T080000
END:STANDARD
END:VTIMEZONE
BEGIN:VEVENT
DTSTART;VALUE=DATE:20250529
DTEND;VALUE=DATE:20250601
DTSTAMP:20260421T040545
CREATED:20250213T181807Z
LAST-MODIFIED:20250512T192454Z
UID:10000422-1748476800-1748735999@northernspiritrc.ca
SUMMARY:Northern Spirit Regional Meeting- in person and online
DESCRIPTION:All welcome\, both delegates and visitors\, to our regional meeting. The agenda begins at 2:00PM Thursday May 29\, runs through the evening\, all day and evening May 30\, including a public event\, and concludes with day long sessions Saturday May 31\, and a banquet Saturday evening. \nSee our June 1 listing for the Celebration of Ministries and 100th Anniversary worship service. Registration\, agenda\, official meeting documents\, and more\, will be made available in early April onwards\, on the Regional Meeting page.
URL:https://northernspiritrc.ca/event/northern-spirit-regional-meeting-in-person-and-online/
LOCATION:Riverbend United Church\, 14907 45 Avenue\, Edmonton\, Alberta\, T6H 5V6\, Canada
CATEGORIES:Regional Council,Regional event
ATTACH;FMTTYPE=image/png:https://northernspiritrc.ca/wp-content/uploads/2025/02/Annual-Meeting-2025.png
END:VEVENT
BEGIN:VEVENT
DTSTART;TZID=America/Edmonton:20250530T190000
DTEND;TZID=America/Edmonton:20250530T210000
DTSTAMP:20260421T040545
CREATED:20250402T210530Z
LAST-MODIFIED:20250611T194433Z
UID:10000448-1748631600-1748638800@northernspiritrc.ca
SUMMARY:From the Heart: understanding the impacts of AB's anti-transgender laws
DESCRIPTION:This event is now done\, and the video is available here. \nJoin us for personal stories of the impacts of Bills 26\, 28\, and 29 on Albertan athletes\, teachers\, parents\, children\, and church members. Learn together how we can take action in support of gender-diverse people. Please save and share the image above\, and use freely. Here’s the scheduled YouTube link. \nIn 2024 Alberta passed the legislation needed to put in place major medical and athletic restrictions on transgender people\, and restrictions on sexual health education and gender expression in the school system. The result: the most restrictive laws in Canada. The legislation is facing legal and Charter challenges\, and has met with fierce resistance from gender-diverse people and allies\, as well as strong criticism from a range of professional associations. \nBehind the headlines and debates\, what is happening for transgender people in Alberta? This isn’t only a legal and legislative matter; it has lived impacts on people’s bodies\, minds\, hearts\, and spirit. We thank our speakers\, who are joining us to speak about the impact on their lives. We invite you to come with an open mind and heart\, and hear their stories\, no matter your opinion on this legislation. Come and listen\, discuss\, and learn together. \nOur speakers\nMickey Wilson\, chair of the Northern Spirit Affirming Committee\, will be our moderator. \npaskwa mostos papamohtêw\, Emery Whiskeyjack \ntanisi paskwa mostos papamohtêw\, Emery Whiskeyjack\, nitisiyihkâson. My name is Wandering Buffalo Spirit\, Emery Whiskeyjack. Ohci niya onihcikiskwapowin\, I am from Saddle Lake Cree Nation in Treaty 6 Territory. I am a 23 year old\, 2-Spirit Transmasc multidisciplinary artist residing in amiskwaciywaskahikan. I am in a confident place of being unapologetically myself\, thanks to going through my rites of passage where I learned a powerful nehiyawewin affirmation\, “niya oma niya (I am who I am)”. I am passionate about co-libertating\, reclaiming and connecting to my land\, language\, and culture. Making art feeds my spirit and is a visual exploration of my story and others like me. I want to continue to share with the world the beauty and complexity of being a tastawiniw/ihkwew. \n  \n  \n  \n  \nLana Whiskeyjack \nLana Whiskeyjack is a nêhiyaw Indigiologist from the Saddle Lake Cree Nation\, currently serving as an associate professor in the Department of Women’s and Gender Studies. Dr. Whiskeyjack is an award-winning scholartist (scholar and artist)\, author\, and spirit-centered community-based researcher. She is acclaimed for her work in Indigenous arts-based practices and research; sexual health and wellness; and cultural and language revitalization. Contributing to ending gender and sexual violence through violence-informed and strength-based practices is her long life learning and vision. Her years in researching womanhood\, sexual health and spirit of Cree language contributes to her current research on supporting gender and sexuality diverse Indigenous kin and their families through ceremonial transitions as well as rematriation-based violence prevention work with Indigenous men and boys. \n  \nAmanda Barrett \nAmanda Barrett is a Sexual Orientation and Gender Identity and Expression Consultant and High School Counsellor in Edmonton\, Alberta. Her work centres on the support of sexual and gender minority children and youth along with the fostering of good mental health for all students. Amanda’s commitment to the creation of inclusive\, safe\, and healthy work and learning environments is informed by her studies (most recently the completion of her Master of Arts in Counselling Psychology) and many volunteer experiences. Amanda (she/her) is an educator with over 20 years of experience\, dedicated to fostering growth and development in diverse learning environments. Throughout her career\, she has worked as a teacher\, librarian\, counselor\, and consultant\, using her expertise to support students\, professionals\, and organizations. Amanda is deeply committed to social justice\, with extensive volunteer work within queer and trans communities\, advocating for inclusivity and equality. Her passion for education and community engagement drives her to empower others\, creating safe\, supportive spaces for all. \n  \nAllison Hadley \nAllison Hadley is a Healthcare Worker\, Author\, Artist\, Activist and recreational athlete. Born and raised in Edmonton\, she dedicates much of her spare time helping and building the 2SLGBTQ+ community – in hopes that the roads travelled by future generations will be easier than the one she had to take. A lifelong lover of sport\, before her gender transition\, Allison competed internationally in three different sports. She is passionate about education and has already facilitated three workshops discussing the proposed harmful legislation in Alberta. Allison has also spoken at Trangender Day of Remembrance and Pride events in Alberta\, Ontario and Quebec. \nRachel Young \nRachel Young is a member of the Northern Spirit Affirming Committee. Her home community of faith is Grace United Church in Lloydminster. Rachel  volunteers on the Worship Committee\, Vacation Bible School and Christian Development. She also participates and collaborates with other committees at Grace with their growth within the Pride Community. She believes in the affirmation and celebration of all people as well as advocating for the rights and protections of others. Rachel is currently discerning her role in Diaconal Ministry and advancing her post-secondary studies at Lakeland College as a Candidate Minister. \nThis public space is part of the Northern Spirit Regional Council annual meeting\, and is offered by the Regional Council’s Affirming Committee.
URL:https://northernspiritrc.ca/event/from-the-heart-understanding-the-impacts-of-abs-anti-transgender-laws/
LOCATION:Riverbend United Church\, 14907 45 Avenue\, Edmonton\, Alberta\, T6H 5V6\, Canada
CATEGORIES:100th Anniversary of the UCC,Intercultural,LGBTQIA2S+,Regional event
ATTACH;FMTTYPE=image/png:https://northernspiritrc.ca/wp-content/uploads/2025/04/From-the-heart-AB-event-May-30-2025-landscape.png
END:VEVENT
BEGIN:VEVENT
DTSTART;TZID=America/Edmonton:20250530T193000
DTEND;TZID=America/Edmonton:20250530T213000
DTSTAMP:20260421T040545
CREATED:20250507T230606Z
LAST-MODIFIED:20250507T230606Z
UID:10000467-1748633400-1748640600@northernspiritrc.ca
SUMMARY:Sweet Soulful Spring Concert
DESCRIPTION:Mill Woods United Church is hosting a Music Concert on May 30th\, 2025\, 7:30 pm as a fundraiser for our programs (outreach such as Bread Run\, Clothing Bank\, music\, etc). \nJoin us to listen to a variety of musicians performing easy listening music with a little soul\, including our Vocal Choir\, Handbells of Mill Woods United Church\, United Harmony bells from Sherwood Park United Church\, SALA String Quartet\, and other musicians and soloists\, all with the theme of Sweet Soulful music. \nWe are located at 15 Grand Meadow Crescent in Millwoods. Admission is by donation and the doors open at 7:00 pm. Looking forward to seeing you!
URL:https://northernspiritrc.ca/event/sweet-soulful-spring-concert/
LOCATION:Mill Woods United Church\, 15 Grand Meadow Cres\, Edmonton\, AB\, T6L 1A1\, Canada
CATEGORIES:Community events
ATTACH;FMTTYPE=image/png:https://northernspiritrc.ca/wp-content/uploads/2025/05/Sweet-Soulful-Spring-Concert-scaled.png
END:VEVENT
BEGIN:VEVENT
DTSTART;TZID=America/Edmonton:20250530T193000
DTEND;TZID=America/Edmonton:20250601T220000
DTSTAMP:20260421T040545
CREATED:20250521T215514Z
LAST-MODIFIED:20250521T215514Z
UID:10000474-1748633400-1748815200@northernspiritrc.ca
SUMMARY:All 4 Fun – A Theatrical Showcase by The 9th Street Players
DESCRIPTION:Join The 9th Street Players for All 4 Fun\, an entertaining evening (or afternoon!) of one-act plays filled with laughter\, charm\, and a little madness. Directed by Marie Fontaine\, this engaging showcase features four short plays: \nFinal Curtain by Frank Gibbons\nThe Accident by Herb Hasler\nRhyming Mother Goose by Richard Coleman\nA Mad Breakfast by Isabel M. Gray \nCome support local theatre and enjoy a delightful performance at Spirit of Hope United Church. \nDates and Times: \nFriday\, May 30 at 7:30 PM (Doors open at 7:00 PM)\nSaturday\, May 31 at 7:30 PM (Doors open at 7:00 PM)\nSunday\, June 1 at 1:30 PM (Doors open at 1:00 PM) \nLocation:\nSpirit of Hope United Church\n7909 – 82 Avenue\, Edmonton\, AB\nPhone: 780-468-1418 \nTicket Prices: \nAdults: $20\nSeniors: $15\nChildren: $5 \nHow to Get Tickets:\nEmail: officeadmin.spiritofhope@shaw.ca\nOR visit: edmontonarts.ca/event-category/shop-services-events \nPresented by:\nThe 9th Street Players\nBy arrangement with Lazy Bee Scripts and Concord Theatricals on behalf of Samuel French\, Inc.
URL:https://northernspiritrc.ca/event/all-4-fun-a-theatrical-showcase-by-the-9th-street-players/
LOCATION:Spirit of Hope United Church\, 7909 82 Ave NW\, Edmonton\, AB\, Canada
CATEGORIES:Community events
ATTACH;FMTTYPE=image/png:https://northernspiritrc.ca/wp-content/uploads/2025/05/POSTER-_-ALL-4-fUN-revised.png
ORGANIZER;CN="Spirit of Hope United Church":MAILTO:officeadmin@spiritofhope.ca
END:VEVENT
END:VCALENDAR