BEGIN:VCALENDAR
VERSION:2.0
PRODID:-//Northern Spirit Regional Council - ECPv6.15.20//NONSGML v1.0//EN
CALSCALE:GREGORIAN
METHOD:PUBLISH
X-WR-CALNAME:Northern Spirit Regional Council
X-ORIGINAL-URL:https://northernspiritrc.ca
X-WR-CALDESC:Events for Northern Spirit Regional Council
REFRESH-INTERVAL;VALUE=DURATION:PT1H
X-Robots-Tag:noindex
X-PUBLISHED-TTL:PT1H
BEGIN:VTIMEZONE
TZID:America/Edmonton
BEGIN:DAYLIGHT
TZOFFSETFROM:-0700
TZOFFSETTO:-0600
TZNAME:MDT
DTSTART:20240310T090000
END:DAYLIGHT
BEGIN:STANDARD
TZOFFSETFROM:-0600
TZOFFSETTO:-0700
TZNAME:MST
DTSTART:20241103T080000
END:STANDARD
BEGIN:DAYLIGHT
TZOFFSETFROM:-0700
TZOFFSETTO:-0600
TZNAME:MDT
DTSTART:20250309T090000
END:DAYLIGHT
BEGIN:STANDARD
TZOFFSETFROM:-0600
TZOFFSETTO:-0700
TZNAME:MST
DTSTART:20251102T080000
END:STANDARD
BEGIN:DAYLIGHT
TZOFFSETFROM:-0700
TZOFFSETTO:-0600
TZNAME:MDT
DTSTART:20260308T090000
END:DAYLIGHT
BEGIN:STANDARD
TZOFFSETFROM:-0600
TZOFFSETTO:-0700
TZNAME:MST
DTSTART:20261101T080000
END:STANDARD
END:VTIMEZONE
BEGIN:VEVENT
DTSTART;TZID=America/Edmonton:20250429T190000
DTEND;TZID=America/Edmonton:20250429T203000
DTSTAMP:20260420T025757
CREATED:20250319T150852Z
LAST-MODIFIED:20250319T150852Z
UID:10000437-1745953200-1745958600@northernspiritrc.ca
SUMMARY:University of Alberta Mixed Chorus & Handbell Ringers Spring Tour – Grande Prairie Stop!
DESCRIPTION:Experience an evening of breathtaking choral and handbell music as the University of Alberta Mixed Chorus and Handbell Ringers bring their Annual Spring Tour to St. Paul’s United Church in Grande Prairie on April 29 at 7 PM. \nConducted by Adam Robertson and Jackie Malcom\, this talented group of musicians will deliver a captivating performance filled with harmonies and melodies that will inspire and delight audiences of all ages. \n🎟 Tickets: \n$20 for Adults\n$15 for Students & Seniors\nTickets can be purchased at the church office (Monday–Friday\, 9 AM–12 PM & 1 PM–3 PM)\, by calling 780-532-2415\, via e-transfer (StPaulsucgp@gmail.com)\, or at the door. \nDon’t miss this enchanting musical evening—come support live music in our community! 🎶✨
URL:https://northernspiritrc.ca/event/university-of-alberta-mixed-chorus-handbell-ringers-spring-tour-grande-prairie-stop/
LOCATION:St Paul’s United Church Grande Prairie\, 10206 100 Avenue\, Grande Prairie\, Alberta\, T8V 0V6\, Canada
CATEGORIES:Community events
ATTACH;FMTTYPE=image/png:https://northernspiritrc.ca/wp-content/uploads/2025/03/Picture1.png
END:VEVENT
END:VCALENDAR