BEGIN:VCALENDAR
VERSION:2.0
PRODID:-//Northern Spirit Regional Council - ECPv6.15.20//NONSGML v1.0//EN
CALSCALE:GREGORIAN
METHOD:PUBLISH
X-WR-CALNAME:Northern Spirit Regional Council
X-ORIGINAL-URL:https://northernspiritrc.ca
X-WR-CALDESC:Events for Northern Spirit Regional Council
REFRESH-INTERVAL;VALUE=DURATION:PT1H
X-Robots-Tag:noindex
X-PUBLISHED-TTL:PT1H
BEGIN:VTIMEZONE
TZID:America/Edmonton
BEGIN:DAYLIGHT
TZOFFSETFROM:-0700
TZOFFSETTO:-0600
TZNAME:MDT
DTSTART:20240310T090000
END:DAYLIGHT
BEGIN:STANDARD
TZOFFSETFROM:-0600
TZOFFSETTO:-0700
TZNAME:MST
DTSTART:20241103T080000
END:STANDARD
BEGIN:DAYLIGHT
TZOFFSETFROM:-0700
TZOFFSETTO:-0600
TZNAME:MDT
DTSTART:20250309T090000
END:DAYLIGHT
BEGIN:STANDARD
TZOFFSETFROM:-0600
TZOFFSETTO:-0700
TZNAME:MST
DTSTART:20251102T080000
END:STANDARD
BEGIN:DAYLIGHT
TZOFFSETFROM:-0700
TZOFFSETTO:-0600
TZNAME:MDT
DTSTART:20260308T090000
END:DAYLIGHT
BEGIN:STANDARD
TZOFFSETFROM:-0600
TZOFFSETTO:-0700
TZNAME:MST
DTSTART:20261101T080000
END:STANDARD
END:VTIMEZONE
BEGIN:VEVENT
DTSTART;TZID=America/Edmonton:20250213T100000
DTEND;TZID=America/Edmonton:20250213T103000
DTSTAMP:20260420T054717
CREATED:20250211T203322Z
LAST-MODIFIED:20250211T203322Z
UID:10000420-1739440800-1739442600@northernspiritrc.ca
SUMMARY:Feb 13 Webinar: Coffee with Franklyn James
DESCRIPTION:The Foundation invites you to another instalment in our Coffee With webinar series\, Coffee with Franklyn James! \nJoin us on Thursday\, February 13\, at 12 PM EST for a half-hour session as we catch up with Rev. Franklyn James! Don’t miss this opportunity to learn about his impactful work and his efforts to inspire and uplift through his writing and ministry\, exploring themes of faith\, community\, justice\, and resilience. \nRegister here: https://unitedchurchfoundation.ca/upcoming-webinar-coffee-with-franklyn-james/
URL:https://northernspiritrc.ca/event/feb-13-webinar-coffee-with-franklyn-james/
LOCATION:Zoom
CATEGORIES:Community events
ATTACH;FMTTYPE=image/png:https://northernspiritrc.ca/wp-content/uploads/2025/02/coffee-with-franklyn-james-.png
ORGANIZER;CN="The United Church of Canada Foundation":MAILTO:fdn@united-church.ca
END:VEVENT
END:VCALENDAR