BEGIN:VCALENDAR
VERSION:2.0
PRODID:-//Northern Spirit Regional Council - ECPv6.15.20//NONSGML v1.0//EN
CALSCALE:GREGORIAN
METHOD:PUBLISH
X-ORIGINAL-URL:https://northernspiritrc.ca
X-WR-CALDESC:Events for Northern Spirit Regional Council
REFRESH-INTERVAL;VALUE=DURATION:PT1H
X-Robots-Tag:noindex
X-PUBLISHED-TTL:PT1H
BEGIN:VTIMEZONE
TZID:America/Edmonton
BEGIN:DAYLIGHT
TZOFFSETFROM:-0700
TZOFFSETTO:-0600
TZNAME:MDT
DTSTART:20230312T090000
END:DAYLIGHT
BEGIN:STANDARD
TZOFFSETFROM:-0600
TZOFFSETTO:-0700
TZNAME:MST
DTSTART:20231105T080000
END:STANDARD
BEGIN:DAYLIGHT
TZOFFSETFROM:-0700
TZOFFSETTO:-0600
TZNAME:MDT
DTSTART:20240310T090000
END:DAYLIGHT
BEGIN:STANDARD
TZOFFSETFROM:-0600
TZOFFSETTO:-0700
TZNAME:MST
DTSTART:20241103T080000
END:STANDARD
BEGIN:DAYLIGHT
TZOFFSETFROM:-0700
TZOFFSETTO:-0600
TZNAME:MDT
DTSTART:20250309T090000
END:DAYLIGHT
BEGIN:STANDARD
TZOFFSETFROM:-0600
TZOFFSETTO:-0700
TZNAME:MST
DTSTART:20251102T080000
END:STANDARD
END:VTIMEZONE
BEGIN:VEVENT
DTSTART;TZID=America/Edmonton:20241208T183000
DTEND;TZID=America/Edmonton:20241208T200000
DTSTAMP:20260420T084010
CREATED:20241119T221926Z
LAST-MODIFIED:20241119T221926Z
UID:10000390-1733682600-1733688000@northernspiritrc.ca
SUMMARY:Morning Star - Spirit West United Church Choir Christmas Concert
DESCRIPTION:The Spirit West Choir is excited to announce the annual Christmas concert will take place on Sunday\, Dec. 8 at 6:30. Voice\, piano\, flute and harp will be featured in Lloyd Larson’s cantata entitled MORNING STAR\, which celebrates the everlasting light of Christmas. Donations received will be directed to the sound system fund.
URL:https://northernspiritrc.ca/event/morning-star-spirit-west-united-church-choir-christmas-concert/
LOCATION:Spirit West United Church\, 7003 199 St NW\, Edmonton\, Alberta\, T5T 3A8\, Canada
CATEGORIES:Community events
ATTACH;FMTTYPE=image/png:https://northernspiritrc.ca/wp-content/uploads/2024/11/Morning-Star-2024-fullpage.png
END:VEVENT
END:VCALENDAR