BEGIN:VCALENDAR
VERSION:2.0
PRODID:-//Northern Spirit Regional Council - ECPv6.15.20//NONSGML v1.0//EN
CALSCALE:GREGORIAN
METHOD:PUBLISH
X-WR-CALNAME:Northern Spirit Regional Council
X-ORIGINAL-URL:https://northernspiritrc.ca
X-WR-CALDESC:Events for Northern Spirit Regional Council
REFRESH-INTERVAL;VALUE=DURATION:PT1H
X-Robots-Tag:noindex
X-PUBLISHED-TTL:PT1H
BEGIN:VTIMEZONE
TZID:America/Edmonton
BEGIN:DAYLIGHT
TZOFFSETFROM:-0700
TZOFFSETTO:-0600
TZNAME:MDT
DTSTART:20230312T090000
END:DAYLIGHT
BEGIN:STANDARD
TZOFFSETFROM:-0600
TZOFFSETTO:-0700
TZNAME:MST
DTSTART:20231105T080000
END:STANDARD
BEGIN:DAYLIGHT
TZOFFSETFROM:-0700
TZOFFSETTO:-0600
TZNAME:MDT
DTSTART:20240310T090000
END:DAYLIGHT
BEGIN:STANDARD
TZOFFSETFROM:-0600
TZOFFSETTO:-0700
TZNAME:MST
DTSTART:20241103T080000
END:STANDARD
BEGIN:DAYLIGHT
TZOFFSETFROM:-0700
TZOFFSETTO:-0600
TZNAME:MDT
DTSTART:20250309T090000
END:DAYLIGHT
BEGIN:STANDARD
TZOFFSETFROM:-0600
TZOFFSETTO:-0700
TZNAME:MST
DTSTART:20251102T080000
END:STANDARD
END:VTIMEZONE
BEGIN:VEVENT
DTSTART;TZID=America/Edmonton:20241130T100000
DTEND;TZID=America/Edmonton:20241130T160000
DTSTAMP:20260420T083957
CREATED:20241017T183517Z
LAST-MODIFIED:20241017T183517Z
UID:10000373-1732960800-1732982400@northernspiritrc.ca
SUMMARY:Christmas Craft Market- Mill Woods United Church
DESCRIPTION:The Christmas Market has been happening for over two decades. We have a variety of vendors selling items from handmade products to commercial vendors on both floors of our church. There is usually a hot lunch for purchase at the downstairs concession on the date of the sale. Entry to our sale is by donation. This fundraiser supports the life and work of our church in the community of Mill Woods.
URL:https://northernspiritrc.ca/event/christmas-craft-market-mill-woods-united-church-2/
LOCATION:Mill Woods United Church\, 15 Grand Meadow Cres\, Edmonton\, AB\, T6L 1A1\, Canada
CATEGORIES:Community events
ATTACH;FMTTYPE=image/jpeg:https://northernspiritrc.ca/wp-content/uploads/2024/10/Capture.jpg
END:VEVENT
BEGIN:VEVENT
DTSTART;TZID=America/Edmonton:20241130T110000
DTEND;TZID=America/Edmonton:20241130T150000
DTSTAMP:20260420T083957
CREATED:20241119T222037Z
LAST-MODIFIED:20241119T222037Z
UID:10000391-1732964400-1732978800@northernspiritrc.ca
SUMMARY:Christmas Sale and Santa's Gift Shop
DESCRIPTION:Get ready for Christmas. Come for a yummy lunch of beef on a bun and pie- or just to shop or browse. Check out the local vendors and a great selection of baking\, crafts\, gently used gifts and books. Santa will drop by for a visit at 1 pm\, and there will be shopping assistants available to help your kids to choose and wrap secret gifts for family members and friends. Free admission and gift wrapping.
URL:https://northernspiritrc.ca/event/christmas-sale-and-santas-gift-shop-2/
LOCATION:Spirit of Hope United Church\, 7909 82 Ave NW\, Edmonton\, AB\, Canada
CATEGORIES:Community events
ATTACH;FMTTYPE=image/jpeg:https://northernspiritrc.ca/wp-content/uploads/2024/11/2024-final-Christmas-Sale.jpg
ORGANIZER;CN="Spirit of Hope United Church":MAILTO:officeadmin@spiritofhope.ca
END:VEVENT
BEGIN:VEVENT
DTSTART;TZID=America/Edmonton:20241130T130000
DTEND;TZID=America/Edmonton:20241130T160000
DTSTAMP:20260420T083957
CREATED:20241031T151639Z
LAST-MODIFIED:20241031T151639Z
UID:10000382-1732971600-1732982400@northernspiritrc.ca
SUMMARY:Christmas Tea\, Bake Sale & Silent Auction
DESCRIPTION:Enjoy an afternoon out at Trinity United Church. You can buy delicious baking and other sweet and savoury treats\, and bid on many beautiful gift baskets. We will be serving tea and refreshments. We hope to see you here.
URL:https://northernspiritrc.ca/event/christmas-tea-bake-sale-silent-auction/
LOCATION:Trinity United Church\, 8810 Meadowlark Rd NW\, Edmonton\, Alberta\, T5R 5W6\, Canada
CATEGORIES:Community events
ATTACH;FMTTYPE=image/jpeg:https://northernspiritrc.ca/wp-content/uploads/2024/10/Poster-Christmas-Tea.jpg
ORGANIZER;CN="Trinity United Church":MAILTO:office@tucedm.ca
END:VEVENT
END:VCALENDAR