BEGIN:VCALENDAR
VERSION:2.0
PRODID:-//Northern Spirit Regional Council - ECPv6.15.20//NONSGML v1.0//EN
CALSCALE:GREGORIAN
METHOD:PUBLISH
X-ORIGINAL-URL:https://northernspiritrc.ca
X-WR-CALDESC:Events for Northern Spirit Regional Council
REFRESH-INTERVAL;VALUE=DURATION:PT1H
X-Robots-Tag:noindex
X-PUBLISHED-TTL:PT1H
BEGIN:VTIMEZONE
TZID:America/Edmonton
BEGIN:DAYLIGHT
TZOFFSETFROM:-0700
TZOFFSETTO:-0600
TZNAME:MDT
DTSTART:20230312T090000
END:DAYLIGHT
BEGIN:STANDARD
TZOFFSETFROM:-0600
TZOFFSETTO:-0700
TZNAME:MST
DTSTART:20231105T080000
END:STANDARD
BEGIN:DAYLIGHT
TZOFFSETFROM:-0700
TZOFFSETTO:-0600
TZNAME:MDT
DTSTART:20240310T090000
END:DAYLIGHT
BEGIN:STANDARD
TZOFFSETFROM:-0600
TZOFFSETTO:-0700
TZNAME:MST
DTSTART:20241103T080000
END:STANDARD
BEGIN:DAYLIGHT
TZOFFSETFROM:-0700
TZOFFSETTO:-0600
TZNAME:MDT
DTSTART:20250309T090000
END:DAYLIGHT
BEGIN:STANDARD
TZOFFSETFROM:-0600
TZOFFSETTO:-0700
TZNAME:MST
DTSTART:20251102T080000
END:STANDARD
END:VTIMEZONE
BEGIN:VEVENT
DTSTART;TZID=America/Edmonton:20241123T110000
DTEND;TZID=America/Edmonton:20241123T160000
DTSTAMP:20260420T095412
CREATED:20241112T162152Z
LAST-MODIFIED:20241112T162152Z
UID:10000384-1732359600-1732377600@northernspiritrc.ca
SUMMARY:Christmas Tea & Market
DESCRIPTION:Strathearn United: 8510-95 Ave NW\, (elevator access at back door)\nFeaturing: Christmas Tea $5 (beverage & 2 treats – also gluten free); Bake Sale; Craft & Hobby Vendors (including wood carving\, tatting\, jewelry\, honey\, botanicals\, Epicure\, assorted sewn items\, and more); Next-to-New Shop\, Christmas items\, Books & Puzzles.
URL:https://northernspiritrc.ca/event/christmas-tea-market/
LOCATION:Strathearn United Church\, 8510 95 Avenue NW\, Edmonton\, Alberta\, T6C 1Y7
CATEGORIES:Community events
ATTACH;FMTTYPE=image/jpeg:https://northernspiritrc.ca/wp-content/uploads/2024/11/Stacked-Teacups.jpg
ORGANIZER;CN="Rena Spiess":MAILTO:strathearn@shaw.ca
END:VEVENT
END:VCALENDAR