BEGIN:VCALENDAR
VERSION:2.0
PRODID:-//Northern Spirit Regional Council - ECPv6.15.20//NONSGML v1.0//EN
CALSCALE:GREGORIAN
METHOD:PUBLISH
X-WR-CALNAME:Northern Spirit Regional Council
X-ORIGINAL-URL:https://northernspiritrc.ca
X-WR-CALDESC:Events for Northern Spirit Regional Council
REFRESH-INTERVAL;VALUE=DURATION:PT1H
X-Robots-Tag:noindex
X-PUBLISHED-TTL:PT1H
BEGIN:VTIMEZONE
TZID:America/Edmonton
BEGIN:DAYLIGHT
TZOFFSETFROM:-0700
TZOFFSETTO:-0600
TZNAME:MDT
DTSTART:20230312T090000
END:DAYLIGHT
BEGIN:STANDARD
TZOFFSETFROM:-0600
TZOFFSETTO:-0700
TZNAME:MST
DTSTART:20231105T080000
END:STANDARD
BEGIN:DAYLIGHT
TZOFFSETFROM:-0700
TZOFFSETTO:-0600
TZNAME:MDT
DTSTART:20240310T090000
END:DAYLIGHT
BEGIN:STANDARD
TZOFFSETFROM:-0600
TZOFFSETTO:-0700
TZNAME:MST
DTSTART:20241103T080000
END:STANDARD
BEGIN:DAYLIGHT
TZOFFSETFROM:-0700
TZOFFSETTO:-0600
TZNAME:MDT
DTSTART:20250309T090000
END:DAYLIGHT
BEGIN:STANDARD
TZOFFSETFROM:-0600
TZOFFSETTO:-0700
TZNAME:MST
DTSTART:20251102T080000
END:STANDARD
END:VTIMEZONE
BEGIN:VEVENT
DTSTART;TZID=America/Edmonton:20241107T173000
DTEND;TZID=America/Edmonton:20241107T193000
DTSTAMP:20260420T095252
CREATED:20241022T160722Z
LAST-MODIFIED:20241022T160722Z
UID:10000376-1731000600-1731007800@northernspiritrc.ca
SUMMARY:Kirk Centre's Free Community Dinner
DESCRIPTION:Kirk Centre Free Community Dinner\n🌟 **Join Us in a Heartwarming Fall Feast!** 🍽️ \n**Date:** November 7 2024 \n**Time:** 5:30 PM \n**Venue:** Kirk Centre 13535 122 Ave NW Edmonton AB T5L 2V7 Canada Edmonton \n🎉 *Join us for an Evening of Community!* 🎉 \nImmerse yourself in the spirit of community and generosity at Kirk Centre for a Free Community Dinner! Hosted by **Kirk Centre** this community minded event is designed to bring people together over a shared meal and create lasting connections within the local community. \nAdmission is Free – Register online call 780-438-6619 or email kirkuccentre@gmail.com \nhttps://www.kirkcentre.ca/upcoming-events \n👉 Indulge in a delectable feast prepared with love and care. \n👉 Connect with fellow community members in a warm and welcoming atmosphere. \nWhether you are a long-time resident\, a newcomer or simply looking to share a meal with friendly faces\, Kirk Centre’s Free Community Dinner promises an evening of joy\, connection and delicious food. Join us at Kirk Centre on November 7th at 5:30 PM to experience the power of community firsthand. \nDon’t miss out on this opportunity to forge new friendships and create memories. Come hungry\, leave happy! Mark your calendars and register your spot today! \nLet’s dine together and create unforgettable moments. See you there! 🌟🍴
URL:https://northernspiritrc.ca/event/kirk-centres-free-community-dinner/
LOCATION:Kirk United Church Community Centre\, 13535 122 Ave NW\, Edmonton\, Alberta\, T5L 2V7\, Canada
CATEGORIES:Community events
ATTACH;FMTTYPE=image/jpeg:https://northernspiritrc.ca/wp-content/uploads/2024/10/Nov-7-2024-Dinner-Poster.jpg
END:VEVENT
END:VCALENDAR