BEGIN:VCALENDAR
VERSION:2.0
PRODID:-//Northern Spirit Regional Council - ECPv6.15.20//NONSGML v1.0//EN
CALSCALE:GREGORIAN
METHOD:PUBLISH
X-ORIGINAL-URL:https://northernspiritrc.ca
X-WR-CALDESC:Events for Northern Spirit Regional Council
REFRESH-INTERVAL;VALUE=DURATION:PT1H
X-Robots-Tag:noindex
X-PUBLISHED-TTL:PT1H
BEGIN:VTIMEZONE
TZID:America/Edmonton
BEGIN:DAYLIGHT
TZOFFSETFROM:-0700
TZOFFSETTO:-0600
TZNAME:MDT
DTSTART:20230312T090000
END:DAYLIGHT
BEGIN:STANDARD
TZOFFSETFROM:-0600
TZOFFSETTO:-0700
TZNAME:MST
DTSTART:20231105T080000
END:STANDARD
BEGIN:DAYLIGHT
TZOFFSETFROM:-0700
TZOFFSETTO:-0600
TZNAME:MDT
DTSTART:20240310T090000
END:DAYLIGHT
BEGIN:STANDARD
TZOFFSETFROM:-0600
TZOFFSETTO:-0700
TZNAME:MST
DTSTART:20241103T080000
END:STANDARD
BEGIN:DAYLIGHT
TZOFFSETFROM:-0700
TZOFFSETTO:-0600
TZNAME:MDT
DTSTART:20250309T090000
END:DAYLIGHT
BEGIN:STANDARD
TZOFFSETFROM:-0600
TZOFFSETTO:-0700
TZNAME:MST
DTSTART:20251102T080000
END:STANDARD
END:VTIMEZONE
BEGIN:VEVENT
DTSTART;TZID=America/Edmonton:20241023T100000
DTEND;TZID=America/Edmonton:20241023T150000
DTSTAMP:20260420T112241
CREATED:20241024T154919Z
LAST-MODIFIED:20241024T154919Z
UID:10000378-1729677600-1729695600@northernspiritrc.ca
SUMMARY:Chalmers-Castle Downs Christmas Market & Bake Sale
DESCRIPTION:Chalmers-Castle Downs United in Edmonton (12315 132 Avenue NW) is hosting a Christmas Market & Bake Sale\, Saturday Nov.23rd\, 10am to 3pm. \nStart your Christmas shopping by supporting local artisans and home-based businesses. We will also have a table of seasonal decor items for sale by donation.
URL:https://northernspiritrc.ca/event/chalmers-castle-downs-christmas-market-bake-sale/
LOCATION:Chalmers-Castle Downs United Church\, 12315 132 Ave NW\, Edmonton\, Alberta\, T5L3P6\, Canada
CATEGORIES:Community events
ATTACH;FMTTYPE=image/png:https://northernspiritrc.ca/wp-content/uploads/2024/10/Beige-Green-and-Red-Cute-Illustrated-Christmas-Market-Event-Flyer_23Oct2024.png
ORGANIZER;CN="Chalmers-Castle Downs United Church":MAILTO:office@ccduc.org
END:VEVENT
END:VCALENDAR