BEGIN:VCALENDAR
VERSION:2.0
PRODID:-//Northern Spirit Regional Council - ECPv6.15.20//NONSGML v1.0//EN
CALSCALE:GREGORIAN
METHOD:PUBLISH
X-WR-CALNAME:Northern Spirit Regional Council
X-ORIGINAL-URL:https://northernspiritrc.ca
X-WR-CALDESC:Events for Northern Spirit Regional Council
REFRESH-INTERVAL;VALUE=DURATION:PT1H
X-Robots-Tag:noindex
X-PUBLISHED-TTL:PT1H
BEGIN:VTIMEZONE
TZID:America/Edmonton
BEGIN:DAYLIGHT
TZOFFSETFROM:-0700
TZOFFSETTO:-0600
TZNAME:MDT
DTSTART:20230312T090000
END:DAYLIGHT
BEGIN:STANDARD
TZOFFSETFROM:-0600
TZOFFSETTO:-0700
TZNAME:MST
DTSTART:20231105T080000
END:STANDARD
BEGIN:DAYLIGHT
TZOFFSETFROM:-0700
TZOFFSETTO:-0600
TZNAME:MDT
DTSTART:20240310T090000
END:DAYLIGHT
BEGIN:STANDARD
TZOFFSETFROM:-0600
TZOFFSETTO:-0700
TZNAME:MST
DTSTART:20241103T080000
END:STANDARD
BEGIN:DAYLIGHT
TZOFFSETFROM:-0700
TZOFFSETTO:-0600
TZNAME:MDT
DTSTART:20250309T090000
END:DAYLIGHT
BEGIN:STANDARD
TZOFFSETFROM:-0600
TZOFFSETTO:-0700
TZNAME:MST
DTSTART:20251102T080000
END:STANDARD
END:VTIMEZONE
BEGIN:VEVENT
DTSTART;TZID=America/Edmonton:20241019T180000
DTEND;TZID=America/Edmonton:20241019T203000
DTSTAMP:20260420T112221
CREATED:20241017T183613Z
LAST-MODIFIED:20241017T183613Z
UID:10000372-1729360800-1729369800@northernspiritrc.ca
SUMMARY:Understanding Suffering Through the Lens of Faith ~ Women’s Interfaith Dialogue
DESCRIPTION:Women of all faith backgrounds are invited to join us at Baitul Hadi Mosque\, Ahmadiyya Muslim Jamaat (7005 98 Avenue Northwest Edmonton\, AB T6A 0A6) on Sat\, Oct 19\, 2024 6:00 PM – 8:30 PM for a thought-provoking event. \nSpeakers from various faith will explore the concept of suffering from a faith perspective. Through engaging discussions and insightful talks\, we will delve into how our beliefs can provide comfort and understanding during times of hardship. \nDon’t miss this opportunity to gain a new perspective on suffering and strengthen your faith! \nThere are speakers from Islamic\, Sikh\, Jewish and Christian backgrounds. Rev. Chelsea Masterman from Grace United Church will be the Christian speaker. \nRegistration is free; please register here: https://www.eventbrite.ca/e/understanding-suffering-through-the-lens-of-faith-tickets-1027698091657
URL:https://northernspiritrc.ca/event/understanding-suffering-through-the-lens-of-faith-womens-interfaith-dialogue/
LOCATION:Baitul Hadi Mosque\, Ahmadiyya Muslim Jamaat\, 7005 98 Avenue Northwest\, Edmonton\, Alberta\, T6A 0A6\, Canada
CATEGORIES:Community events,Intercultural
ATTACH;FMTTYPE=image/jpeg:https://northernspiritrc.ca/wp-content/uploads/2024/10/Ahmadiyya-Muslim-Womens-Association-Interfaith-Symposium.jpg
END:VEVENT
END:VCALENDAR