BEGIN:VCALENDAR
VERSION:2.0
PRODID:-//Northern Spirit Regional Council - ECPv6.15.20//NONSGML v1.0//EN
CALSCALE:GREGORIAN
METHOD:PUBLISH
X-ORIGINAL-URL:https://northernspiritrc.ca
X-WR-CALDESC:Events for Northern Spirit Regional Council
REFRESH-INTERVAL;VALUE=DURATION:PT1H
X-Robots-Tag:noindex
X-PUBLISHED-TTL:PT1H
BEGIN:VTIMEZONE
TZID:America/Edmonton
BEGIN:DAYLIGHT
TZOFFSETFROM:-0700
TZOFFSETTO:-0600
TZNAME:MDT
DTSTART:20230312T090000
END:DAYLIGHT
BEGIN:STANDARD
TZOFFSETFROM:-0600
TZOFFSETTO:-0700
TZNAME:MST
DTSTART:20231105T080000
END:STANDARD
BEGIN:DAYLIGHT
TZOFFSETFROM:-0700
TZOFFSETTO:-0600
TZNAME:MDT
DTSTART:20240310T090000
END:DAYLIGHT
BEGIN:STANDARD
TZOFFSETFROM:-0600
TZOFFSETTO:-0700
TZNAME:MST
DTSTART:20241103T080000
END:STANDARD
BEGIN:DAYLIGHT
TZOFFSETFROM:-0700
TZOFFSETTO:-0600
TZNAME:MDT
DTSTART:20250309T090000
END:DAYLIGHT
BEGIN:STANDARD
TZOFFSETFROM:-0600
TZOFFSETTO:-0700
TZNAME:MST
DTSTART:20251102T080000
END:STANDARD
END:VTIMEZONE
BEGIN:VEVENT
DTSTART;TZID=America/Edmonton:20241005T140000
DTEND;TZID=America/Edmonton:20241005T190000
DTSTAMP:20260420T112243
CREATED:20241001T190134Z
LAST-MODIFIED:20241001T190134Z
UID:10000369-1728136800-1728154800@northernspiritrc.ca
SUMMARY:Fall Fun Fest
DESCRIPTION:A variety of fun ‘camp’ activities will begin in the gym and lower hall at 2 pm. Later in the afternoon\, there will be a rousing camp singsong. You won’t want to miss the potluck supper at 5! Feel free to drop in for the whole afternoon – or just for supper (and s’mores). And bring friends and family. All are welcome.
URL:https://northernspiritrc.ca/event/fall-fun-fest/
LOCATION:Spirit of Hope United Church\, 7909 82 Ave NW\, Edmonton\, AB\, Canada
CATEGORIES:Community events,Youth and young adult
ATTACH;FMTTYPE=image/png:https://northernspiritrc.ca/wp-content/uploads/2024/09/Fall-Fun-Fest-2.png
ORGANIZER;CN="Spirit of Hope United Church":MAILTO:officeadmin@spiritofhope.ca
END:VEVENT
BEGIN:VEVENT
DTSTART;TZID=America/Edmonton:20241005T163000
DTEND;TZID=America/Edmonton:20241005T190000
DTSTAMP:20260420T112243
CREATED:20240923T153833Z
LAST-MODIFIED:20240923T153833Z
UID:10000366-1728145800-1728154800@northernspiritrc.ca
SUMMARY:Italian Dinner Fundraiser
DESCRIPTION:Trinity United Church invites you to our Italian Dinner Fundraiser:\nSaturday\, Oct 5th at 5pm\nCome for great food and community!\nTickets are $25 Doors open at 4:30 pm\nWine available for purchase.\nFor tickets\, call the church office at 780-489-0860 or email office@tucedm.ca\nLocated at 8810 Meadowlark Road
URL:https://northernspiritrc.ca/event/italian-dinner-fundraiser/
LOCATION:Trinity United Church\, 8810 Meadowlark Rd NW\, Edmonton\, Alberta\, T5R 5W6\, Canada
CATEGORIES:Community events
ATTACH;FMTTYPE=image/jpeg:https://northernspiritrc.ca/wp-content/uploads/2024/09/gabriella-clare-marino-FvgjdZ3hjkk-unsplash-scaled.jpg
ORGANIZER;CN="Trinity United Church":MAILTO:office@tucedm.ca
END:VEVENT
END:VCALENDAR