BEGIN:VCALENDAR
VERSION:2.0
PRODID:-//Northern Spirit Regional Council - ECPv6.15.20//NONSGML v1.0//EN
CALSCALE:GREGORIAN
METHOD:PUBLISH
X-WR-CALNAME:Northern Spirit Regional Council
X-ORIGINAL-URL:https://northernspiritrc.ca
X-WR-CALDESC:Events for Northern Spirit Regional Council
REFRESH-INTERVAL;VALUE=DURATION:PT1H
X-Robots-Tag:noindex
X-PUBLISHED-TTL:PT1H
BEGIN:VTIMEZONE
TZID:America/Edmonton
BEGIN:DAYLIGHT
TZOFFSETFROM:-0700
TZOFFSETTO:-0600
TZNAME:MDT
DTSTART:20230312T090000
END:DAYLIGHT
BEGIN:STANDARD
TZOFFSETFROM:-0600
TZOFFSETTO:-0700
TZNAME:MST
DTSTART:20231105T080000
END:STANDARD
BEGIN:DAYLIGHT
TZOFFSETFROM:-0700
TZOFFSETTO:-0600
TZNAME:MDT
DTSTART:20240310T090000
END:DAYLIGHT
BEGIN:STANDARD
TZOFFSETFROM:-0600
TZOFFSETTO:-0700
TZNAME:MST
DTSTART:20241103T080000
END:STANDARD
BEGIN:DAYLIGHT
TZOFFSETFROM:-0700
TZOFFSETTO:-0600
TZNAME:MDT
DTSTART:20250309T090000
END:DAYLIGHT
BEGIN:STANDARD
TZOFFSETFROM:-0600
TZOFFSETTO:-0700
TZNAME:MST
DTSTART:20251102T080000
END:STANDARD
END:VTIMEZONE
BEGIN:VEVENT
DTSTART;VALUE=DATE:20241001
DTEND;VALUE=DATE:20241005
DTSTAMP:20260420T112221
CREATED:20240410T155743Z
LAST-MODIFIED:20240410T155944Z
UID:10000313-1727740800-1728086399@northernspiritrc.ca
SUMMARY:UC Office Administrators' Conference
DESCRIPTION:The United Church Admin Network is busy planning the details for our Office Admin Conference. This is open to all United Church of Canada Office Administrators across Canada. This event is an opportunity to celebrate the work that they do\, network with other office administrators\, as well as provide some workshop and learning opportunities. \nThis event will be held at Home Inn & Suites in Saskatoon\, Saskatchewan from Tuesday October 1 to Friday October 4. \nThe event will be at a cost of:\n• $300/person if no accommodations are required\n• $475/person for a shared accommodation with one other person\n• $650/person for a private accommodation \n  \nClick here to access full details and registration form (PDF).
URL:https://northernspiritrc.ca/event/uc-office-administrators-conference/
LOCATION:Saskatoon\, Saskatchewan
CATEGORIES:Community events,Events
ATTACH;FMTTYPE=image/png:https://northernspiritrc.ca/wp-content/uploads/2024/04/UC-Office-ADministrators-Conference-5.png
END:VEVENT
BEGIN:VEVENT
DTSTART;TZID=America/Edmonton:20241001T160000
DTEND;TZID=America/Edmonton:20241004T120000
DTSTAMP:20260420T112221
CREATED:20240228T174411Z
LAST-MODIFIED:20240228T174606Z
UID:10000299-1727798400-1728043200@northernspiritrc.ca
SUMMARY:UCC Office Admin Conference!
DESCRIPTION:SAVE THE DATE: UCC Office Admin Conference!\nOctober 1-4\, 2024\nPlanning is underway for our next Office Administrator’s Conference at Home Inn & Suites in Saskatoon\, SK. This is a wonderful opportunity for us to connect\, learn and “fill our cup”. All Office Administrators throughout the United Church of Canada are invited and encouraged to attend! A registration package will be coming out in early April will more details\, along with a letter for support to provide to your M&P Committees. \nCOSTS:\nSingle accommodation: $600\nDouble accommodation: $475\nNo accommodation: $300 \nFor more information\, contact Chantal Winslow at cwinslow@united-church.ca
URL:https://northernspiritrc.ca/event/ucc-office-admin-conference/
LOCATION:Saskatoon\, Saskatchewan
ATTACH;FMTTYPE=image/jpeg:https://northernspiritrc.ca/wp-content/uploads/2024/02/UC-Office-ADministrators-Conference.jpg
END:VEVENT
END:VCALENDAR