BEGIN:VCALENDAR
VERSION:2.0
PRODID:-//Northern Spirit Regional Council - ECPv6.15.20//NONSGML v1.0//EN
CALSCALE:GREGORIAN
METHOD:PUBLISH
X-WR-CALNAME:Northern Spirit Regional Council
X-ORIGINAL-URL:https://northernspiritrc.ca
X-WR-CALDESC:Events for Northern Spirit Regional Council
REFRESH-INTERVAL;VALUE=DURATION:PT1H
X-Robots-Tag:noindex
X-PUBLISHED-TTL:PT1H
BEGIN:VTIMEZONE
TZID:America/Edmonton
BEGIN:DAYLIGHT
TZOFFSETFROM:-0700
TZOFFSETTO:-0600
TZNAME:MDT
DTSTART:20230312T090000
END:DAYLIGHT
BEGIN:STANDARD
TZOFFSETFROM:-0600
TZOFFSETTO:-0700
TZNAME:MST
DTSTART:20231105T080000
END:STANDARD
BEGIN:DAYLIGHT
TZOFFSETFROM:-0700
TZOFFSETTO:-0600
TZNAME:MDT
DTSTART:20240310T090000
END:DAYLIGHT
BEGIN:STANDARD
TZOFFSETFROM:-0600
TZOFFSETTO:-0700
TZNAME:MST
DTSTART:20241103T080000
END:STANDARD
BEGIN:DAYLIGHT
TZOFFSETFROM:-0700
TZOFFSETTO:-0600
TZNAME:MDT
DTSTART:20250309T090000
END:DAYLIGHT
BEGIN:STANDARD
TZOFFSETFROM:-0600
TZOFFSETTO:-0700
TZNAME:MST
DTSTART:20251102T080000
END:STANDARD
END:VTIMEZONE
BEGIN:VEVENT
DTSTART;TZID=America/Edmonton:20240905T190000
DTEND;TZID=America/Edmonton:20240905T220000
DTSTAMP:20260420T124708
CREATED:20240821T165128Z
LAST-MODIFIED:20240821T165128Z
UID:10000356-1725562800-1725573600@northernspiritrc.ca
SUMMARY:A Night With Jeffrey Straker
DESCRIPTION:Join us on Thursday\, September 5th\, 2024\, at 7 pm for a concert with a cause! Come enjoy some beautiful prairie-grown tunes by Jeffery Straker as he shares his music and stories in support of our hands-on refugee support. \nFor decades\, we’ve been fundraising\, facilitating\, and supporting small families and individuals seeking refuge in Edmonton. Every ticket purchase will go straight to this ongoing effort! \nTickets are on sale now at ssucedmonton.com and EventBrite!
URL:https://northernspiritrc.ca/event/a-night-with-jeffrey-straker/
LOCATION:Southminster-Steinhauer United Church\, 10740-19 Ave NW\, Edmonton\, AB\, T6J 6W9
CATEGORIES:Community events
ATTACH;FMTTYPE=image/png:https://northernspiritrc.ca/wp-content/uploads/2024/08/tickets-here-1.png
ORGANIZER;CN="Southminster-Steinhauer United Church":MAILTO:info@ssucedmonton.com
END:VEVENT
END:VCALENDAR