BEGIN:VCALENDAR
VERSION:2.0
PRODID:-//Northern Spirit Regional Council - ECPv6.15.20//NONSGML v1.0//EN
CALSCALE:GREGORIAN
METHOD:PUBLISH
X-WR-CALNAME:Northern Spirit Regional Council
X-ORIGINAL-URL:https://northernspiritrc.ca
X-WR-CALDESC:Events for Northern Spirit Regional Council
REFRESH-INTERVAL;VALUE=DURATION:PT1H
X-Robots-Tag:noindex
X-PUBLISHED-TTL:PT1H
BEGIN:VTIMEZONE
TZID:America/Edmonton
BEGIN:DAYLIGHT
TZOFFSETFROM:-0700
TZOFFSETTO:-0600
TZNAME:MDT
DTSTART:20230312T090000
END:DAYLIGHT
BEGIN:STANDARD
TZOFFSETFROM:-0600
TZOFFSETTO:-0700
TZNAME:MST
DTSTART:20231105T080000
END:STANDARD
BEGIN:DAYLIGHT
TZOFFSETFROM:-0700
TZOFFSETTO:-0600
TZNAME:MDT
DTSTART:20240310T090000
END:DAYLIGHT
BEGIN:STANDARD
TZOFFSETFROM:-0600
TZOFFSETTO:-0700
TZNAME:MST
DTSTART:20241103T080000
END:STANDARD
BEGIN:DAYLIGHT
TZOFFSETFROM:-0700
TZOFFSETTO:-0600
TZNAME:MDT
DTSTART:20250309T090000
END:DAYLIGHT
BEGIN:STANDARD
TZOFFSETFROM:-0600
TZOFFSETTO:-0700
TZNAME:MST
DTSTART:20251102T080000
END:STANDARD
END:VTIMEZONE
BEGIN:VEVENT
DTSTART;TZID=America/Edmonton:20240824T140000
DTEND;TZID=America/Edmonton:20240824T163000
DTSTAMP:20260420T112224
CREATED:20240724T173327Z
LAST-MODIFIED:20240724T173327Z
UID:10000354-1724508000-1724517000@northernspiritrc.ca
SUMMARY:Kirk Centre's Ethnocultural Free Community Event
DESCRIPTION:Featuring variety of performers from multiple ethnic backgrounds will perform in Kirk Centre’s parking lot from 2-4:30 pm on Saturday August 24th. This event is free to everyone and everyone is welcome! In case of inclement weather the show will go on\, and will be moved indoors.
URL:https://northernspiritrc.ca/event/kirk-centres-ethnocultural-free-community-event/
LOCATION:Kirk United Church Community Centre\, 13535 122 Ave NW\, Edmonton\, Alberta\, T5L 2V7\, Canada
CATEGORIES:Community events
ATTACH;FMTTYPE=image/png:https://northernspiritrc.ca/wp-content/uploads/2024/07/Kirk-Centre-Aug-24-2024-Event-Poster.png
END:VEVENT
END:VCALENDAR