BEGIN:VCALENDAR
VERSION:2.0
PRODID:-//Northern Spirit Regional Council - ECPv6.15.20//NONSGML v1.0//EN
CALSCALE:GREGORIAN
METHOD:PUBLISH
X-ORIGINAL-URL:https://northernspiritrc.ca
X-WR-CALDESC:Events for Northern Spirit Regional Council
REFRESH-INTERVAL;VALUE=DURATION:PT1H
X-Robots-Tag:noindex
X-PUBLISHED-TTL:PT1H
BEGIN:VTIMEZONE
TZID:America/Edmonton
BEGIN:DAYLIGHT
TZOFFSETFROM:-0700
TZOFFSETTO:-0600
TZNAME:MDT
DTSTART:20230312T090000
END:DAYLIGHT
BEGIN:STANDARD
TZOFFSETFROM:-0600
TZOFFSETTO:-0700
TZNAME:MST
DTSTART:20231105T080000
END:STANDARD
BEGIN:DAYLIGHT
TZOFFSETFROM:-0700
TZOFFSETTO:-0600
TZNAME:MDT
DTSTART:20240310T090000
END:DAYLIGHT
BEGIN:STANDARD
TZOFFSETFROM:-0600
TZOFFSETTO:-0700
TZNAME:MST
DTSTART:20241103T080000
END:STANDARD
BEGIN:DAYLIGHT
TZOFFSETFROM:-0700
TZOFFSETTO:-0600
TZNAME:MDT
DTSTART:20250309T090000
END:DAYLIGHT
BEGIN:STANDARD
TZOFFSETFROM:-0600
TZOFFSETTO:-0700
TZNAME:MST
DTSTART:20251102T080000
END:STANDARD
END:VTIMEZONE
BEGIN:VEVENT
DTSTART;TZID=America/Edmonton:20240823T190000
DTEND;TZID=America/Edmonton:20240823T210000
DTSTAMP:20260420T112245
CREATED:20240624T163027Z
LAST-MODIFIED:20240624T163027Z
UID:10000350-1724439600-1724446800@northernspiritrc.ca
SUMMARY:You're Amazing! Martin Kerr Concert
DESCRIPTION:Get ready to be amazed by the talented singer-songwriter Martin Kerr as he takes the stage at Spirit of Hope on Fri\, August 23 at 7 pm. Join us for an evening filled with beautiful music and positive vibes. Don’t miss out on this opportunity to experience Martin Kerr’s incredible performance live! See you there! \nMartin Kerr narrates moments as if they’re happening in real-time. The UK-born and Edmonton-based singer\, songwriter\, multi-instrumentalist\, and producer acutely focuses on the little things—the small details of his surroundings\, the looks exchanged in passing\, and the unspoken intention behind our words. He brings these nuances to the surface by superimposing unshakable singalongs over expressive folk instrumentation and inventive indie production. Now with millions of streams and thousands of shows under his belt\, he continues to magnetically pull listeners into his embrace on his upcoming 2024 EP\, After The Apocalypse. \nBeyond captivating crowds as a street-performer\, visiting 35 countries\, he has shared the stage with everyone from Sarah McLachlan to Dermot Kennedy and Walk Off The Earth. He catapulted to the Top 10 of the Canadian Album Sales Chart and #2 on the iTunes Canada Album Chart with his full-length debut\, Better Than Brand New. Then “You’re Amazing” buzzed into the Top 5 of the Spotify Viral Chart. Even in the middle of the lockdowns\, he kept bringing music to the masses. He transformed an alley next to a fan’s apartment into a stage and soon delivered “Stay Home Street Concerts” at a prolific pace\, performing 400 innovative live shows during the pandemic. His embrace of another perspective gave rise to After The Apocalypse.
URL:https://northernspiritrc.ca/event/youre-amazing-martin-kerr-concert/
LOCATION:Spirit of Hope United Church\, 7909 82 Ave NW\, Edmonton\, AB\, Canada
CATEGORIES:Community events
ATTACH;FMTTYPE=image/png:https://northernspiritrc.ca/wp-content/uploads/2024/06/Martin-Kerr.png
ORGANIZER;CN="Spirit of Hope United Church":MAILTO:officeadmin@spiritofhope.ca
END:VEVENT
END:VCALENDAR