BEGIN:VCALENDAR
VERSION:2.0
PRODID:-//Northern Spirit Regional Council - ECPv6.15.20//NONSGML v1.0//EN
CALSCALE:GREGORIAN
METHOD:PUBLISH
X-WR-CALNAME:Northern Spirit Regional Council
X-ORIGINAL-URL:https://northernspiritrc.ca
X-WR-CALDESC:Events for Northern Spirit Regional Council
REFRESH-INTERVAL;VALUE=DURATION:PT1H
X-Robots-Tag:noindex
X-PUBLISHED-TTL:PT1H
BEGIN:VTIMEZONE
TZID:America/Edmonton
BEGIN:DAYLIGHT
TZOFFSETFROM:-0700
TZOFFSETTO:-0600
TZNAME:MDT
DTSTART:20230312T090000
END:DAYLIGHT
BEGIN:STANDARD
TZOFFSETFROM:-0600
TZOFFSETTO:-0700
TZNAME:MST
DTSTART:20231105T080000
END:STANDARD
BEGIN:DAYLIGHT
TZOFFSETFROM:-0700
TZOFFSETTO:-0600
TZNAME:MDT
DTSTART:20240310T090000
END:DAYLIGHT
BEGIN:STANDARD
TZOFFSETFROM:-0600
TZOFFSETTO:-0700
TZNAME:MST
DTSTART:20241103T080000
END:STANDARD
BEGIN:DAYLIGHT
TZOFFSETFROM:-0700
TZOFFSETTO:-0600
TZNAME:MDT
DTSTART:20250309T090000
END:DAYLIGHT
BEGIN:STANDARD
TZOFFSETFROM:-0600
TZOFFSETTO:-0700
TZNAME:MST
DTSTART:20251102T080000
END:STANDARD
END:VTIMEZONE
BEGIN:VEVENT
DTSTART;TZID=America/Edmonton:20240801T183000
DTEND;TZID=America/Edmonton:20240801T193000
DTSTAMP:20260420T094906
CREATED:20240710T154925Z
LAST-MODIFIED:20240710T154925Z
UID:10000352-1722537000-1722540600@northernspiritrc.ca
SUMMARY:Emancipation Day Service
DESCRIPTION:Pilgrim United Church will be holding a worship service to commemorate Emancipation Day. Theme “Still Singing the Songs of Freedom”. All invited to attend.
URL:https://northernspiritrc.ca/event/emancipation-day-service/
LOCATION:Pilgrim United Church\, 9008-135 Ave. NW\, Edmonton\, Alberta\, T5E 1N4\, Canada
CATEGORIES:Intercultural
ATTACH;FMTTYPE=image/jpeg:https://northernspiritrc.ca/wp-content/uploads/2024/07/EMAN-2024_page-0001.jpg
ORGANIZER;CN="Pilgrim United Church":MAILTO:Pilgrim@pilgrimunitedchurch.com
END:VEVENT
END:VCALENDAR