BEGIN:VCALENDAR
VERSION:2.0
PRODID:-//Northern Spirit Regional Council - ECPv6.15.20//NONSGML v1.0//EN
CALSCALE:GREGORIAN
METHOD:PUBLISH
X-WR-CALNAME:Northern Spirit Regional Council
X-ORIGINAL-URL:https://northernspiritrc.ca
X-WR-CALDESC:Events for Northern Spirit Regional Council
REFRESH-INTERVAL;VALUE=DURATION:PT1H
X-Robots-Tag:noindex
X-PUBLISHED-TTL:PT1H
BEGIN:VTIMEZONE
TZID:America/Edmonton
BEGIN:DAYLIGHT
TZOFFSETFROM:-0700
TZOFFSETTO:-0600
TZNAME:MDT
DTSTART:20230312T090000
END:DAYLIGHT
BEGIN:STANDARD
TZOFFSETFROM:-0600
TZOFFSETTO:-0700
TZNAME:MST
DTSTART:20231105T080000
END:STANDARD
BEGIN:DAYLIGHT
TZOFFSETFROM:-0700
TZOFFSETTO:-0600
TZNAME:MDT
DTSTART:20240310T090000
END:DAYLIGHT
BEGIN:STANDARD
TZOFFSETFROM:-0600
TZOFFSETTO:-0700
TZNAME:MST
DTSTART:20241103T080000
END:STANDARD
BEGIN:DAYLIGHT
TZOFFSETFROM:-0700
TZOFFSETTO:-0600
TZNAME:MDT
DTSTART:20250309T090000
END:DAYLIGHT
BEGIN:STANDARD
TZOFFSETFROM:-0600
TZOFFSETTO:-0700
TZNAME:MST
DTSTART:20251102T080000
END:STANDARD
END:VTIMEZONE
BEGIN:VEVENT
DTSTART;TZID=America/Edmonton:20240713T100000
DTEND;TZID=America/Edmonton:20240713T160000
DTSTAMP:20260420T094906
CREATED:20240508T155314Z
LAST-MODIFIED:20240508T155314Z
UID:10000343-1720864800-1720886400@northernspiritrc.ca
SUMMARY:Care of Creation Town and Country Garden Tour
DESCRIPTION:Enjoy a day in the sunshine\, tour beautiful gardens and celebrate God’s creation! \nThe tour is self-directed. On the morning of the tour\, present your ticket at Living Spirit United Church\, 5141 54th Street (between the Thrift Store and the RCMP station). Your ticket will be exchanged for a program providing the name\, address and brief description of the participants gardens. Choose which spaces you want to see and ENJOY! Each host will have a sign in their front yard\, directing you to their garden space. \nTickets are available for purchase at Value Drug Mart\, or the morning of the tour at the Living Spirit United Church.\n$15.00/Adult over age 16 years\nUnder age 16 are FREE! \n  \nAll proceeds to the Canadian Foodgrains Bank.
URL:https://northernspiritrc.ca/event/care-of-creation-town-and-country-garden-tour/
LOCATION:Living Spirit United Church\, 5141–54 Street\, Drayton Valley\, AB\, T7A 1S3\, Canada
CATEGORIES:Community events
ATTACH;FMTTYPE=application/pdf:https://northernspiritrc.ca/wp-content/uploads/2024/05/Garden-Tour-Poster-2024.pdf
END:VEVENT
END:VCALENDAR