BEGIN:VCALENDAR
VERSION:2.0
PRODID:-//Northern Spirit Regional Council - ECPv6.15.20//NONSGML v1.0//EN
CALSCALE:GREGORIAN
METHOD:PUBLISH
X-ORIGINAL-URL:https://northernspiritrc.ca
X-WR-CALDESC:Events for Northern Spirit Regional Council
REFRESH-INTERVAL;VALUE=DURATION:PT1H
X-Robots-Tag:noindex
X-PUBLISHED-TTL:PT1H
BEGIN:VTIMEZONE
TZID:America/Edmonton
BEGIN:DAYLIGHT
TZOFFSETFROM:-0700
TZOFFSETTO:-0600
TZNAME:MDT
DTSTART:20230312T090000
END:DAYLIGHT
BEGIN:STANDARD
TZOFFSETFROM:-0600
TZOFFSETTO:-0700
TZNAME:MST
DTSTART:20231105T080000
END:STANDARD
BEGIN:DAYLIGHT
TZOFFSETFROM:-0700
TZOFFSETTO:-0600
TZNAME:MDT
DTSTART:20240310T090000
END:DAYLIGHT
BEGIN:STANDARD
TZOFFSETFROM:-0600
TZOFFSETTO:-0700
TZNAME:MST
DTSTART:20241103T080000
END:STANDARD
BEGIN:DAYLIGHT
TZOFFSETFROM:-0700
TZOFFSETTO:-0600
TZNAME:MDT
DTSTART:20250309T090000
END:DAYLIGHT
BEGIN:STANDARD
TZOFFSETFROM:-0600
TZOFFSETTO:-0700
TZNAME:MST
DTSTART:20251102T080000
END:STANDARD
END:VTIMEZONE
BEGIN:VEVENT
DTSTART;VALUE=DATE:20240617
DTEND;VALUE=DATE:20240629
DTSTAMP:20260420T082941
CREATED:20240508T201237Z
LAST-MODIFIED:20240508T201237Z
UID:10000341-1718582400-1719619199@northernspiritrc.ca
SUMMARY:Learning on Purpose 2024: CCS's intensive leadership development course
DESCRIPTION:Leadership doesn’t have to mean a business suit and a firm handshake. It doesn’t require a flashy persona and all the hippest jargon. It’s not about having the power to call all the shots. \nThe Centre for Christian Studies is grounded in the diaconal tradition\, which means being the church in the world. It means standing with those who are marginalized. It means leadership that empowers others\, and it’s grounded in a theology of justice. \nAt Learning on Purpose you’ll explore models of leadership and approaches to theology\, education\, pastoral care\, and social justice that empower and create change. \nLearning on Purpose: Changing Leadership for a Changing World is the Centre for Christian Studies’ 2-week intensive leadership development module. It is a practical\, holistic\, hands-on\, learning community experience\, and those who take it come out feeling transformed (in a good way!). \nLearning on Purpose 2024 will be held in Ste. Anne-de-Bellevue (Montreal)\, QC from June 17 – 28. \nIt is open to Continuing Studies students who want to be better leaders as well as CCS diaconal ministry and certificate students starting their programs.
URL:https://northernspiritrc.ca/event/learning-on-purpose-2024-ccss-intensive-leadership-development-course/
LOCATION:Ste. Anne-de-Bellevue\, Montreal\, QC\, Canada
CATEGORIES:Events
ATTACH;FMTTYPE=image/png:https://northernspiritrc.ca/wp-content/uploads/2024/05/CCS-logo-2017.png
ORGANIZER;CN="Centre for Christian Studies":MAILTO:info@ccsonline.ca
END:VEVENT
END:VCALENDAR