BEGIN:VCALENDAR
VERSION:2.0
PRODID:-//Northern Spirit Regional Council - ECPv6.15.20//NONSGML v1.0//EN
CALSCALE:GREGORIAN
METHOD:PUBLISH
X-ORIGINAL-URL:https://northernspiritrc.ca
X-WR-CALDESC:Events for Northern Spirit Regional Council
REFRESH-INTERVAL;VALUE=DURATION:PT1H
X-Robots-Tag:noindex
X-PUBLISHED-TTL:PT1H
BEGIN:VTIMEZONE
TZID:America/Edmonton
BEGIN:DAYLIGHT
TZOFFSETFROM:-0700
TZOFFSETTO:-0600
TZNAME:MDT
DTSTART:20230312T090000
END:DAYLIGHT
BEGIN:STANDARD
TZOFFSETFROM:-0600
TZOFFSETTO:-0700
TZNAME:MST
DTSTART:20231105T080000
END:STANDARD
BEGIN:DAYLIGHT
TZOFFSETFROM:-0700
TZOFFSETTO:-0600
TZNAME:MDT
DTSTART:20240310T090000
END:DAYLIGHT
BEGIN:STANDARD
TZOFFSETFROM:-0600
TZOFFSETTO:-0700
TZNAME:MST
DTSTART:20241103T080000
END:STANDARD
BEGIN:DAYLIGHT
TZOFFSETFROM:-0700
TZOFFSETTO:-0600
TZNAME:MDT
DTSTART:20250309T090000
END:DAYLIGHT
BEGIN:STANDARD
TZOFFSETFROM:-0600
TZOFFSETTO:-0700
TZNAME:MST
DTSTART:20251102T080000
END:STANDARD
END:VTIMEZONE
BEGIN:VEVENT
DTSTART;TZID=America/Edmonton:20240609T123000
DTEND;TZID=America/Edmonton:20240609T143000
DTSTAMP:20260420T082618
CREATED:20240523T153154Z
LAST-MODIFIED:20240523T153154Z
UID:10000346-1717936200-1717943400@northernspiritrc.ca
SUMMARY:1946: The Mistranslation That Shifted Culture
DESCRIPTION:Everyone is welcome to watch this enlightening\, inspiring and challenging documentary at Spirit of Hope. An online discussion will follow at 7 pm for those who are interested in joining. \n1946: The Mistranslation That Shifted Culture is a feature documentary that follows the story of tireless researchers who trace the origins of the anti-gay movement among Christians to a grave mistranslation of the Bible in 1946. It chronicles the discovery of never-before-seen archives at Yale University which unveil astonishing new revelations\, and casts significant doubt on any biblical basis for LGBTQIA+ prejudice. Featuring commentary from prominent scholars as well as opposing pastors\, including the personal stories of the film’s creators.
URL:https://northernspiritrc.ca/event/1946-the-mistranslation-that-shifted-culture/
LOCATION:Spirit of Hope United Church\, 7909 82 Ave NW\, Edmonton\, AB\, Canada
CATEGORIES:Community events,LGBTQIA2S+
ATTACH;FMTTYPE=image/jpeg:https://northernspiritrc.ca/wp-content/uploads/2024/05/442471548_858877316266668_1717039112368622546_n.jpg
ORGANIZER;CN="Spirit of Hope United Church":MAILTO:officeadmin@spiritofhope.ca
END:VEVENT
END:VCALENDAR