BEGIN:VCALENDAR
VERSION:2.0
PRODID:-//Northern Spirit Regional Council - ECPv6.15.20//NONSGML v1.0//EN
CALSCALE:GREGORIAN
METHOD:PUBLISH
X-WR-CALNAME:Northern Spirit Regional Council
X-ORIGINAL-URL:https://northernspiritrc.ca
X-WR-CALDESC:Events for Northern Spirit Regional Council
REFRESH-INTERVAL;VALUE=DURATION:PT1H
X-Robots-Tag:noindex
X-PUBLISHED-TTL:PT1H
BEGIN:VTIMEZONE
TZID:America/Edmonton
BEGIN:DAYLIGHT
TZOFFSETFROM:-0700
TZOFFSETTO:-0600
TZNAME:MDT
DTSTART:20230312T090000
END:DAYLIGHT
BEGIN:STANDARD
TZOFFSETFROM:-0600
TZOFFSETTO:-0700
TZNAME:MST
DTSTART:20231105T080000
END:STANDARD
BEGIN:DAYLIGHT
TZOFFSETFROM:-0700
TZOFFSETTO:-0600
TZNAME:MDT
DTSTART:20240310T090000
END:DAYLIGHT
BEGIN:STANDARD
TZOFFSETFROM:-0600
TZOFFSETTO:-0700
TZNAME:MST
DTSTART:20241103T080000
END:STANDARD
BEGIN:DAYLIGHT
TZOFFSETFROM:-0700
TZOFFSETTO:-0600
TZNAME:MDT
DTSTART:20250309T090000
END:DAYLIGHT
BEGIN:STANDARD
TZOFFSETFROM:-0600
TZOFFSETTO:-0700
TZNAME:MST
DTSTART:20251102T080000
END:STANDARD
END:VTIMEZONE
BEGIN:VEVENT
DTSTART;TZID=America/Edmonton:20240529T183000
DTEND;TZID=America/Edmonton:20240529T200000
DTSTAMP:20260420T070029
CREATED:20240507T235738Z
LAST-MODIFIED:20240507T235738Z
UID:10000342-1717007400-1717012800@northernspiritrc.ca
SUMMARY:The United Church at 100: Centennial planning workshop
DESCRIPTION:Wednesday 29 May 2024\,  6:30PM MDT\nThe United Church turns 100 in June 2025! Join our Regional archivists\, Leanne Templeton and Erin Acland\, and other resource people\, and we’ll look at resources for creatively commemorating this anniversary in your context. We’ll talk about local\, Regional\, and national ideas together- both the celebrations\, and the anniversary opportunity to look at where we’ve been as a church\, and where the future might take us. Come with your ideas and questions\, and be ready to bring some ideas back to your community and ministry! Have a look at the new Centennial website\, too\, and sign up for the newsletter.\nZoom info: \nhttps://united-church.zoom.us/j/86218269850?pwd=lCZejc0bMvaHbGpPNjVK6zabthRDaw.1 \nMeeting ID: 862 1826 9850         Password: 507752          1 855 703 8985 Canada Toll-free
URL:https://northernspiritrc.ca/event/the-united-church-at-100-centennial-planning-workshop/
LOCATION:Zoom
CATEGORIES:100th Anniversary of the UCC,Regional event
ATTACH;FMTTYPE=image/png:https://northernspiritrc.ca/wp-content/uploads/2024/05/EN_Centennial_logo_w_dates.png
END:VEVENT
END:VCALENDAR