BEGIN:VCALENDAR
VERSION:2.0
PRODID:-//Northern Spirit Regional Council - ECPv6.15.20//NONSGML v1.0//EN
CALSCALE:GREGORIAN
METHOD:PUBLISH
X-WR-CALNAME:Northern Spirit Regional Council
X-ORIGINAL-URL:https://northernspiritrc.ca
X-WR-CALDESC:Events for Northern Spirit Regional Council
REFRESH-INTERVAL;VALUE=DURATION:PT1H
X-Robots-Tag:noindex
X-PUBLISHED-TTL:PT1H
BEGIN:VTIMEZONE
TZID:America/Edmonton
BEGIN:DAYLIGHT
TZOFFSETFROM:-0700
TZOFFSETTO:-0600
TZNAME:MDT
DTSTART:20230312T090000
END:DAYLIGHT
BEGIN:STANDARD
TZOFFSETFROM:-0600
TZOFFSETTO:-0700
TZNAME:MST
DTSTART:20231105T080000
END:STANDARD
BEGIN:DAYLIGHT
TZOFFSETFROM:-0700
TZOFFSETTO:-0600
TZNAME:MDT
DTSTART:20240310T090000
END:DAYLIGHT
BEGIN:STANDARD
TZOFFSETFROM:-0600
TZOFFSETTO:-0700
TZNAME:MST
DTSTART:20241103T080000
END:STANDARD
BEGIN:DAYLIGHT
TZOFFSETFROM:-0700
TZOFFSETTO:-0600
TZNAME:MDT
DTSTART:20250309T090000
END:DAYLIGHT
BEGIN:STANDARD
TZOFFSETFROM:-0600
TZOFFSETTO:-0700
TZNAME:MST
DTSTART:20251102T080000
END:STANDARD
END:VTIMEZONE
BEGIN:VEVENT
DTSTART;TZID=America/Edmonton:20240525T160000
DTEND;TZID=America/Edmonton:20240525T180000
DTSTAMP:20260420T063712
CREATED:20240521T181435Z
LAST-MODIFIED:20240521T181603Z
UID:10000345-1716652800-1716660000@northernspiritrc.ca
SUMMARY:Gaza Ceasefire Pilgrimage Edmonton
DESCRIPTION:The Gaza ceasefire pilgrimage\, has been initiated by Christian communities globally as a prayerful act of solidarity amid the ongoing conflict in Gaza. This symbolic gesture aims to promote peace and demonstrates our commitment to supporting the people of Gaza during these challenging times. As described on the official website\, the Gaza Ceasefire Pilgrimage is a meditative immersion into the suffering experienced by the people of Palestine. Each step taken is a prayer for every life lost since the occupation re-entered the news cycle following the tragedy of October 7th\, 2023. \nWe’ve chosen to organize a 4 km walk here in Edmonton to represent the 41 km length of Gaza. It’s a gesture of solidarity with those who’ve been displaced from their homes\, compelled to traverse long distances in search of safety and refuge\, and have tragically lost loved ones along the way. Please consider joining us. We will commence our journey from the Alberta Legislature Building at 4pm on Saturday\, May 25th.We will meet up at this location: https://maps.app.goo.gl/diRJAKJvimTwRfJm8?g_st=iwb . (on the Alberta Legislature grounds)  Please wear white as a sign of peace.   \n*** PLEASE NOTE THAT THERE IS AN UNRELATED EVENT HAPPENING ON THE NORTHERN END OF THE LEGISLATURE GROUNDS THAT BEGINS AT 2 PM. THE LEGISLATURE WILL ONLY BE OUR STARTING POINT AND SHOULD NOT PRESENT A CONFLICT\, HOWEVER ANTICIPATE THAT PARKING IN THE AREA MIGHT BE DIFFICULT. LOOK FOR THE D&P BANNER \nIf you’re unable to join us but wish to participate\, you can take a walk alone or organize one with your friends\, keeping the people of Gaza in your thoughts. We also encourage you to visit the official website to learn more about the intentions behind this walk. For alternative ways to participate\, you can check out the Kairos website linked below\, should you choose to do any event please let us know\, so that we can share the event with others and include it in our database. \nOfficial site: https://www.gazaceasefirepilgrimage.com/
URL:https://northernspiritrc.ca/event/gaza-ceasefire-pilgrimage-edmonton/
LOCATION:Alberta Legislature\, Edmonton\, 10800 97 Ave NW\, Edmonton\, AB\, T5K 2B6\, Canada
CATEGORIES:Community events
ATTACH;FMTTYPE=image/png:https://northernspiritrc.ca/wp-content/uploads/2023/10/Gaza-border-fence-300x200-1.png
END:VEVENT
END:VCALENDAR