BEGIN:VCALENDAR
VERSION:2.0
PRODID:-//Northern Spirit Regional Council - ECPv6.15.20//NONSGML v1.0//EN
CALSCALE:GREGORIAN
METHOD:PUBLISH
X-WR-CALNAME:Northern Spirit Regional Council
X-ORIGINAL-URL:https://northernspiritrc.ca
X-WR-CALDESC:Events for Northern Spirit Regional Council
REFRESH-INTERVAL;VALUE=DURATION:PT1H
X-Robots-Tag:noindex
X-PUBLISHED-TTL:PT1H
BEGIN:VTIMEZONE
TZID:America/Edmonton
BEGIN:DAYLIGHT
TZOFFSETFROM:-0700
TZOFFSETTO:-0600
TZNAME:MDT
DTSTART:20230312T090000
END:DAYLIGHT
BEGIN:STANDARD
TZOFFSETFROM:-0600
TZOFFSETTO:-0700
TZNAME:MST
DTSTART:20231105T080000
END:STANDARD
BEGIN:DAYLIGHT
TZOFFSETFROM:-0700
TZOFFSETTO:-0600
TZNAME:MDT
DTSTART:20240310T090000
END:DAYLIGHT
BEGIN:STANDARD
TZOFFSETFROM:-0600
TZOFFSETTO:-0700
TZNAME:MST
DTSTART:20241103T080000
END:STANDARD
BEGIN:DAYLIGHT
TZOFFSETFROM:-0700
TZOFFSETTO:-0600
TZNAME:MDT
DTSTART:20250309T090000
END:DAYLIGHT
BEGIN:STANDARD
TZOFFSETFROM:-0600
TZOFFSETTO:-0700
TZNAME:MST
DTSTART:20251102T080000
END:STANDARD
END:VTIMEZONE
BEGIN:VEVENT
DTSTART;VALUE=DATE:20240509
DTEND;VALUE=DATE:20240512
DTSTAMP:20260420T070028
CREATED:20240328T201144Z
LAST-MODIFIED:20240328T201144Z
UID:10000307-1715212800-1715471999@northernspiritrc.ca
SUMMARY:WUC Conference & Annual Meeting 2024
DESCRIPTION:2024 CONFERENCE AND ANNUAL MEETING:\nWOMEN OF THE UNITED CHURCH: CHINOOK WINDS AND NORTHERN SPIRIT\n“FOR THE BEAUTY OF THE EARTH: CARING FOR CREATION”\nMay 9-11\, 2024 \n  \n♦ For more information about the 2024 UCW Conference\, including speakers and programming\, click here (doc). \n♦ To download the registration form\, click here (doc).
URL:https://northernspiritrc.ca/event/wuc-conference-annual-meeting-2024/
LOCATION:AB
CATEGORIES:Regional event
ATTACH;FMTTYPE=image/jpeg:https://northernspiritrc.ca/wp-content/uploads/2024/03/1711655922549-05f9577b-7452-4074-9f83-04c8b3374d98_1.jpg
END:VEVENT
BEGIN:VEVENT
DTSTART;TZID=America/Edmonton:20240511T100000
DTEND;TZID=America/Edmonton:20240511T160000
DTSTAMP:20260420T070028
CREATED:20240227T180359Z
LAST-MODIFIED:20240227T180359Z
UID:10000297-1715421600-1715443200@northernspiritrc.ca
SUMMARY:Spring Craft Market
DESCRIPTION:Our vendors primarily produce handmade\, artisan products such as decorative and silver jewelry\, bath and body products\, jams and salsas\, wood and metal products\, sewists\, stitchery items\, home decor and craft items. A local greenhouse will supply us with beautiful patio pots or plants in hanging baskets ready for your garden. \nBring friends and family and stay to have a snack and a beverage at our cafe. Gluten free/dairy free snacks will be available as well. \nChildren will be kept busy planting their own seeds in their own activity area!
URL:https://northernspiritrc.ca/event/spring-craft-market-2/
LOCATION:Mill Woods United Church\, 15 Grand Meadow Cres\, Edmonton\, AB\, T6L 1A1\, Canada
CATEGORIES:Community events
ATTACH;FMTTYPE=image/jpeg:https://northernspiritrc.ca/wp-content/uploads/2024/02/Capture.jpg
END:VEVENT
BEGIN:VEVENT
DTSTART;TZID=America/Edmonton:20240511T130000
DTEND;TZID=America/Edmonton:20240511T150000
DTSTAMP:20260420T070028
CREATED:20240404T191950Z
LAST-MODIFIED:20240404T191950Z
UID:10000311-1715432400-1715439600@northernspiritrc.ca
SUMMARY:High Tea at Pilgrim United Church
DESCRIPTION:Don’t be late – Save the Date! Join us on Saturday for an early Mother’s Day celebration at Pilgrim United Church. Enjoy a variety of teas\, sandwiches\, and sweets while spending a lovely afternoon together with your mother\, grandmother\, aunt\, or that someone else who is special in your life. Gluten Free and Vegetarian options will be available. \nTickets can be purchased in advance through the church office or at the door.
URL:https://northernspiritrc.ca/event/high-tea-at-pilgrim-united-church/
LOCATION:Pilgrim United Church\, 9008-135 Ave. NW\, Edmonton\, Alberta\, T5E 1N4\, Canada
CATEGORIES:Community events
ATTACH;FMTTYPE=image/png:https://northernspiritrc.ca/wp-content/uploads/2024/04/20240511-High-Tea-Poster.png
ORGANIZER;CN="Pilgrim United Church":MAILTO:Pilgrim@pilgrimunitedchurch.com
END:VEVENT
END:VCALENDAR