BEGIN:VCALENDAR
VERSION:2.0
PRODID:-//Northern Spirit Regional Council - ECPv6.15.20//NONSGML v1.0//EN
CALSCALE:GREGORIAN
METHOD:PUBLISH
X-WR-CALNAME:Northern Spirit Regional Council
X-ORIGINAL-URL:https://northernspiritrc.ca
X-WR-CALDESC:Events for Northern Spirit Regional Council
REFRESH-INTERVAL;VALUE=DURATION:PT1H
X-Robots-Tag:noindex
X-PUBLISHED-TTL:PT1H
BEGIN:VTIMEZONE
TZID:America/Edmonton
BEGIN:DAYLIGHT
TZOFFSETFROM:-0700
TZOFFSETTO:-0600
TZNAME:MDT
DTSTART:20230312T090000
END:DAYLIGHT
BEGIN:STANDARD
TZOFFSETFROM:-0600
TZOFFSETTO:-0700
TZNAME:MST
DTSTART:20231105T080000
END:STANDARD
BEGIN:DAYLIGHT
TZOFFSETFROM:-0700
TZOFFSETTO:-0600
TZNAME:MDT
DTSTART:20240310T090000
END:DAYLIGHT
BEGIN:STANDARD
TZOFFSETFROM:-0600
TZOFFSETTO:-0700
TZNAME:MST
DTSTART:20241103T080000
END:STANDARD
BEGIN:DAYLIGHT
TZOFFSETFROM:-0700
TZOFFSETTO:-0600
TZNAME:MDT
DTSTART:20250309T090000
END:DAYLIGHT
BEGIN:STANDARD
TZOFFSETFROM:-0600
TZOFFSETTO:-0700
TZNAME:MST
DTSTART:20251102T080000
END:STANDARD
END:VTIMEZONE
BEGIN:VEVENT
DTSTART;TZID=America/Edmonton:20240504T100000
DTEND;TZID=America/Edmonton:20240504T130000
DTSTAMP:20260420T051838
CREATED:20240424T205429Z
LAST-MODIFIED:20240424T205429Z
UID:10000332-1714816800-1714827600@northernspiritrc.ca
SUMMARY:Garage Sale - Riverbend United Church
DESCRIPTION:Huge garage sale at Riverbend United Church (14907 – 45 Avenue NW\, Edmonton) from May 2nd to 4th. Drop off donations beginning April 29th \nSale hours:\nThursday\, May 2nd 4:00 to 8:00 p.m.\nFriday\, May 3rd 10:00 a.m. to 4:00 p.m.\nSaturday\, May 4th 10:00 a.m. to 1:00 p.m. \nFor more details contact Riverbend United at 780.430.7275 or check out details on our website at https://riverbendunited.org/2024-garage-sale/
URL:https://northernspiritrc.ca/event/garage-sale-riverbend-united-church/2024-05-04/
LOCATION:Riverbend United Church\, 14907 45 Avenue\, Edmonton\, Alberta\, T6H 5V6\, Canada
CATEGORIES:Community events
ATTACH;FMTTYPE=image/jpeg:https://northernspiritrc.ca/wp-content/uploads/2024/04/Garage-sale-image.jpg
END:VEVENT
BEGIN:VEVENT
DTSTART;TZID=America/Edmonton:20240504T100000
DTEND;TZID=America/Edmonton:20240504T140000
DTSTAMP:20260420T051838
CREATED:20240423T144721Z
LAST-MODIFIED:20240423T144722Z
UID:10000329-1714816800-1714831200@northernspiritrc.ca
SUMMARY:Grace United Church Garage Sale
DESCRIPTION:Grace United Church Garage Sale\n6215 – 104 Avenue\, Edmonton\, AB\nFriday\, May 3\, 4:00 pm – 7:00 pm\nSaturday\, May 4\, 10:00 am – 2:00 pm \nAntiques and collectibles\, household items\, clothing\, jewellery\, toys\, books\, sporting goods and more! \n(Proceeds to the church)
URL:https://northernspiritrc.ca/event/grace-united-church-garage-sale-2/
LOCATION:Grace United Church\, 6215 104 Ave\, Edmonton\, AB\, Canada
CATEGORIES:Community events
ATTACH;FMTTYPE=image/jpeg:https://northernspiritrc.ca/wp-content/uploads/2024/04/Grace-United-Church-Garage-Sale-2024.jpg
ORGANIZER;CN="Grace United Church":MAILTO:grace.united@shaw.ca
END:VEVENT
END:VCALENDAR