BEGIN:VCALENDAR
VERSION:2.0
PRODID:-//Northern Spirit Regional Council - ECPv6.15.20//NONSGML v1.0//EN
CALSCALE:GREGORIAN
METHOD:PUBLISH
X-WR-CALNAME:Northern Spirit Regional Council
X-ORIGINAL-URL:https://northernspiritrc.ca
X-WR-CALDESC:Events for Northern Spirit Regional Council
REFRESH-INTERVAL;VALUE=DURATION:PT1H
X-Robots-Tag:noindex
X-PUBLISHED-TTL:PT1H
BEGIN:VTIMEZONE
TZID:America/Edmonton
BEGIN:DAYLIGHT
TZOFFSETFROM:-0700
TZOFFSETTO:-0600
TZNAME:MDT
DTSTART:20230312T090000
END:DAYLIGHT
BEGIN:STANDARD
TZOFFSETFROM:-0600
TZOFFSETTO:-0700
TZNAME:MST
DTSTART:20231105T080000
END:STANDARD
BEGIN:DAYLIGHT
TZOFFSETFROM:-0700
TZOFFSETTO:-0600
TZNAME:MDT
DTSTART:20240310T090000
END:DAYLIGHT
BEGIN:STANDARD
TZOFFSETFROM:-0600
TZOFFSETTO:-0700
TZNAME:MST
DTSTART:20241103T080000
END:STANDARD
BEGIN:DAYLIGHT
TZOFFSETFROM:-0700
TZOFFSETTO:-0600
TZNAME:MDT
DTSTART:20250309T090000
END:DAYLIGHT
BEGIN:STANDARD
TZOFFSETFROM:-0600
TZOFFSETTO:-0700
TZNAME:MST
DTSTART:20251102T080000
END:STANDARD
END:VTIMEZONE
BEGIN:VEVENT
DTSTART;TZID=America/Edmonton:20240502T160000
DTEND;TZID=America/Edmonton:20240502T200000
DTSTAMP:20260420T051938
CREATED:20240424T205429Z
LAST-MODIFIED:20240424T205429Z
UID:10000330-1714665600-1714680000@northernspiritrc.ca
SUMMARY:Garage Sale - Riverbend United Church
DESCRIPTION:Huge garage sale at Riverbend United Church (14907 – 45 Avenue NW\, Edmonton) from May 2nd to 4th. Drop off donations beginning April 29th \nSale hours:\nThursday\, May 2nd 4:00 to 8:00 p.m.\nFriday\, May 3rd 10:00 a.m. to 4:00 p.m.\nSaturday\, May 4th 10:00 a.m. to 1:00 p.m. \nFor more details contact Riverbend United at 780.430.7275 or check out details on our website at https://riverbendunited.org/2024-garage-sale/
URL:https://northernspiritrc.ca/event/garage-sale-riverbend-united-church/2024-05-02/
LOCATION:Riverbend United Church\, 14907 45 Avenue\, Edmonton\, Alberta\, T6H 5V6\, Canada
CATEGORIES:Community events
ATTACH;FMTTYPE=image/jpeg:https://northernspiritrc.ca/wp-content/uploads/2024/04/Garage-sale-image.jpg
END:VEVENT
END:VCALENDAR