BEGIN:VCALENDAR
VERSION:2.0
PRODID:-//Northern Spirit Regional Council - ECPv6.15.20//NONSGML v1.0//EN
CALSCALE:GREGORIAN
METHOD:PUBLISH
X-WR-CALNAME:Northern Spirit Regional Council
X-ORIGINAL-URL:https://northernspiritrc.ca
X-WR-CALDESC:Events for Northern Spirit Regional Council
REFRESH-INTERVAL;VALUE=DURATION:PT1H
X-Robots-Tag:noindex
X-PUBLISHED-TTL:PT1H
BEGIN:VTIMEZONE
TZID:America/Edmonton
BEGIN:DAYLIGHT
TZOFFSETFROM:-0700
TZOFFSETTO:-0600
TZNAME:MDT
DTSTART:20230312T090000
END:DAYLIGHT
BEGIN:STANDARD
TZOFFSETFROM:-0600
TZOFFSETTO:-0700
TZNAME:MST
DTSTART:20231105T080000
END:STANDARD
BEGIN:DAYLIGHT
TZOFFSETFROM:-0700
TZOFFSETTO:-0600
TZNAME:MDT
DTSTART:20240310T090000
END:DAYLIGHT
BEGIN:STANDARD
TZOFFSETFROM:-0600
TZOFFSETTO:-0700
TZNAME:MST
DTSTART:20241103T080000
END:STANDARD
BEGIN:DAYLIGHT
TZOFFSETFROM:-0700
TZOFFSETTO:-0600
TZNAME:MDT
DTSTART:20250309T090000
END:DAYLIGHT
BEGIN:STANDARD
TZOFFSETFROM:-0600
TZOFFSETTO:-0700
TZNAME:MST
DTSTART:20251102T080000
END:STANDARD
END:VTIMEZONE
BEGIN:VEVENT
DTSTART;TZID=America/Edmonton:20240427T190000
DTEND;TZID=America/Edmonton:20240427T220000
DTSTAMP:20260420T051940
CREATED:20240223T222137Z
LAST-MODIFIED:20240223T222137Z
UID:10000286-1714244400-1714255200@northernspiritrc.ca
SUMMARY:Mill Woods United Spring Soirée and Variety Show
DESCRIPTION:Mill Woods United Church is hosting a Spring Soirée and Variety Show fundraiser on Saturday\, April 27\, 2024 at 7:00 p.m. Join us for a fun evening of music\, entertainment\, appetizers\, desserts\, wine\, beer\, soft drinks\, coffee and tea. We’ll also be holding a silent auction of beautifully themed baskets during the evening. Get together with a group of friends and join us in community and friendship!\nWe are located at 15 Grand Meadow Crescent in Millwoods\, halfway between 50th and 66th Streets\, south of the Whitemud.\nWe ask that if you plan to attend\, please contact our church office to confirm (mwuc1@telus.net or 780-463-2202) to help us plan accordingly. See you in April!!
URL:https://northernspiritrc.ca/event/mill-woods-united-spring-soiree-and-variety-show/
LOCATION:Mill Woods United Church\, 15 Grand Meadow Cres\, Edmonton\, AB\, T6L 1A1\, Canada
CATEGORIES:Community events
ATTACH;FMTTYPE=image/jpeg:https://northernspiritrc.ca/wp-content/uploads/2024/02/Variety-Show.jpg
END:VEVENT
END:VCALENDAR