BEGIN:VCALENDAR
VERSION:2.0
PRODID:-//Northern Spirit Regional Council - ECPv6.15.20//NONSGML v1.0//EN
CALSCALE:GREGORIAN
METHOD:PUBLISH
X-ORIGINAL-URL:https://northernspiritrc.ca
X-WR-CALDESC:Events for Northern Spirit Regional Council
REFRESH-INTERVAL;VALUE=DURATION:PT1H
X-Robots-Tag:noindex
X-PUBLISHED-TTL:PT1H
BEGIN:VTIMEZONE
TZID:America/Edmonton
BEGIN:DAYLIGHT
TZOFFSETFROM:-0700
TZOFFSETTO:-0600
TZNAME:MDT
DTSTART:20230312T090000
END:DAYLIGHT
BEGIN:STANDARD
TZOFFSETFROM:-0600
TZOFFSETTO:-0700
TZNAME:MST
DTSTART:20231105T080000
END:STANDARD
BEGIN:DAYLIGHT
TZOFFSETFROM:-0700
TZOFFSETTO:-0600
TZNAME:MDT
DTSTART:20240310T090000
END:DAYLIGHT
BEGIN:STANDARD
TZOFFSETFROM:-0600
TZOFFSETTO:-0700
TZNAME:MST
DTSTART:20241103T080000
END:STANDARD
BEGIN:DAYLIGHT
TZOFFSETFROM:-0700
TZOFFSETTO:-0600
TZNAME:MDT
DTSTART:20250309T090000
END:DAYLIGHT
BEGIN:STANDARD
TZOFFSETFROM:-0600
TZOFFSETTO:-0700
TZNAME:MST
DTSTART:20251102T080000
END:STANDARD
END:VTIMEZONE
BEGIN:VEVENT
DTSTART;TZID=America/Edmonton:20240303T090000
DTEND;TZID=America/Edmonton:20240317T090000
DTSTAMP:20260420T064655
CREATED:20240215T213456Z
LAST-MODIFIED:20240215T213456Z
UID:10000284-1709456400-1710666000@northernspiritrc.ca
SUMMARY:Ottewell United Church Online Auction
DESCRIPTION:Greetings auction enthusiasts and fellow bidders! Our online auction will begin Sunday\, March 3\, at 9:00 am and will end with the final bid on Sunday\, March 17th at 9:00am.\nWe invite you to browse our auction catalogue and bid on a variety of items including vintage Crystal and Glassware\, Puzzles\, Theme Baskets\, Family Passes\, Gift Certificates\, Handicrafts\, and more for your house and home!\nPlease go to www.charityauction.bid/ottewellchurch to register.\nOnly your name and email address are required.\nOnce registered\, you will receive more information regarding the bidding process and how to claim your items.\nPlease share this with the family and friends\nIs there something you would like to donate? Please contact\nJoan at tabakjoan1955@gmail.com 780 919-0242\nBecky at rlcharette@shaw.ca 780 235-1957\nThank you for your support. Happy Bidding!
URL:https://northernspiritrc.ca/event/ottewell-united-church-online-auction-3/
LOCATION:AB
CATEGORIES:Community events
ATTACH;FMTTYPE=image/jpeg:https://northernspiritrc.ca/wp-content/uploads/2024/02/glenn-carstens-peters-npxXWgQ33ZQ-unsplash-scaled.jpg
END:VEVENT
BEGIN:VEVENT
DTSTART;TZID=America/Edmonton:20240315T120000
DTEND;TZID=America/Edmonton:20240315T130000
DTSTAMP:20260420T064655
CREATED:20240307T222204Z
LAST-MODIFIED:20240307T222204Z
UID:10000300-1710504000-1710507600@northernspiritrc.ca
SUMMARY:CCS Friday - An Ecology of Faith Formation
DESCRIPTION:Join the Centre for Christian Studies (CCS) on Friday\, March 15 (noon Central\, 1pm Eastern\, 11am Mountain\, 10am Pacific\, 2pm Atlantic) for an online conversation about the eco-system of faith formation in congregations. Our special guest will be UCC Growth Animator Greg Smith-Young. \nWithin creation\, ecosystems form as different and diverse creatures (living and non-living) interact together. Each part plays a vital role in making the whole. Ecosystems are about interdependence and integration. What can happen when we bring an “ecosystem” way of thinking into the faith formation work of congregations? Join us as we imagine the possibilities. \nGreg Smith-Young (he/him) is a Growth Animator with the United Church of Canada. He serves alongside existing and newly-forming communities of faith in southwest Ontario\, helping them to share in what Jesus is already doing in their places: inviting\, welcoming\, engaging\, forming disciples\, and sending to share in God’s Presence. \nCCS Fridays are free. Please register to receive a zoom link: https://us02web.zoom.us/meeting/register/tZwsceGsqzIuHtcJfObCM1xhPf4sRLMj18nC#/registration \nCCS Fridays are online conversations to help us all to respond faithfully to emerging issues in local contexts. These workshops are open to anyone who might be interested. Each session will be on a Friday from 12:00 to 1:00 CT and in the form of a Zoom workshop. There will be a presentation that will be recorded for future viewing\, plus opportunities to engage with the ideas in small groups.
URL:https://northernspiritrc.ca/event/ccs-friday-an-ecology-of-faith-formation/
LOCATION:Zoom\, Canada
CATEGORIES:Community events
ATTACH;FMTTYPE=image/jpeg:https://northernspiritrc.ca/wp-content/uploads/2023/10/sixteen-miles-out-L-mNqn89I2s-unsplash-scaled.jpg
ORGANIZER;CN="Centre for Christian Studies":MAILTO:info@ccsonline.ca
END:VEVENT
END:VCALENDAR