BEGIN:VCALENDAR
VERSION:2.0
PRODID:-//Northern Spirit Regional Council - ECPv6.15.20//NONSGML v1.0//EN
CALSCALE:GREGORIAN
METHOD:PUBLISH
X-WR-CALNAME:Northern Spirit Regional Council
X-ORIGINAL-URL:https://northernspiritrc.ca
X-WR-CALDESC:Events for Northern Spirit Regional Council
REFRESH-INTERVAL;VALUE=DURATION:PT1H
X-Robots-Tag:noindex
X-PUBLISHED-TTL:PT1H
BEGIN:VTIMEZONE
TZID:America/Edmonton
BEGIN:DAYLIGHT
TZOFFSETFROM:-0700
TZOFFSETTO:-0600
TZNAME:MDT
DTSTART:20230312T090000
END:DAYLIGHT
BEGIN:STANDARD
TZOFFSETFROM:-0600
TZOFFSETTO:-0700
TZNAME:MST
DTSTART:20231105T080000
END:STANDARD
BEGIN:DAYLIGHT
TZOFFSETFROM:-0700
TZOFFSETTO:-0600
TZNAME:MDT
DTSTART:20240310T090000
END:DAYLIGHT
BEGIN:STANDARD
TZOFFSETFROM:-0600
TZOFFSETTO:-0700
TZNAME:MST
DTSTART:20241103T080000
END:STANDARD
BEGIN:DAYLIGHT
TZOFFSETFROM:-0700
TZOFFSETTO:-0600
TZNAME:MDT
DTSTART:20250309T090000
END:DAYLIGHT
BEGIN:STANDARD
TZOFFSETFROM:-0600
TZOFFSETTO:-0700
TZNAME:MST
DTSTART:20251102T080000
END:STANDARD
END:VTIMEZONE
BEGIN:VEVENT
DTSTART;TZID=America/Edmonton:20240228T183000
DTEND;TZID=America/Edmonton:20240228T203000
DTSTAMP:20260420T054718
CREATED:20240226T201545Z
LAST-MODIFIED:20240226T201545Z
UID:10000288-1709145000-1709152200@northernspiritrc.ca
SUMMARY:Kirk Centre's Paint Nite
DESCRIPTION:Champions & Children\nOn Thursday March 28th at 6:30 pm Kirk Centre is hosting a paint nite for anyone who would like to join us. This paint nite is a dual canvas nite and we are asking people to register as a pair. The cost is $50 per pair. Come and join us and bond\, relax and create art. Please arrive at 6 pm. Please register here.
URL:https://northernspiritrc.ca/event/kirk-centres-paint-nite/
LOCATION:Kirk United Church Community Centre\, 13535 122 Ave NW\, Edmonton\, Alberta\, T5L 2V7\, Canada
CATEGORIES:Community events
ATTACH;FMTTYPE=image/jpeg:https://northernspiritrc.ca/wp-content/uploads/2024/02/March-28th-Paint-Nite.jpg
END:VEVENT
BEGIN:VEVENT
DTSTART;TZID=America/Edmonton:20240228T190000
DTEND;TZID=America/Edmonton:20240228T190000
DTSTAMP:20260420T054718
CREATED:20240111T185444Z
LAST-MODIFIED:20240111T185444Z
UID:10000273-1709146800-1709146800@northernspiritrc.ca
SUMMARY:Stolen Lands\, Strong Hearts\, Doctrine of Discovery
DESCRIPTION:Showing of the video Doctrine of Discovery\, Stolen Lands\, Strong Hearts. This will be followed by a question and answer period and discussion. \n  \nAt St. Albert United; freewill donations accepted for UC reconciliation and justice.
URL:https://northernspiritrc.ca/event/stolen-lands-strong-hearts-doctrine-of-discovery/
LOCATION:St Albert United Church\, 20 Green Grove Drive\, St Albert\, AB\, T8N 5H6\, Canada
CATEGORIES:Community events
ATTACH;FMTTYPE=image/jpeg:https://northernspiritrc.ca/wp-content/uploads/2023/06/andrew-seaman-ZwaqicZOAgc-unsplash-scaled.jpg
ORGANIZER;CN="St Albert United Church":MAILTO:office@stalbertunited.ca
END:VEVENT
BEGIN:VEVENT
DTSTART;TZID=America/Edmonton:20240228T190000
DTEND;TZID=America/Edmonton:20240228T203000
DTSTAMP:20260420T054718
CREATED:20240226T201417Z
LAST-MODIFIED:20240226T201417Z
UID:10000287-1709146800-1709152200@northernspiritrc.ca
SUMMARY:Stolen Lands\, Strong Hearts
DESCRIPTION:.St Albert United Church invites you to attend a showing of Stolen Lands\, Strong Hearts on February 28th at 7pm. \nEmbrace an understanding of the Doctrine of Discovery and why it continues to be detrimental to the progress of reconciliation. \nTea and coffee and bannock will be provided. Q and A and discussion to follow.
URL:https://northernspiritrc.ca/event/stolen-lands-strong-hearts/
LOCATION:St Albert United Church\, 20 Green Grove Drive\, St Albert\, AB\, T8N 5H6\, Canada
CATEGORIES:Community events
ATTACH;FMTTYPE=image/png:https://northernspiritrc.ca/wp-content/uploads/2024/02/FA9DFFF4-14FA-4E87-BABD-27BA80ECE36F.png
ORGANIZER;CN="St Albert United Church":MAILTO:office@stalbertunited.ca
END:VEVENT
END:VCALENDAR