BEGIN:VCALENDAR
VERSION:2.0
PRODID:-//Northern Spirit Regional Council - ECPv6.15.20//NONSGML v1.0//EN
CALSCALE:GREGORIAN
METHOD:PUBLISH
X-WR-CALNAME:Northern Spirit Regional Council
X-ORIGINAL-URL:https://northernspiritrc.ca
X-WR-CALDESC:Events for Northern Spirit Regional Council
REFRESH-INTERVAL;VALUE=DURATION:PT1H
X-Robots-Tag:noindex
X-PUBLISHED-TTL:PT1H
BEGIN:VTIMEZONE
TZID:America/Edmonton
BEGIN:DAYLIGHT
TZOFFSETFROM:-0700
TZOFFSETTO:-0600
TZNAME:MDT
DTSTART:20230312T090000
END:DAYLIGHT
BEGIN:STANDARD
TZOFFSETFROM:-0600
TZOFFSETTO:-0700
TZNAME:MST
DTSTART:20231105T080000
END:STANDARD
BEGIN:DAYLIGHT
TZOFFSETFROM:-0700
TZOFFSETTO:-0600
TZNAME:MDT
DTSTART:20240310T090000
END:DAYLIGHT
BEGIN:STANDARD
TZOFFSETFROM:-0600
TZOFFSETTO:-0700
TZNAME:MST
DTSTART:20241103T080000
END:STANDARD
BEGIN:DAYLIGHT
TZOFFSETFROM:-0700
TZOFFSETTO:-0600
TZNAME:MDT
DTSTART:20250309T090000
END:DAYLIGHT
BEGIN:STANDARD
TZOFFSETFROM:-0600
TZOFFSETTO:-0700
TZNAME:MST
DTSTART:20251102T080000
END:STANDARD
END:VTIMEZONE
BEGIN:VEVENT
DTSTART;TZID=America/Edmonton:20240210T110000
DTEND;TZID=America/Edmonton:20240210T160000
DTSTAMP:20260420T054718
CREATED:20240117T210337Z
LAST-MODIFIED:20240117T210337Z
UID:10000275-1707562800-1707580800@northernspiritrc.ca
SUMMARY:Valentine's Tea and Vendor Market
DESCRIPTION:Enjoy browsing the great products from local vendors. Stay for tea and goodies with your friends. Everyone is welcome! No admission cost.
URL:https://northernspiritrc.ca/event/valentines-tea-and-vendor-market/
LOCATION:Spirit of Hope United Church\, 7909 82 Ave NW\, Edmonton\, AB\, Canada
CATEGORIES:Community events
ATTACH;FMTTYPE=image/png:https://northernspiritrc.ca/wp-content/uploads/2024/01/valentines.png
ORGANIZER;CN="Spirit of Hope United Church":MAILTO:officeadmin@spiritofhope.ca
END:VEVENT
BEGIN:VEVENT
DTSTART;TZID=America/Edmonton:20240210T113000
DTEND;TZID=America/Edmonton:20240210T160000
DTSTAMP:20260420T054718
CREATED:20240131T173040Z
LAST-MODIFIED:20240131T173040Z
UID:10000279-1707564600-1707580800@northernspiritrc.ca
SUMMARY:Jewelry Boutique and Coffee House
DESCRIPTION:Previously Loved Jewelry\, scarves\, bags and purses. Come and enjoy a light lunch and shop for your Valentine!\nOne item $5\nThree items for $10\nAll purses for $5 each
URL:https://northernspiritrc.ca/event/jewelry-boutique-and-coffee-house/
LOCATION:Mill Woods United Church\, 15 Grand Meadow Cres\, Edmonton\, AB\, T6L 1A1\, Canada
CATEGORIES:Community events
ATTACH;FMTTYPE=image/jpeg:https://northernspiritrc.ca/wp-content/uploads/2024/01/Jewelry.jpg
END:VEVENT
END:VCALENDAR