BEGIN:VCALENDAR
VERSION:2.0
PRODID:-//Northern Spirit Regional Council - ECPv6.15.20//NONSGML v1.0//EN
CALSCALE:GREGORIAN
METHOD:PUBLISH
X-ORIGINAL-URL:https://northernspiritrc.ca
X-WR-CALDESC:Events for Northern Spirit Regional Council
REFRESH-INTERVAL;VALUE=DURATION:PT1H
X-Robots-Tag:noindex
X-PUBLISHED-TTL:PT1H
BEGIN:VTIMEZONE
TZID:America/Edmonton
BEGIN:DAYLIGHT
TZOFFSETFROM:-0700
TZOFFSETTO:-0600
TZNAME:MDT
DTSTART:20230312T090000
END:DAYLIGHT
BEGIN:STANDARD
TZOFFSETFROM:-0600
TZOFFSETTO:-0700
TZNAME:MST
DTSTART:20231105T080000
END:STANDARD
BEGIN:DAYLIGHT
TZOFFSETFROM:-0700
TZOFFSETTO:-0600
TZNAME:MDT
DTSTART:20240310T090000
END:DAYLIGHT
BEGIN:STANDARD
TZOFFSETFROM:-0600
TZOFFSETTO:-0700
TZNAME:MST
DTSTART:20241103T080000
END:STANDARD
BEGIN:DAYLIGHT
TZOFFSETFROM:-0700
TZOFFSETTO:-0600
TZNAME:MDT
DTSTART:20250309T090000
END:DAYLIGHT
BEGIN:STANDARD
TZOFFSETFROM:-0600
TZOFFSETTO:-0700
TZNAME:MST
DTSTART:20251102T080000
END:STANDARD
END:VTIMEZONE
BEGIN:VEVENT
DTSTART;TZID=America/Edmonton:20240121T180000
DTEND;TZID=America/Edmonton:20240121T213000
DTSTAMP:20260420T071938
CREATED:20240105T175252Z
LAST-MODIFIED:20240105T175606Z
UID:10000272-1705860000-1705872600@northernspiritrc.ca
SUMMARY:An Evening with Ivan Coyote
DESCRIPTION:SSUC Celebrates Their 25th Affirming Anniversary with Ivan Coyote\nJanuary 21st\, starting at 6:00 pm \nCome celebrate our milestone affirming anniversary with a very special guest: Canadian writer\, storyteller and musician Ivan Coyote! The evening will include a chance to peruse displays and learn about 2SLGBTQIA+ organizations and projects in the Edmonton area\, enjoy some music from local 2SLGBTQIA+ artists\, and the highlight of the evening – a presentation by Ivan Coyote with time for questions and answers. \nTickets are available through Eventbrite: click here!.\n*Guests 13 and older are welcome to attend.
URL:https://northernspiritrc.ca/event/an-evening-with-ivan-coyote/
LOCATION:Southminster-Steinhauer United Church\, 10740-19 Ave NW\, Edmonton\, AB\, T6J 6W9
CATEGORIES:Community events,LGBTQIA2S+
ATTACH;FMTTYPE=image/png:https://northernspiritrc.ca/wp-content/uploads/2024/01/Ivan-Coyote-2.png
ORGANIZER;CN="Southminster-Steinhauer United Church":MAILTO:info@ssucedmonton.com
END:VEVENT
END:VCALENDAR