BEGIN:VCALENDAR
VERSION:2.0
PRODID:-//Northern Spirit Regional Council - ECPv6.15.20//NONSGML v1.0//EN
CALSCALE:GREGORIAN
METHOD:PUBLISH
X-WR-CALNAME:Northern Spirit Regional Council
X-ORIGINAL-URL:https://northernspiritrc.ca
X-WR-CALDESC:Events for Northern Spirit Regional Council
REFRESH-INTERVAL;VALUE=DURATION:PT1H
X-Robots-Tag:noindex
X-PUBLISHED-TTL:PT1H
BEGIN:VTIMEZONE
TZID:America/Edmonton
BEGIN:DAYLIGHT
TZOFFSETFROM:-0700
TZOFFSETTO:-0600
TZNAME:MDT
DTSTART:20220313T090000
END:DAYLIGHT
BEGIN:STANDARD
TZOFFSETFROM:-0600
TZOFFSETTO:-0700
TZNAME:MST
DTSTART:20221106T080000
END:STANDARD
BEGIN:DAYLIGHT
TZOFFSETFROM:-0700
TZOFFSETTO:-0600
TZNAME:MDT
DTSTART:20230312T090000
END:DAYLIGHT
BEGIN:STANDARD
TZOFFSETFROM:-0600
TZOFFSETTO:-0700
TZNAME:MST
DTSTART:20231105T080000
END:STANDARD
BEGIN:DAYLIGHT
TZOFFSETFROM:-0700
TZOFFSETTO:-0600
TZNAME:MDT
DTSTART:20240310T090000
END:DAYLIGHT
BEGIN:STANDARD
TZOFFSETFROM:-0600
TZOFFSETTO:-0700
TZNAME:MST
DTSTART:20241103T080000
END:STANDARD
END:VTIMEZONE
BEGIN:VEVENT
DTSTART;TZID=America/Edmonton:20231217T130000
DTEND;TZID=America/Edmonton:20231217T143000
DTSTAMP:20260420T083959
CREATED:20231128T163451Z
LAST-MODIFIED:20231128T163451Z
UID:10000255-1702818000-1702823400@northernspiritrc.ca
SUMMARY:Wild Church YEG
DESCRIPTION:As the year’s longest night approaches\, join Robertson-Wesley’s Wild Church worship on December 17 at 1:00 pm to partake in a “Testimony to the Light at the Winter Solstice”. We will meet at the Emily Murphy Park Fire Circle at Picnic Site #3. To keep warm\, there will be a fire pit and hot drinks provided (bring a mug). Remember to dress for the weather\, and bring along friends of any age (or species)! For questions or transportation support\, get in touch by email (wildchurch@rwuc.org)\, website (wildchurchyeg.org)\, or Instagram (@wildchurchyeg). Cancelled below -15°C with windchill.
URL:https://northernspiritrc.ca/event/wild-church-yeg-6/
LOCATION:Emily Murphy Park\, Picnic Site #3
CATEGORIES:Community events
ATTACH;FMTTYPE=image/png:https://northernspiritrc.ca/wp-content/uploads/2023/11/Screen-Shot-2022-11-04-at-3.27.44-PM.png
ORGANIZER;CN="Robertson-Wesley United Church":MAILTO:mail@rwuc.org
END:VEVENT
BEGIN:VEVENT
DTSTART;TZID=America/Edmonton:20231217T170000
DTEND;TZID=America/Edmonton:20231217T200000
DTSTAMP:20260420T083959
CREATED:20231212T165756Z
LAST-MODIFIED:20231212T165756Z
UID:10000265-1702832400-1702843200@northernspiritrc.ca
SUMMARY:Christmas Cantata and Advent Supper - Stony Plain United Church
DESCRIPTION:Join us for “Joy!”\, our Advent Supper\, Caroling and Christmas Cantata presented by the Stony Plain United Church. Coffee and treats afterward….
URL:https://northernspiritrc.ca/event/christmas-cantata-and-advent-supper-stony-plain-united-church/
LOCATION:Stony Plain United Church\, 5012 - 51 Ave\, Stony Plain\, AB\, T7Z 1C2\, Canada
CATEGORIES:Community events
ATTACH;FMTTYPE=image/jpeg:https://northernspiritrc.ca/wp-content/uploads/2023/12/1699820125297-4487c960-839c-4488-92ad-e3fee055cc1b_1.jpg
END:VEVENT
BEGIN:VEVENT
DTSTART;TZID=America/Edmonton:20231217T190000
DTEND;TZID=America/Edmonton:20231217T200000
DTSTAMP:20260420T083959
CREATED:20231128T162959Z
LAST-MODIFIED:20231128T162959Z
UID:10000258-1702839600-1702843200@northernspiritrc.ca
SUMMARY:BLUE CHRISTMAS SERVICE OF HEALING
DESCRIPTION:December 17 at 7:00 pm. Christmas is a holy time that is not always happy. It brings up so many memories that heighten our feelings of grief or sadness\, pain or loneliness. This is a service of quiet reflection\, remembrance and peace. We hope that this service will bring a sense of peace in this sacred season with quiet music\, scripture\, silence and candle light. Everyone is welcome.
URL:https://northernspiritrc.ca/event/blue-christmas-service-of-healing/
LOCATION:Robertson-Wesley United Church\, 10209 123 st\, Edmonton\, Alberta\, T5N 1N3\, Canada
CATEGORIES:Community events
ATTACH;FMTTYPE=image/png:https://northernspiritrc.ca/wp-content/uploads/2023/11/Blue-1280-×-720-px-1.png
ORGANIZER;CN="Robertson-Wesley United Church":MAILTO:mail@rwuc.org
END:VEVENT
END:VCALENDAR