BEGIN:VCALENDAR
VERSION:2.0
PRODID:-//Northern Spirit Regional Council - ECPv6.15.20//NONSGML v1.0//EN
CALSCALE:GREGORIAN
METHOD:PUBLISH
X-WR-CALNAME:Northern Spirit Regional Council
X-ORIGINAL-URL:https://northernspiritrc.ca
X-WR-CALDESC:Events for Northern Spirit Regional Council
REFRESH-INTERVAL;VALUE=DURATION:PT1H
X-Robots-Tag:noindex
X-PUBLISHED-TTL:PT1H
BEGIN:VTIMEZONE
TZID:America/Edmonton
BEGIN:DAYLIGHT
TZOFFSETFROM:-0700
TZOFFSETTO:-0600
TZNAME:MDT
DTSTART:20220313T090000
END:DAYLIGHT
BEGIN:STANDARD
TZOFFSETFROM:-0600
TZOFFSETTO:-0700
TZNAME:MST
DTSTART:20221106T080000
END:STANDARD
BEGIN:DAYLIGHT
TZOFFSETFROM:-0700
TZOFFSETTO:-0600
TZNAME:MDT
DTSTART:20230312T090000
END:DAYLIGHT
BEGIN:STANDARD
TZOFFSETFROM:-0600
TZOFFSETTO:-0700
TZNAME:MST
DTSTART:20231105T080000
END:STANDARD
BEGIN:DAYLIGHT
TZOFFSETFROM:-0700
TZOFFSETTO:-0600
TZNAME:MDT
DTSTART:20240310T090000
END:DAYLIGHT
BEGIN:STANDARD
TZOFFSETFROM:-0600
TZOFFSETTO:-0700
TZNAME:MST
DTSTART:20241103T080000
END:STANDARD
END:VTIMEZONE
BEGIN:VEVENT
DTSTART;TZID=America/Edmonton:20231214T183000
DTEND;TZID=America/Edmonton:20231214T203000
DTSTAMP:20260420T084016
CREATED:20231116T174022Z
LAST-MODIFIED:20231116T174022Z
UID:10000251-1702578600-1702585800@northernspiritrc.ca
SUMMARY:Kirk Centre's Canvas and Cocktails presents: Matching Mittens
DESCRIPTION:Join us for our first Canvas & Cocktails evening:\nDoors open at 6 pm – Please arrive at this time to settle in and get to know your fellow artists\nClass is from 6:30 pm to 8:30 pm\nCost is $25 per person – to be paid upon registration by etransfer to kirkuccentre@gmail.com.\n18 year + (please know that we will be planning a family event soon)\nMulled Wine and Apple Cider will be available at this event at $2 per glass\, all proceeds will go to Mouse’s GoFundMe fundraiser.\nThis event we will be painting “Matching Mittens”.\nThis Matching Mitten event we are asking that everyone bring a pair of new or very gently used mittens or gloves to be donated to Kirk’s Little Free Closet. They will be paired with donated toques and scarfs and available to those who are unable to afford these crucial items in the winter months.
URL:https://northernspiritrc.ca/event/kirk-centres-canvas-and-cocktails-presents-matching-mittens/
LOCATION:Kirk United Church Community Centre\, 13535 122 Ave NW\, Edmonton\, Alberta\, T5L 2V7\, Canada
CATEGORIES:Community events
ATTACH;FMTTYPE=image/jpeg:https://northernspiritrc.ca/wp-content/uploads/2023/11/Dec-14-Canvas-Cocktails.jpg
END:VEVENT
END:VCALENDAR