BEGIN:VCALENDAR
VERSION:2.0
PRODID:-//Northern Spirit Regional Council - ECPv6.15.20//NONSGML v1.0//EN
CALSCALE:GREGORIAN
METHOD:PUBLISH
X-ORIGINAL-URL:https://northernspiritrc.ca
X-WR-CALDESC:Events for Northern Spirit Regional Council
REFRESH-INTERVAL;VALUE=DURATION:PT1H
X-Robots-Tag:noindex
X-PUBLISHED-TTL:PT1H
BEGIN:VTIMEZONE
TZID:America/Edmonton
BEGIN:DAYLIGHT
TZOFFSETFROM:-0700
TZOFFSETTO:-0600
TZNAME:MDT
DTSTART:20220313T090000
END:DAYLIGHT
BEGIN:STANDARD
TZOFFSETFROM:-0600
TZOFFSETTO:-0700
TZNAME:MST
DTSTART:20221106T080000
END:STANDARD
BEGIN:DAYLIGHT
TZOFFSETFROM:-0700
TZOFFSETTO:-0600
TZNAME:MDT
DTSTART:20230312T090000
END:DAYLIGHT
BEGIN:STANDARD
TZOFFSETFROM:-0600
TZOFFSETTO:-0700
TZNAME:MST
DTSTART:20231105T080000
END:STANDARD
BEGIN:DAYLIGHT
TZOFFSETFROM:-0700
TZOFFSETTO:-0600
TZNAME:MDT
DTSTART:20240310T090000
END:DAYLIGHT
BEGIN:STANDARD
TZOFFSETFROM:-0600
TZOFFSETTO:-0700
TZNAME:MST
DTSTART:20241103T080000
END:STANDARD
END:VTIMEZONE
BEGIN:VEVENT
DTSTART;TZID=America/Edmonton:20231210T160000
DTEND;TZID=America/Edmonton:20231210T170000
DTSTAMP:20260420T084035
CREATED:20231128T163154Z
LAST-MODIFIED:20231128T163154Z
UID:10000259-1702224000-1702227600@northernspiritrc.ca
SUMMARY:A Service of Lessons & Carols
DESCRIPTION:December 10 at 4:00 pm. This gentle candlelight service is a classic\, with a series of scripture readings that take us through the story of God’s promise\, the longing and waiting\, and the fulfilment of the promise in the birth of Christ. In person and online.
URL:https://northernspiritrc.ca/event/a-service-of-lessons-carols-2/
LOCATION:Robertson-Wesley United Church\, 10209 123 st\, Edmonton\, Alberta\, T5N 1N3\, Canada
CATEGORIES:Community events
ATTACH;FMTTYPE=image/png:https://northernspiritrc.ca/wp-content/uploads/2023/11/Copy-of-Lessons-1920-x-1080-px-2-1.png
ORGANIZER;CN="Robertson-Wesley United Church":MAILTO:mail@rwuc.org
END:VEVENT
END:VCALENDAR