BEGIN:VCALENDAR
VERSION:2.0
PRODID:-//Northern Spirit Regional Council - ECPv6.15.20//NONSGML v1.0//EN
CALSCALE:GREGORIAN
METHOD:PUBLISH
X-ORIGINAL-URL:https://northernspiritrc.ca
X-WR-CALDESC:Events for Northern Spirit Regional Council
REFRESH-INTERVAL;VALUE=DURATION:PT1H
X-Robots-Tag:noindex
X-PUBLISHED-TTL:PT1H
BEGIN:VTIMEZONE
TZID:America/Edmonton
BEGIN:DAYLIGHT
TZOFFSETFROM:-0700
TZOFFSETTO:-0600
TZNAME:MDT
DTSTART:20220313T090000
END:DAYLIGHT
BEGIN:STANDARD
TZOFFSETFROM:-0600
TZOFFSETTO:-0700
TZNAME:MST
DTSTART:20221106T080000
END:STANDARD
BEGIN:DAYLIGHT
TZOFFSETFROM:-0700
TZOFFSETTO:-0600
TZNAME:MDT
DTSTART:20230312T090000
END:DAYLIGHT
BEGIN:STANDARD
TZOFFSETFROM:-0600
TZOFFSETTO:-0700
TZNAME:MST
DTSTART:20231105T080000
END:STANDARD
BEGIN:DAYLIGHT
TZOFFSETFROM:-0700
TZOFFSETTO:-0600
TZNAME:MDT
DTSTART:20240310T090000
END:DAYLIGHT
BEGIN:STANDARD
TZOFFSETFROM:-0600
TZOFFSETTO:-0700
TZNAME:MST
DTSTART:20241103T080000
END:STANDARD
END:VTIMEZONE
BEGIN:VEVENT
DTSTART;TZID=America/Edmonton:20231208T120000
DTEND;TZID=America/Edmonton:20231208T130000
DTSTAMP:20260420T084012
CREATED:20231124T203723Z
LAST-MODIFIED:20231124T203723Z
UID:10000253-1702036800-1702040400@northernspiritrc.ca
SUMMARY:CCS Friday on Engaging Youth in Climate Justice
DESCRIPTION:This summer\, 15 youth from across the church participated in the United Church of Canada’s first ever Climate Motivators program. Each student was sponsored by\, and in partnership with\, a local community of faith where they worked together on local climate justice or environmental needs. \nThe motivators connected online and in-person to learn how to be leaders\, worship\, be in nature\, act for change\, and influence church policy. \nOur special guest will be Amy Crawford\, team leader for Faith Formation and Mission with the General Council of the United Church of Canada. Amy has just returned from a short sabbatical where she was reviewing and evaluating what happened to the youth and the people they interacted with. She will share some of her insights about getting youth involved in educating about climate change. \nCCS Fridays are free. Please register to receive a zoom link\, here: https://us02web.zoom.us/meeting/register/tZclduiqqTMqHdzVZnAl2bcp5TI2oUuC5d7z#/registration \nCCS Fridays are online conversations to help us respond faithfully to emerging issues in local contexts. These workshops are open to anyone who might be interested. There will be a presentation that will be recorded for future viewing\, plus opportunities to engage with the ideas in small groups.
URL:https://northernspiritrc.ca/event/ccs-friday-on-engaging-youth-in-climate-justice/
LOCATION:Zoom\, Canada
CATEGORIES:Community events,Meeting,Youth and young adult
ATTACH;FMTTYPE=image/png:https://northernspiritrc.ca/wp-content/uploads/2023/06/No-Planet-B-ecoClimateJustice.png
ORGANIZER;CN="Centre for Christian Studies":MAILTO:info@ccsonline.ca
END:VEVENT
BEGIN:VEVENT
DTSTART;TZID=America/Edmonton:20231208T190000
DTEND;TZID=America/Edmonton:20231208T200000
DTSTAMP:20260420T084012
CREATED:20231205T174633Z
LAST-MODIFIED:20231205T174633Z
UID:10000261-1702062000-1702065600@northernspiritrc.ca
SUMMARY:Christmas Concert - Morning Star
DESCRIPTION:The choir of Spirit West United presents Morning Star\, a message of hope. We will be joined by a harp\, flute\, piano and percussion.
URL:https://northernspiritrc.ca/event/christmas-concert-morning-star/
LOCATION:Spirit West United Church\, 7003 199 St NW\, Edmonton\, Alberta\, T5T 3A8\, Canada
CATEGORIES:Community events
ATTACH;FMTTYPE=image/jpeg:https://northernspiritrc.ca/wp-content/uploads/2023/11/aziz-acharki-cABs_SSYua0-unsplash-scaled.jpg
END:VEVENT
END:VCALENDAR