BEGIN:VCALENDAR
VERSION:2.0
PRODID:-//Northern Spirit Regional Council - ECPv6.15.20//NONSGML v1.0//EN
CALSCALE:GREGORIAN
METHOD:PUBLISH
X-ORIGINAL-URL:https://northernspiritrc.ca
X-WR-CALDESC:Events for Northern Spirit Regional Council
REFRESH-INTERVAL;VALUE=DURATION:PT1H
X-Robots-Tag:noindex
X-PUBLISHED-TTL:PT1H
BEGIN:VTIMEZONE
TZID:America/Edmonton
BEGIN:DAYLIGHT
TZOFFSETFROM:-0700
TZOFFSETTO:-0600
TZNAME:MDT
DTSTART:20220313T090000
END:DAYLIGHT
BEGIN:STANDARD
TZOFFSETFROM:-0600
TZOFFSETTO:-0700
TZNAME:MST
DTSTART:20221106T080000
END:STANDARD
BEGIN:DAYLIGHT
TZOFFSETFROM:-0700
TZOFFSETTO:-0600
TZNAME:MDT
DTSTART:20230312T090000
END:DAYLIGHT
BEGIN:STANDARD
TZOFFSETFROM:-0600
TZOFFSETTO:-0700
TZNAME:MST
DTSTART:20231105T080000
END:STANDARD
BEGIN:DAYLIGHT
TZOFFSETFROM:-0700
TZOFFSETTO:-0600
TZNAME:MDT
DTSTART:20240310T090000
END:DAYLIGHT
BEGIN:STANDARD
TZOFFSETFROM:-0600
TZOFFSETTO:-0700
TZNAME:MST
DTSTART:20241103T080000
END:STANDARD
END:VTIMEZONE
BEGIN:VEVENT
DTSTART;TZID=America/Edmonton:20231201T160000
DTEND;TZID=America/Edmonton:20231202T163000
DTSTAMP:20260420T084035
CREATED:20231129T195559Z
LAST-MODIFIED:20231129T195559Z
UID:10000260-1701446400-1701534600@northernspiritrc.ca
SUMMARY:2nd Annual Community Nativity Festival
DESCRIPTION:Friday\, December 1st – 4:00 pm – 7:00 pm and Saturday\, December 2nd – 10:30 am – 4:30 pm\nat Vegreville United Church\, 5126 – 48th Avenue\, Vegreville\, Alberta\nFood and cash donations to the Vegreville Food Bank will be gratefully accepted. \n– A family fun event.\n– Discover the reason for the season.\n– See an astonishing display of more than 200 creches and nativities from around the world!\n– Seasonal refreshments for a cash donation to the Food Bank.\n– Community Carol singing on Friday at 6:00 pm and Saturday at 3:00 pm\n– Co-sponsored by: St. Mary the Virgin Anglican Church and Vegreville United Church
URL:https://northernspiritrc.ca/event/2nd-annual-community-nativity-festival/
LOCATION:AB
CATEGORIES:Community events
ATTACH;FMTTYPE=image/jpeg:https://northernspiritrc.ca/wp-content/uploads/2023/11/stephanie-klepacki-wW8-PIZZjJg-unsplash-scaled.jpg
END:VEVENT
BEGIN:VEVENT
DTSTART;TZID=America/Edmonton:20231202T100000
DTEND;TZID=America/Edmonton:20231202T160000
DTSTAMP:20260420T084035
CREATED:20231116T174459Z
LAST-MODIFIED:20231124T223111Z
UID:10000250-1701511200-1701532800@northernspiritrc.ca
SUMMARY:Christmas Craft Market- Mill Woods United Church
DESCRIPTION:The Christmas Craft Market has been happening for over two decades. We have a variety of vendors selling items from handmade products to commercial vendors (more than 50) such as Norwex and Epicure on both floors of our church. There is usually a hot lunch with soup put together by our Heavenly Hospitality group for purchase at the downstairs concession on the date of the sale. Entry to our sale is by donation. This fundraiser supports the life and work of our Mill Woods United church (15 Grand Meadow Crescent) in the community of Mill Woods.
URL:https://northernspiritrc.ca/event/christmas-craft-market-mill-woods-united-church/
LOCATION:Mill Woods United Church\, 15 Grand Meadow Cres\, Edmonton\, AB\, T6L 1A1\, Canada
CATEGORIES:Community events
ATTACH;FMTTYPE=image/webp:https://northernspiritrc.ca/wp-content/uploads/2023/11/e9a94e_13f9b50c5ba2427e84f5c43518694dccmv2.webp
END:VEVENT
BEGIN:VEVENT
DTSTART;TZID=America/Edmonton:20231202T140000
DTEND;TZID=America/Edmonton:20231202T160000
DTSTAMP:20260420T084035
CREATED:20231102T193617Z
LAST-MODIFIED:20231102T193617Z
UID:10000242-1701525600-1701532800@northernspiritrc.ca
SUMMARY:Christmas Tea\, Bake Sale\, and Silent Auction
DESCRIPTION:Trinity United is having a Christmas Tea\, Bake Sale\, and Silent Auction on Saturday\, December 2\, 2023 from 2-4pm. \nWe will be selling Christmas baking and other delicious treats and will have gift baskets to bid on in support of our fundraiser. We are located at 8810 Meadowlark Rd NW\, Edmonton. Please call 780-489-0860 for more information.
URL:https://northernspiritrc.ca/event/christmas-tea-bake-sale-and-silent-auction/
LOCATION:Trinity United Church\, 8810 Meadowlark Rd NW\, Edmonton\, Alberta\, T5R 5W6\, Canada
CATEGORIES:Community events
ATTACH;FMTTYPE=image/png:https://northernspiritrc.ca/wp-content/uploads/2023/11/Tea-Bake-Sale-Silent-Auction.png
ORGANIZER;CN="Trinity United Church":MAILTO:office@tucedm.ca
END:VEVENT
END:VCALENDAR