BEGIN:VCALENDAR
VERSION:2.0
PRODID:-//Northern Spirit Regional Council - ECPv6.15.20//NONSGML v1.0//EN
CALSCALE:GREGORIAN
METHOD:PUBLISH
X-ORIGINAL-URL:https://northernspiritrc.ca
X-WR-CALDESC:Events for Northern Spirit Regional Council
REFRESH-INTERVAL;VALUE=DURATION:PT1H
X-Robots-Tag:noindex
X-PUBLISHED-TTL:PT1H
BEGIN:VTIMEZONE
TZID:America/Edmonton
BEGIN:DAYLIGHT
TZOFFSETFROM:-0700
TZOFFSETTO:-0600
TZNAME:MDT
DTSTART:20220313T090000
END:DAYLIGHT
BEGIN:STANDARD
TZOFFSETFROM:-0600
TZOFFSETTO:-0700
TZNAME:MST
DTSTART:20221106T080000
END:STANDARD
BEGIN:DAYLIGHT
TZOFFSETFROM:-0700
TZOFFSETTO:-0600
TZNAME:MDT
DTSTART:20230312T090000
END:DAYLIGHT
BEGIN:STANDARD
TZOFFSETFROM:-0600
TZOFFSETTO:-0700
TZNAME:MST
DTSTART:20231105T080000
END:STANDARD
BEGIN:DAYLIGHT
TZOFFSETFROM:-0700
TZOFFSETTO:-0600
TZNAME:MDT
DTSTART:20240310T090000
END:DAYLIGHT
BEGIN:STANDARD
TZOFFSETFROM:-0600
TZOFFSETTO:-0700
TZNAME:MST
DTSTART:20241103T080000
END:STANDARD
END:VTIMEZONE
BEGIN:VEVENT
DTSTART;TZID=America/Edmonton:20231201T160000
DTEND;TZID=America/Edmonton:20231202T163000
DTSTAMP:20260420T084036
CREATED:20231129T195559Z
LAST-MODIFIED:20231129T195559Z
UID:10000260-1701446400-1701534600@northernspiritrc.ca
SUMMARY:2nd Annual Community Nativity Festival
DESCRIPTION:Friday\, December 1st – 4:00 pm – 7:00 pm and Saturday\, December 2nd – 10:30 am – 4:30 pm\nat Vegreville United Church\, 5126 – 48th Avenue\, Vegreville\, Alberta\nFood and cash donations to the Vegreville Food Bank will be gratefully accepted. \n– A family fun event.\n– Discover the reason for the season.\n– See an astonishing display of more than 200 creches and nativities from around the world!\n– Seasonal refreshments for a cash donation to the Food Bank.\n– Community Carol singing on Friday at 6:00 pm and Saturday at 3:00 pm\n– Co-sponsored by: St. Mary the Virgin Anglican Church and Vegreville United Church
URL:https://northernspiritrc.ca/event/2nd-annual-community-nativity-festival/
LOCATION:AB
CATEGORIES:Community events
ATTACH;FMTTYPE=image/jpeg:https://northernspiritrc.ca/wp-content/uploads/2023/11/stephanie-klepacki-wW8-PIZZjJg-unsplash-scaled.jpg
END:VEVENT
END:VCALENDAR