BEGIN:VCALENDAR
VERSION:2.0
PRODID:-//Northern Spirit Regional Council - ECPv6.15.20//NONSGML v1.0//EN
CALSCALE:GREGORIAN
METHOD:PUBLISH
X-ORIGINAL-URL:https://northernspiritrc.ca
X-WR-CALDESC:Events for Northern Spirit Regional Council
REFRESH-INTERVAL;VALUE=DURATION:PT1H
X-Robots-Tag:noindex
X-PUBLISHED-TTL:PT1H
BEGIN:VTIMEZONE
TZID:America/Edmonton
BEGIN:DAYLIGHT
TZOFFSETFROM:-0700
TZOFFSETTO:-0600
TZNAME:MDT
DTSTART:20220313T090000
END:DAYLIGHT
BEGIN:STANDARD
TZOFFSETFROM:-0600
TZOFFSETTO:-0700
TZNAME:MST
DTSTART:20221106T080000
END:STANDARD
BEGIN:DAYLIGHT
TZOFFSETFROM:-0700
TZOFFSETTO:-0600
TZNAME:MDT
DTSTART:20230312T090000
END:DAYLIGHT
BEGIN:STANDARD
TZOFFSETFROM:-0600
TZOFFSETTO:-0700
TZNAME:MST
DTSTART:20231105T080000
END:STANDARD
BEGIN:DAYLIGHT
TZOFFSETFROM:-0700
TZOFFSETTO:-0600
TZNAME:MDT
DTSTART:20240310T090000
END:DAYLIGHT
BEGIN:STANDARD
TZOFFSETFROM:-0600
TZOFFSETTO:-0700
TZNAME:MST
DTSTART:20241103T080000
END:STANDARD
END:VTIMEZONE
BEGIN:VEVENT
DTSTART;TZID=America/Edmonton:20231123T183000
DTEND;TZID=America/Edmonton:20231123T200000
DTSTAMP:20260420T095412
CREATED:20231103T215337Z
LAST-MODIFIED:20231103T215337Z
UID:10000244-1700764200-1700769600@northernspiritrc.ca
SUMMARY:Regional Council learning time on the Remit
DESCRIPTION:Regional Council learning time on the Remit\, November 23 at 6:30 Mountain and 7:30 Central\, on Zoom. \nPlease join Northern Spirit\, Living Skies\, and Prairie to Pine Regional Councils online for a learning time on the Remit on an autonomous Indigenous organization within the United Church. We are grateful that elders and knowledge keepers Charlene and Russel Burns will be joining Executive Minister Shannon McCarthy for the conversation.  All welcome; content will be designed for pastoral charge council or board members\, pastoral charge supervisors\, and ministry personnel. \nPlease register here; this will send you the link automatically.
URL:https://northernspiritrc.ca/event/regional-council-learning-time-on-the-remit/
LOCATION:Zoom
CATEGORIES:Regional event
ATTACH;FMTTYPE=image/png:https://northernspiritrc.ca/wp-content/uploads/2023/06/Drum-by-Debra-Carr-photography-Canva.png
END:VEVENT
END:VCALENDAR