BEGIN:VCALENDAR
VERSION:2.0
PRODID:-//Northern Spirit Regional Council - ECPv6.15.20//NONSGML v1.0//EN
CALSCALE:GREGORIAN
METHOD:PUBLISH
X-ORIGINAL-URL:https://northernspiritrc.ca
X-WR-CALDESC:Events for Northern Spirit Regional Council
REFRESH-INTERVAL;VALUE=DURATION:PT1H
X-Robots-Tag:noindex
X-PUBLISHED-TTL:PT1H
BEGIN:VTIMEZONE
TZID:America/Edmonton
BEGIN:DAYLIGHT
TZOFFSETFROM:-0700
TZOFFSETTO:-0600
TZNAME:MDT
DTSTART:20220313T090000
END:DAYLIGHT
BEGIN:STANDARD
TZOFFSETFROM:-0600
TZOFFSETTO:-0700
TZNAME:MST
DTSTART:20221106T080000
END:STANDARD
BEGIN:DAYLIGHT
TZOFFSETFROM:-0700
TZOFFSETTO:-0600
TZNAME:MDT
DTSTART:20230312T090000
END:DAYLIGHT
BEGIN:STANDARD
TZOFFSETFROM:-0600
TZOFFSETTO:-0700
TZNAME:MST
DTSTART:20231105T080000
END:STANDARD
BEGIN:DAYLIGHT
TZOFFSETFROM:-0700
TZOFFSETTO:-0600
TZNAME:MDT
DTSTART:20240310T090000
END:DAYLIGHT
BEGIN:STANDARD
TZOFFSETFROM:-0600
TZOFFSETTO:-0700
TZNAME:MST
DTSTART:20241103T080000
END:STANDARD
END:VTIMEZONE
BEGIN:VEVENT
DTSTART;TZID=America/Edmonton:20231015T140000
DTEND;TZID=America/Edmonton:20231016T150000
DTSTAMP:20260420T112300
CREATED:20230906T183008Z
LAST-MODIFIED:20230906T183008Z
UID:10000217-1697378400-1697468400@northernspiritrc.ca
SUMMARY:United Church Administrators Overnight Retreat
DESCRIPTION:The Chinook Winds Region Administrators Association is inviting Northern Spirit church administrators to join them for an overnight retreat\, October 15 – 16\, at Camp Kasota West\, Sylvan Lake. The retreat will include team building\, round table discussions\, a boundaries workshop\, and more. \nMeals and overnight accommodations are included in the registration cost of $125. \nClick here to access the registration forms\, both fillable and printable. \nClick here to view a letter requesting the support of church M&P committees and boards. \nRegistration Deadline: October 1\, 2023\nPlease send in your completed registration form or any questions to cwrcaa@gmail.com.
URL:https://northernspiritrc.ca/event/united-church-administrators-overnight-retreat/
LOCATION:Camp Kasota West\, 39161 Range Rd 21\, Sylvan Lake\, Alberta\, T4S 1X6\, Canada
CATEGORIES:Community events
ATTACH;FMTTYPE=image/png:https://northernspiritrc.ca/wp-content/uploads/2023/09/Overnight-Retreat-Save-the-Date.png
ORGANIZER;CN="Chinook Winds Region Administrators Association":MAILTO:cwrcaa@gmail.com
END:VEVENT
BEGIN:VEVENT
DTSTART;TZID=America/Edmonton:20231015T150000
DTEND;TZID=America/Edmonton:20231015T170000
DTSTAMP:20260420T112300
CREATED:20231005T191036Z
LAST-MODIFIED:20231005T191036Z
UID:10000236-1697382000-1697389200@northernspiritrc.ca
SUMMARY:Covenanting service for Rev. Timothy Thomas
DESCRIPTION:New Hope collaborative Board representing New Hope Collaborative Ministry serving\n* Coronado/Gibbons United Church; * Bon Accord United Church; * Morinville United Church. * Namao United Church\nIs pleased to announce the Covenanting Service for Reverend Timothy Thomas on October 15th at Morinville United Church at 3:00 PM. Interested parties are welcome to attend. Please inform Reg Bruce if you intend to attend the service and lunch as space is limited and we are planning a Pot Luck lunch after the service and need to know how many people to expect.. \nReg Bruce\nCell: (780) 203-7835\nemail: rbruce@xplornet.ca \nThank you
URL:https://northernspiritrc.ca/event/covenanting-service-for-rev-timothy-thomas/
LOCATION:Morinville United Church\, 9610 Morinville Dr\,\, Morinville\, Alberta\, T8R 1J1\, Canada
CATEGORIES:Community events
ATTACH;FMTTYPE=image/jpeg:https://northernspiritrc.ca/wp-content/uploads/2020/11/diego-ph-vTitvl4O2kE-unsplash-scaled.jpg
END:VEVENT
BEGIN:VEVENT
DTSTART;TZID=America/Edmonton:20231015T153000
DTEND;TZID=America/Edmonton:20231015T170000
DTSTAMP:20260420T112300
CREATED:20230926T192853Z
LAST-MODIFIED:20230926T192853Z
UID:10000225-1697383800-1697389200@northernspiritrc.ca
SUMMARY:Jazz and Reflections
DESCRIPTION:Everyone is welcome to enjoy an afternoon of music\, spiritual reflection and refreshments at no cost at Jazz and Reflections. Donations will be accepted to cover the musician’s fees and other expenses. Refreshments will be served. \nOct 1 – P.J. Perry Quartet\nOct 15 – Mo LeFever Trio\nOct 22 – Allen Jacobson Trio\nOct 29 – Shelley Jones Trio\nNov 5 – Charlie Austin Trio
URL:https://northernspiritrc.ca/event/jazz-and-reflections/2023-10-15/
LOCATION:Spirit of Hope United Church\, 7909 82 Ave NW\, Edmonton\, AB\, Canada
CATEGORIES:Community events
ATTACH;FMTTYPE=image/png:https://northernspiritrc.ca/wp-content/uploads/2023/09/Jazz-and-Reflections-fall-2023-poster.png
ORGANIZER;CN="Spirit of Hope United Church":MAILTO:officeadmin@spiritofhope.ca
END:VEVENT
END:VCALENDAR