BEGIN:VCALENDAR
VERSION:2.0
PRODID:-//Northern Spirit Regional Council - ECPv6.15.20//NONSGML v1.0//EN
CALSCALE:GREGORIAN
METHOD:PUBLISH
X-ORIGINAL-URL:https://northernspiritrc.ca
X-WR-CALDESC:Events for Northern Spirit Regional Council
REFRESH-INTERVAL;VALUE=DURATION:PT1H
X-Robots-Tag:noindex
X-PUBLISHED-TTL:PT1H
BEGIN:VTIMEZONE
TZID:America/Edmonton
BEGIN:DAYLIGHT
TZOFFSETFROM:-0700
TZOFFSETTO:-0600
TZNAME:MDT
DTSTART:20220313T090000
END:DAYLIGHT
BEGIN:STANDARD
TZOFFSETFROM:-0600
TZOFFSETTO:-0700
TZNAME:MST
DTSTART:20221106T080000
END:STANDARD
BEGIN:DAYLIGHT
TZOFFSETFROM:-0700
TZOFFSETTO:-0600
TZNAME:MDT
DTSTART:20230312T090000
END:DAYLIGHT
BEGIN:STANDARD
TZOFFSETFROM:-0600
TZOFFSETTO:-0700
TZNAME:MST
DTSTART:20231105T080000
END:STANDARD
BEGIN:DAYLIGHT
TZOFFSETFROM:-0700
TZOFFSETTO:-0600
TZNAME:MDT
DTSTART:20240310T090000
END:DAYLIGHT
BEGIN:STANDARD
TZOFFSETFROM:-0600
TZOFFSETTO:-0700
TZNAME:MST
DTSTART:20241103T080000
END:STANDARD
END:VTIMEZONE
BEGIN:VEVENT
DTSTART;TZID=America/Edmonton:20231014T100000
DTEND;TZID=America/Edmonton:20231014T140000
DTSTAMP:20260420T112240
CREATED:20230919T172710Z
LAST-MODIFIED:20230919T172710Z
UID:10000220-1697277600-1697292000@northernspiritrc.ca
SUMMARY:Crafters\, Makers\, Jewelry Sale and Luncheon
DESCRIPTION:We are renting tables to the community so can’t say all that will be there\, but we have already….books from Wood Lake Publishing; Jewelry; crafting items; fabrics and more; Antler crafts and jewelry; an Artist that does canvases\, rocks\, and other items; Crocheted items and more to come. Table rental fees ( $20/table – to got to Babies Best Start program at the Friendship Centre).\nThe UCW ladies will serve a light lunch of sandwiches and squares – cost is by donation.
URL:https://northernspiritrc.ca/event/crafters-makers-jewelry-sale-and-luncheon/
LOCATION:St Paul’s United Church Grande Prairie\, 10206 100 Avenue\, Grande Prairie\, Alberta\, T8V 0V6\, Canada
CATEGORIES:Community events
ATTACH;FMTTYPE=image/png:https://northernspiritrc.ca/wp-content/uploads/2023/09/Fall-Makers-Sale-and-Lunch-poster.png
ORGANIZER;CN="St Paul's United Church%2C Grande Prairie":MAILTO:secretary@stpaulsuc.ca
END:VEVENT
END:VCALENDAR