BEGIN:VCALENDAR
VERSION:2.0
PRODID:-//Northern Spirit Regional Council - ECPv6.15.20//NONSGML v1.0//EN
CALSCALE:GREGORIAN
METHOD:PUBLISH
X-ORIGINAL-URL:https://northernspiritrc.ca
X-WR-CALDESC:Events for Northern Spirit Regional Council
REFRESH-INTERVAL;VALUE=DURATION:PT1H
X-Robots-Tag:noindex
X-PUBLISHED-TTL:PT1H
BEGIN:VTIMEZONE
TZID:America/Edmonton
BEGIN:DAYLIGHT
TZOFFSETFROM:-0700
TZOFFSETTO:-0600
TZNAME:MDT
DTSTART:20220313T090000
END:DAYLIGHT
BEGIN:STANDARD
TZOFFSETFROM:-0600
TZOFFSETTO:-0700
TZNAME:MST
DTSTART:20221106T080000
END:STANDARD
BEGIN:DAYLIGHT
TZOFFSETFROM:-0700
TZOFFSETTO:-0600
TZNAME:MDT
DTSTART:20230312T090000
END:DAYLIGHT
BEGIN:STANDARD
TZOFFSETFROM:-0600
TZOFFSETTO:-0700
TZNAME:MST
DTSTART:20231105T080000
END:STANDARD
BEGIN:DAYLIGHT
TZOFFSETFROM:-0700
TZOFFSETTO:-0600
TZNAME:MDT
DTSTART:20240310T090000
END:DAYLIGHT
BEGIN:STANDARD
TZOFFSETFROM:-0600
TZOFFSETTO:-0700
TZNAME:MST
DTSTART:20241103T080000
END:STANDARD
END:VTIMEZONE
BEGIN:VEVENT
DTSTART;VALUE=DATE:20230825
DTEND;VALUE=DATE:20230828
DTSTAMP:20260420T141944
CREATED:20230628T200019Z
LAST-MODIFIED:20230628T200019Z
UID:10000195-1692921600-1693180799@northernspiritrc.ca
SUMMARY:Camp Dragonfly
DESCRIPTION:Camp Dragonfly is a summer camp based in Edmonton\, Alberta with a goal to create a safe and welcoming space for trans* and gender-creative youth where they can be their authentic selves\, meet trans* role models\, and have fun. We are a summer camp for trans* and gender-creative youth age 6-13. \nOver the past 6 years\, Camp Dragonfly has provided this opportunity to over 160 families from Alberta and beyond. This year\, our team wants to increase the number of families and youth that we reach\, and invite them to take part in the impactful experience that is being known and loved exactly as they are. \nOur campers have given us feedback that while at camp\, the stressors and pressures of their day-to-day life seem to fade away. Through the connections\, confidence\, and skills they build at Camp Dragonfly\, they are able to maintain that resiliency throughout the year. \nClick here for more information about this year’s camp! \nClick here to register a camper! \nClick here to volunteer with Camp Dragonfly!
URL:https://northernspiritrc.ca/event/camp-dragonfly/
LOCATION:Southminster-Steinhauer United Church\, 10740-19 Ave NW\, Edmonton\, AB\, T6J 6W9
CATEGORIES:Community events,LGBTQIA2S+,Youth and young adult
ATTACH;FMTTYPE=image/png:https://northernspiritrc.ca/wp-content/uploads/2023/06/CampDragonfly.png
ORGANIZER;CN="Camp Dragonfly":MAILTO:info@camp-dragonfly.com
END:VEVENT
END:VCALENDAR