BEGIN:VCALENDAR
VERSION:2.0
PRODID:-//Northern Spirit Regional Council - ECPv6.15.20//NONSGML v1.0//EN
CALSCALE:GREGORIAN
METHOD:PUBLISH
X-WR-CALNAME:Northern Spirit Regional Council
X-ORIGINAL-URL:https://northernspiritrc.ca
X-WR-CALDESC:Events for Northern Spirit Regional Council
REFRESH-INTERVAL;VALUE=DURATION:PT1H
X-Robots-Tag:noindex
X-PUBLISHED-TTL:PT1H
BEGIN:VTIMEZONE
TZID:America/Edmonton
BEGIN:DAYLIGHT
TZOFFSETFROM:-0700
TZOFFSETTO:-0600
TZNAME:MDT
DTSTART:20220313T090000
END:DAYLIGHT
BEGIN:STANDARD
TZOFFSETFROM:-0600
TZOFFSETTO:-0700
TZNAME:MST
DTSTART:20221106T080000
END:STANDARD
BEGIN:DAYLIGHT
TZOFFSETFROM:-0700
TZOFFSETTO:-0600
TZNAME:MDT
DTSTART:20230312T090000
END:DAYLIGHT
BEGIN:STANDARD
TZOFFSETFROM:-0600
TZOFFSETTO:-0700
TZNAME:MST
DTSTART:20231105T080000
END:STANDARD
BEGIN:DAYLIGHT
TZOFFSETFROM:-0700
TZOFFSETTO:-0600
TZNAME:MDT
DTSTART:20240310T090000
END:DAYLIGHT
BEGIN:STANDARD
TZOFFSETFROM:-0600
TZOFFSETTO:-0700
TZNAME:MST
DTSTART:20241103T080000
END:STANDARD
END:VTIMEZONE
BEGIN:VEVENT
DTSTART;TZID=America/Edmonton:20230710T090000
DTEND;TZID=America/Edmonton:20230714T120000
DTSTAMP:20260420T154107
CREATED:20230420T165324Z
LAST-MODIFIED:20230628T195349Z
UID:10000170-1688979600-1689336000@northernspiritrc.ca
SUMMARY:Vacation Bible School @ Sherwood Park United Church\, July 10 - 14\, 2023
DESCRIPTION:Sherwood Park United Church will be hosting a free Vacation Bible School (ages 3-12) from July 10-14\, 2023. The hours are from 9:00 – Noon. \nThe theme is Rocky Railway – Jesus’ Power Pulls Us Through. Come and join us as we learn about Jesus through Loco Motion games\, Bible Adventures\, Chew Chew snacks\, Imagination Station\, Kid Vid videos\, and Sing & Play Express/Rocky Wrap-Up. \nFor registration or more information\, please email Cindy at cindy_camp@hotmail.com or go to: https://vbspro.events/p/sherwood-park-united-church.
URL:https://northernspiritrc.ca/event/vacation-bible-school-sherwood-park-united-church-july-10-14-2023/
LOCATION:Sherwood Park United Church\, 20 Fir St\, Sherwood Park\, Alberta\, T8A 1Z6\, Canada
CATEGORIES:Community events
ATTACH;FMTTYPE=image/png:https://northernspiritrc.ca/wp-content/uploads/2023/04/rocky-railway-vbs-logo-HiRes-RGB.png
END:VEVENT
END:VCALENDAR