BEGIN:VCALENDAR
VERSION:2.0
PRODID:-//Northern Spirit Regional Council - ECPv6.15.20//NONSGML v1.0//EN
CALSCALE:GREGORIAN
METHOD:PUBLISH
X-WR-CALNAME:Northern Spirit Regional Council
X-ORIGINAL-URL:https://northernspiritrc.ca
X-WR-CALDESC:Events for Northern Spirit Regional Council
REFRESH-INTERVAL;VALUE=DURATION:PT1H
X-Robots-Tag:noindex
X-PUBLISHED-TTL:PT1H
BEGIN:VTIMEZONE
TZID:America/Edmonton
BEGIN:DAYLIGHT
TZOFFSETFROM:-0700
TZOFFSETTO:-0600
TZNAME:MDT
DTSTART:20220313T090000
END:DAYLIGHT
BEGIN:STANDARD
TZOFFSETFROM:-0600
TZOFFSETTO:-0700
TZNAME:MST
DTSTART:20221106T080000
END:STANDARD
BEGIN:DAYLIGHT
TZOFFSETFROM:-0700
TZOFFSETTO:-0600
TZNAME:MDT
DTSTART:20230312T090000
END:DAYLIGHT
BEGIN:STANDARD
TZOFFSETFROM:-0600
TZOFFSETTO:-0700
TZNAME:MST
DTSTART:20231105T080000
END:STANDARD
BEGIN:DAYLIGHT
TZOFFSETFROM:-0700
TZOFFSETTO:-0600
TZNAME:MDT
DTSTART:20240310T090000
END:DAYLIGHT
BEGIN:STANDARD
TZOFFSETFROM:-0600
TZOFFSETTO:-0700
TZNAME:MST
DTSTART:20241103T080000
END:STANDARD
END:VTIMEZONE
BEGIN:VEVENT
DTSTART;TZID=America/Edmonton:20230607T130000
DTEND;TZID=America/Edmonton:20230609T160000
DTSTAMP:20260420T172213
CREATED:20230221T214605Z
LAST-MODIFIED:20230221T214605Z
UID:10000145-1686142800-1686326400@northernspiritrc.ca
SUMMARY:reVITALize
DESCRIPTION:Sponsored by the United Church Foundation\, Pine Hill Divinity Hall\, the Centre for Practical Theology\, Atlantic School of Theology\, and St. Andrew’s United Church\, Halifax\, reVITALize is a gathering for ministry leaders and lay people to REFRESH\, LEARN\, and BE SUPPORTED. Speakers talk about what is revitalizing them at the moment\, and time is given for people to gather with friends and colleagues and meet new folks. All denominations and traditions welcome! \nSpeakers include: MiYeon Kim\, Graham Singh\, Tamsin Robson\, John Pentland\, and more!\nDates: Wednesday\, June 7\, 2023 at 1:00 pm – Friday\, June 9\, 2023 at 4:00 pm\nLocations: St. Andrew’s United Church\, Atlantic School of Theology\, and other locations in Halifax\, Nova Scotia \nRegistration Fee:\nEarly Bird: Register on or before March 1st: $205 plus Eventbrite fee\nRegular: Register after March 2nd: $225 plus Eventbrite fee \nWednesday evening concert: Your registration includes a ticket to a concert by Sarah McInnis\, from the Annapolis Valley! \nLearn more and register at www.revitalizeconference.ca
URL:https://northernspiritrc.ca/event/revitalize/
LOCATION:St. Andrew’s United Church\, Halifax\, 6036 Coburg Road\, Halifax\, Nova Scotia\, B3H 1Y9\, Canada
CATEGORIES:Intercultural
ATTACH;FMTTYPE=image/png:https://northernspiritrc.ca/wp-content/uploads/2023/02/reVITALize-update.png
ORGANIZER;CN="Atlantic School of Theology":MAILTO:virginia.wilmhoff@astheology.ns.ca
END:VEVENT
END:VCALENDAR