BEGIN:VCALENDAR
VERSION:2.0
PRODID:-//Northern Spirit Regional Council - ECPv6.15.20//NONSGML v1.0//EN
CALSCALE:GREGORIAN
METHOD:PUBLISH
X-ORIGINAL-URL:https://northernspiritrc.ca
X-WR-CALDESC:Events for Northern Spirit Regional Council
REFRESH-INTERVAL;VALUE=DURATION:PT1H
X-Robots-Tag:noindex
X-PUBLISHED-TTL:PT1H
BEGIN:VTIMEZONE
TZID:America/Edmonton
BEGIN:DAYLIGHT
TZOFFSETFROM:-0700
TZOFFSETTO:-0600
TZNAME:MDT
DTSTART:20220313T090000
END:DAYLIGHT
BEGIN:STANDARD
TZOFFSETFROM:-0600
TZOFFSETTO:-0700
TZNAME:MST
DTSTART:20221106T080000
END:STANDARD
BEGIN:DAYLIGHT
TZOFFSETFROM:-0700
TZOFFSETTO:-0600
TZNAME:MDT
DTSTART:20230312T090000
END:DAYLIGHT
BEGIN:STANDARD
TZOFFSETFROM:-0600
TZOFFSETTO:-0700
TZNAME:MST
DTSTART:20231105T080000
END:STANDARD
BEGIN:DAYLIGHT
TZOFFSETFROM:-0700
TZOFFSETTO:-0600
TZNAME:MDT
DTSTART:20240310T090000
END:DAYLIGHT
BEGIN:STANDARD
TZOFFSETFROM:-0600
TZOFFSETTO:-0700
TZNAME:MST
DTSTART:20241103T080000
END:STANDARD
END:VTIMEZONE
BEGIN:VEVENT
DTSTART;TZID=America/Edmonton:20230603T173000
DTEND;TZID=America/Edmonton:20230603T210000
DTSTAMP:20260420T170548
CREATED:20230502T202400Z
LAST-MODIFIED:20230502T202400Z
UID:10000187-1685813400-1685826000@northernspiritrc.ca
SUMMARY:Support S.E.E.D.S AT OUR DINNER AND SILENT AUCTION
DESCRIPTION:Upcoming fundraiser dinner for SEEDS on June 3. Founded in 1997 by Spirit of Hope United Church members Meheret Worku and her husband Scott Smillie\, Sustainable East Africa Education and Development Society (SEEDS) has partnered with schools in rural Ethiopia to support hundreds of children who would otherwise be unable to attend school. It costs SEEDS $204 CDN to send one child to school for a year; just $17 a month. Any contribution helps reach the goal of bringing education to as many Ethiopian children as possible. Currently 260 students are able to attend school because of SEEDS. \nWith the underlying belief that education is the key to bringing families out of poverty and to developing communities\, SEEDS has also been involved in activities directly related to strengthening these children’s families and communities through economic\, community and capacity development activities. \nSpirit of Hope United Church is involved in and supports SEEDS by providing opportunities for SEEDS to use our facilities for meetings\, education and special events (including our annual Christmas lunch) and for members to be involved as volunteers and supporters. See https://www.seedseastafrica.com for more information or to make a donation.
URL:https://northernspiritrc.ca/event/support-s-e-e-d-s-at-our-dinner-and-silent-auction/
LOCATION:AB
CATEGORIES:Community events
ATTACH;FMTTYPE=image/jpeg:https://northernspiritrc.ca/wp-content/uploads/2023/05/Screenshot-2023-05-02-135815.jpg
END:VEVENT
BEGIN:VEVENT
DTSTART;TZID=America/Edmonton:20230603T193000
DTEND;TZID=America/Edmonton:20230603T220000
DTSTAMP:20260420T170548
CREATED:20230502T201947Z
LAST-MODIFIED:20230502T201947Z
UID:10000182-1685820600-1685829600@northernspiritrc.ca
SUMMARY:The 9th Street Players Present "Nan's Enchanted Neighbouthood"
DESCRIPTION:Directed by Marie Fontaine\, this drama group based out of Spirit of Hope United Church are offering this fun play from June 2 – 4\, 2023 \nTickets: Adults $15; Seniors $10; Children $5\nContact Spirit of Hope United Church: 780-468-1418
URL:https://northernspiritrc.ca/event/the-9th-street-players-present-nans-enchanted-neighbouthood/2023-06-03/
LOCATION:Spirit of Hope United Church\, 7909 82 Ave NW\, Edmonton\, AB\, Canada
CATEGORIES:Community events
ATTACH;FMTTYPE=image/jpeg:https://northernspiritrc.ca/wp-content/uploads/2023/04/9SP2023.jpg
ORGANIZER;CN="Spirit of Hope United Church":MAILTO:officeadmin@spiritofhope.ca
END:VEVENT
END:VCALENDAR