BEGIN:VCALENDAR
VERSION:2.0
PRODID:-//Northern Spirit Regional Council - ECPv6.15.20//NONSGML v1.0//EN
CALSCALE:GREGORIAN
METHOD:PUBLISH
X-WR-CALNAME:Northern Spirit Regional Council
X-ORIGINAL-URL:https://northernspiritrc.ca
X-WR-CALDESC:Events for Northern Spirit Regional Council
REFRESH-INTERVAL;VALUE=DURATION:PT1H
X-Robots-Tag:noindex
X-PUBLISHED-TTL:PT1H
BEGIN:VTIMEZONE
TZID:America/Edmonton
BEGIN:DAYLIGHT
TZOFFSETFROM:-0700
TZOFFSETTO:-0600
TZNAME:MDT
DTSTART:20220313T090000
END:DAYLIGHT
BEGIN:STANDARD
TZOFFSETFROM:-0600
TZOFFSETTO:-0700
TZNAME:MST
DTSTART:20221106T080000
END:STANDARD
BEGIN:DAYLIGHT
TZOFFSETFROM:-0700
TZOFFSETTO:-0600
TZNAME:MDT
DTSTART:20230312T090000
END:DAYLIGHT
BEGIN:STANDARD
TZOFFSETFROM:-0600
TZOFFSETTO:-0700
TZNAME:MST
DTSTART:20231105T080000
END:STANDARD
BEGIN:DAYLIGHT
TZOFFSETFROM:-0700
TZOFFSETTO:-0600
TZNAME:MDT
DTSTART:20240310T090000
END:DAYLIGHT
BEGIN:STANDARD
TZOFFSETFROM:-0600
TZOFFSETTO:-0700
TZNAME:MST
DTSTART:20241103T080000
END:STANDARD
END:VTIMEZONE
BEGIN:VEVENT
DTSTART;TZID=America/Edmonton:20230602T193000
DTEND;TZID=America/Edmonton:20230602T213000
DTSTAMP:20260420T170458
CREATED:20230502T201947Z
LAST-MODIFIED:20230502T201947Z
UID:10000181-1685734200-1685741400@northernspiritrc.ca
SUMMARY:The 9th Street Players Present "Nan's Enchanted Neighbouthood"
DESCRIPTION:Directed by Marie Fontaine\, this drama group based out of Spirit of Hope United Church are offering this fun play from June 2 – 4\, 2023 \nTickets: Adults $15; Seniors $10; Children $5\nContact Spirit of Hope United Church: 780-468-1418
URL:https://northernspiritrc.ca/event/the-9th-street-players-present-nans-enchanted-neighbouthood/2023-06-02/
LOCATION:Spirit of Hope United Church\, 7909 82 Ave NW\, Edmonton\, AB\, Canada
CATEGORIES:Community events
ATTACH;FMTTYPE=image/jpeg:https://northernspiritrc.ca/wp-content/uploads/2023/04/9SP2023.jpg
ORGANIZER;CN="Spirit of Hope United Church":MAILTO:officeadmin@spiritofhope.ca
END:VEVENT
END:VCALENDAR